BEGIN:VCALENDAR
VERSION:2.0
PRODID:-//Narcotics Anonymous - NA in Johnson City, Kingsport and Bristol - ECPv6.15.20//NONSGML v1.0//EN
CALSCALE:GREGORIAN
METHOD:PUBLISH
X-WR-CALNAME:Narcotics Anonymous - NA in Johnson City, Kingsport and Bristol
X-ORIGINAL-URL:https://mountain-na.org
X-WR-CALDESC:Events for Narcotics Anonymous - NA in Johnson City, Kingsport and Bristol
REFRESH-INTERVAL;VALUE=DURATION:PT1H
X-Robots-Tag:noindex
X-PUBLISHED-TTL:PT1H
BEGIN:VTIMEZONE
TZID:America/New_York
BEGIN:DAYLIGHT
TZOFFSETFROM:-0500
TZOFFSETTO:-0400
TZNAME:EDT
DTSTART:20220313T070000
END:DAYLIGHT
BEGIN:STANDARD
TZOFFSETFROM:-0400
TZOFFSETTO:-0500
TZNAME:EST
DTSTART:20221106T060000
END:STANDARD
BEGIN:DAYLIGHT
TZOFFSETFROM:-0500
TZOFFSETTO:-0400
TZNAME:EDT
DTSTART:20230312T070000
END:DAYLIGHT
BEGIN:STANDARD
TZOFFSETFROM:-0400
TZOFFSETTO:-0500
TZNAME:EST
DTSTART:20231105T060000
END:STANDARD
BEGIN:DAYLIGHT
TZOFFSETFROM:-0500
TZOFFSETTO:-0400
TZNAME:EDT
DTSTART:20240310T070000
END:DAYLIGHT
BEGIN:STANDARD
TZOFFSETFROM:-0400
TZOFFSETTO:-0500
TZNAME:EST
DTSTART:20241103T060000
END:STANDARD
END:VTIMEZONE
BEGIN:VEVENT
DTSTART;TZID=America/New_York:20230905T120000
DTEND;TZID=America/New_York:20231003T130000
DTSTAMP:20260425T084735
CREATED:20230908T211140Z
LAST-MODIFIED:20230908T211435Z
UID:1372-1693915200-1696338000@mountain-na.org
SUMMARY:New Meeting! Noon Literature Study Group in Greeneville
DESCRIPTION:On Tuesday September 5th a new group started in Greenville. The Literature Study Group will meet each Tuesday at noon at Asbury Methodist Church\, 201 S. Main St. in Greeneville.
URL:https://mountain-na.org/event/new-meeting-noon-literature-study-group-in-greeneville/
LOCATION:Literature Study Group\, 201 S Main St\, Greeneville\, TN\, 37743
END:VEVENT
BEGIN:VEVENT
DTSTART;TZID=America/New_York:20230913T080000
DTEND;TZID=America/New_York:20231013T090000
DTSTAMP:20260425T084735
CREATED:20230913T022528Z
LAST-MODIFIED:20230913T022958Z
UID:1378-1694592000-1697187600@mountain-na.org
SUMMARY:New Morning Meditation Meetings!
DESCRIPTION:Rise & Shine! We now have morning meditation meetings at 8:00 am every Wednesday and Friday.
URL:https://mountain-na.org/event/new-morning-meditation-meetings/
LOCATION:Johnson City Recovery Center\, 513 E. Unaka Avenue\, Johnson City\, TN\, 37601\, United States
END:VEVENT
END:VCALENDAR