BEGIN:VCALENDAR
VERSION:2.0
PRODID:-//Narcotics Anonymous - NA in Johnson City, Kingsport and Bristol - ECPv6.15.20//NONSGML v1.0//EN
CALSCALE:GREGORIAN
METHOD:PUBLISH
X-ORIGINAL-URL:https://mountain-na.org
X-WR-CALDESC:Events for Narcotics Anonymous - NA in Johnson City, Kingsport and Bristol
REFRESH-INTERVAL;VALUE=DURATION:PT1H
X-Robots-Tag:noindex
X-PUBLISHED-TTL:PT1H
BEGIN:VTIMEZONE
TZID:America/New_York
BEGIN:DAYLIGHT
TZOFFSETFROM:-0500
TZOFFSETTO:-0400
TZNAME:EDT
DTSTART:20240310T070000
END:DAYLIGHT
BEGIN:STANDARD
TZOFFSETFROM:-0400
TZOFFSETTO:-0500
TZNAME:EST
DTSTART:20241103T060000
END:STANDARD
BEGIN:DAYLIGHT
TZOFFSETFROM:-0500
TZOFFSETTO:-0400
TZNAME:EDT
DTSTART:20250309T070000
END:DAYLIGHT
BEGIN:STANDARD
TZOFFSETFROM:-0400
TZOFFSETTO:-0500
TZNAME:EST
DTSTART:20251102T060000
END:STANDARD
BEGIN:DAYLIGHT
TZOFFSETFROM:-0500
TZOFFSETTO:-0400
TZNAME:EDT
DTSTART:20260308T070000
END:DAYLIGHT
BEGIN:STANDARD
TZOFFSETFROM:-0400
TZOFFSETTO:-0500
TZNAME:EST
DTSTART:20261101T060000
END:STANDARD
END:VTIMEZONE
BEGIN:VEVENT
DTSTART;VALUE=DATE:20250901
DTEND;VALUE=DATE:20251202
DTSTAMP:20260423T232718
CREATED:20240703T013954Z
LAST-MODIFIED:20250903T202449Z
UID:1559-1756684800-1764633599@mountain-na.org
SUMMARY:Volunteer Spirit NA Region Newsletter
DESCRIPTION:Download and read the Fall 2025 Region Newsletter! This issue focuses on “Steps 7\, 8\, & 9”. \nThanks to all who contributed to this issue! All members are encouraged to make submissions. \n—The Newsletter Committee
URL:https://mountain-na.org/event/volunteer-spirit-na-region-newsletter/
ATTACH;FMTTYPE=image/jpeg:https://mountain-na.org/wp-content/uploads/2024/07/2024-VS-flyer-w-QR-code.jpg
END:VEVENT
BEGIN:VEVENT
DTSTART;TZID=America/New_York:20250907T090000
DTEND;TZID=America/New_York:20250907T120000
DTSTAMP:20260423T232718
CREATED:20250825T001820Z
LAST-MODIFIED:20250825T003616Z
UID:2053-1757235600-1757246400@mountain-na.org
SUMMARY:Rise & Shine Group 2nd Annual Celebration!
DESCRIPTION:Join us for a morning complete with breakfast\, a speaker meeting\, and fellowship as the Rise and Shine group celebrates its 2nd year!
URL:https://mountain-na.org/event/rise-shine-group-2nd-annual-celebration/
LOCATION:Johnson City Recovery Center\, 513 E. Unaka Avenue\, Johnson City\, TN\, 37601\, United States
END:VEVENT
BEGIN:VEVENT
DTSTART;TZID=America/New_York:20250907T190000
DTEND;TZID=America/New_York:20250907T200000
DTSTAMP:20260423T232718
CREATED:20250904T191636Z
LAST-MODIFIED:20250904T191636Z
UID:2087-1757271600-1757275200@mountain-na.org
SUMMARY:Bill C. Celebrates 13 Years Clean!
DESCRIPTION:Come help us celebrate Bill C. and his 13 years clean!
URL:https://mountain-na.org/event/bill-c-celebrates-13-years-clean/
LOCATION:End of the Road Group Facility\, 603 Sunset Drive\, Johnson City\, TN\, 37604\, United States
ATTACH;FMTTYPE=image/jpeg:https://mountain-na.org/wp-content/uploads/2025/02/IMG_0127.jpeg
END:VEVENT
END:VCALENDAR