BEGIN:VCALENDAR
VERSION:2.0
PRODID:-//Narcotics Anonymous - NA in Johnson City, Kingsport and Bristol - ECPv6.15.20//NONSGML v1.0//EN
CALSCALE:GREGORIAN
METHOD:PUBLISH
X-ORIGINAL-URL:https://mountain-na.org
X-WR-CALDESC:Events for Narcotics Anonymous - NA in Johnson City, Kingsport and Bristol
REFRESH-INTERVAL;VALUE=DURATION:PT1H
X-Robots-Tag:noindex
X-PUBLISHED-TTL:PT1H
BEGIN:VTIMEZONE
TZID:America/New_York
BEGIN:DAYLIGHT
TZOFFSETFROM:-0500
TZOFFSETTO:-0400
TZNAME:EDT
DTSTART:20250309T070000
END:DAYLIGHT
BEGIN:STANDARD
TZOFFSETFROM:-0400
TZOFFSETTO:-0500
TZNAME:EST
DTSTART:20251102T060000
END:STANDARD
BEGIN:DAYLIGHT
TZOFFSETFROM:-0500
TZOFFSETTO:-0400
TZNAME:EDT
DTSTART:20260308T070000
END:DAYLIGHT
BEGIN:STANDARD
TZOFFSETFROM:-0400
TZOFFSETTO:-0500
TZNAME:EST
DTSTART:20261101T060000
END:STANDARD
BEGIN:DAYLIGHT
TZOFFSETFROM:-0500
TZOFFSETTO:-0400
TZNAME:EDT
DTSTART:20270314T070000
END:DAYLIGHT
BEGIN:STANDARD
TZOFFSETFROM:-0400
TZOFFSETTO:-0500
TZNAME:EST
DTSTART:20271107T060000
END:STANDARD
END:VTIMEZONE
BEGIN:VEVENT
DTSTART;VALUE=DATE:20260119
DTEND;VALUE=DATE:20260201
DTSTAMP:20260423T175147
CREATED:20260119T220633Z
LAST-MODIFIED:20260119T220740Z
UID:2295-1768780800-1769903999@mountain-na.org
SUMMARY:Volunteer Regional Convention Survey
DESCRIPTION:You asked\, and they listened! Now it’s time for you to respond. Be sure and complete the VRC survey by January 31st by clicking on this link.
URL:https://mountain-na.org/event/volunteer-regional-convention-survey/
ATTACH;FMTTYPE=image/png:https://mountain-na.org/wp-content/uploads/2026/01/BueUHbVsHMfITJF5uvT2tLL6VpYHLVkFtvfYHfA43kE6rNPuyCVFceX5fyCCiuiXUrmEaUzlKnTI664w1200-h630-p.png
END:VEVENT
BEGIN:VEVENT
DTSTART;TZID=America/New_York:20260131T183000
DTEND;TZID=America/New_York:20260131T210000
DTSTAMP:20260423T175147
CREATED:20260131T202658Z
LAST-MODIFIED:20260131T203353Z
UID:2315-1769884200-1769893200@mountain-na.org
SUMMARY:Special Blizzard Virtual Meeting
DESCRIPTION:Snowed in tonight? Don’t worry\, the New Way of Life group is hosting a meeting/gathering tonight from 6:30 – 9:00ish and all NA members are welcome to attend. \nMountain Area of NA is inviting you to a scheduled Zoom meeting. \nTopic: New Way of Life Blizzard Meeting – Tonight Only!\nTime: Jan 31\, 2026 06:30 PM Eastern Time (US and Canada)\nJoin Zoom Meeting\nhttps://zoom.us/j/99748576503?pwd=Adsdhc2lP7yeZu6yvfjvdeXSbW6Pt2.1 \nMeeting ID: 997 4857 6503\nPasscode: clean \n— \nOne tap mobile\n+13126266799\,\,99748576503#\,\,\,\,*969604# US (Chicago)\n+16469313860\,\,99748576503#\,\,\,\,*969604# US \nJoin instructions\nhttps://zoom.us/meetings/99748576503/invitations?signature=j4km6waGPmqu72iZgCy_kUyihrh8kaEVzvakqe_2sUc \n 
URL:https://mountain-na.org/event/special-blizzard-virtual-meeting/
LOCATION:Virtual / Zoom Meeting
ATTACH;FMTTYPE=image/jpeg:https://mountain-na.org/wp-content/uploads/2025/11/Podium.jpeg
END:VEVENT
END:VCALENDAR