BEGIN:VCALENDAR
VERSION:2.0
PRODID:-//Narcotics Anonymous - NA in Johnson City, Kingsport and Bristol - ECPv6.15.20//NONSGML v1.0//EN
CALSCALE:GREGORIAN
METHOD:PUBLISH
X-ORIGINAL-URL:https://mountain-na.org
X-WR-CALDESC:Events for Narcotics Anonymous - NA in Johnson City, Kingsport and Bristol
REFRESH-INTERVAL;VALUE=DURATION:PT1H
X-Robots-Tag:noindex
X-PUBLISHED-TTL:PT1H
BEGIN:VTIMEZONE
TZID:America/New_York
BEGIN:DAYLIGHT
TZOFFSETFROM:-0500
TZOFFSETTO:-0400
TZNAME:EDT
DTSTART:20250309T070000
END:DAYLIGHT
BEGIN:STANDARD
TZOFFSETFROM:-0400
TZOFFSETTO:-0500
TZNAME:EST
DTSTART:20251102T060000
END:STANDARD
BEGIN:DAYLIGHT
TZOFFSETFROM:-0500
TZOFFSETTO:-0400
TZNAME:EDT
DTSTART:20260308T070000
END:DAYLIGHT
BEGIN:STANDARD
TZOFFSETFROM:-0400
TZOFFSETTO:-0500
TZNAME:EST
DTSTART:20261101T060000
END:STANDARD
BEGIN:DAYLIGHT
TZOFFSETFROM:-0500
TZOFFSETTO:-0400
TZNAME:EDT
DTSTART:20270314T070000
END:DAYLIGHT
BEGIN:STANDARD
TZOFFSETFROM:-0400
TZOFFSETTO:-0500
TZNAME:EST
DTSTART:20271107T060000
END:STANDARD
END:VTIMEZONE
BEGIN:VEVENT
DTSTART;TZID=America/New_York:20260209T080000
DTEND;TZID=America/New_York:20260327T233000
DTSTAMP:20260423T161109
CREATED:20260209T161648Z
LAST-MODIFIED:20260219T212454Z
UID:2344-1770624000-1774654200@mountain-na.org
SUMMARY:NA World Service Conference: 2026 CAR & CAT
DESCRIPTION:The purpose of the conference is to define and take action according to the group conscience of Narcotics Anonymous and fulfill the WSC Mission Statement: to honor the spiritual principles of NA’s Twelve Steps\, Traditions\, and Concepts for Service; and to use resources efficiently to sustain its functions. \n2026 Conference Agenda Report (CAR) \n2026 Conference Agenda Track (CAT) \n2026–2029 proposed project plans This cycle we are proposing ten projects: • Fellowship Awareness and Engagement with PR Service • Raising Public Awareness of NA • New Recovery Informational Pamphlets • Revising Existing Recovery Informational Pamphlets • Issue Discussion Topics (IDTs) • New and Revised Service Tools • Safety and Belonging/Gender-Neutral Language • DRT/MAT—Helping Members Take Root • Generational and Cultural Diversity • Three-Year Conference Cycle \nThe group voting deadline to the region is 3/27/26. The tally sheet voting link will be posted when it’s open.
URL:https://mountain-na.org/event/na-world-service-conference-2026-car-cat/
ATTACH;FMTTYPE=image/jpeg:https://mountain-na.org/wp-content/uploads/2023/02/I-Serve-Pin.jpeg
END:VEVENT
BEGIN:VEVENT
DTSTART;TZID=America/New_York:20260209T080000
DTEND;TZID=America/New_York:20260401T233000
DTSTAMP:20260423T161109
CREATED:20260209T153134Z
LAST-MODIFIED:20260307T220738Z
UID:2342-1770624000-1775086200@mountain-na.org
SUMMARY:NA World Services Surveys: Seeking Input from All Members
DESCRIPTION:Got opinions on issues such as gender-neutral language? MAT/MRT and NA membership? Future literature topics and many other items? Then\, you need to make your voice heard and complete the survey today! \nNAWS surveys are opportunities for members to share their views and help shape the projects planned for future conference cycles. \nVoting and input deadline: April 1\, 2026 \nCurrent Surveys: Conference Agenda; Gender-Neutral and Inclusive Language; DRT/MAT in NA – Helping Members Take Root; H&I Basics \nParticipation is essential to unity\, and it’s also how we start to feel like we belong. \n-Guiding Principles\, p. 6
URL:https://mountain-na.org/event/na-world-services-surveys-seeking-input-from-all-members/
ATTACH;FMTTYPE=image/jpeg:https://mountain-na.org/wp-content/uploads/2023/02/I-Serve-Pin.jpeg
END:VEVENT
END:VCALENDAR