BEGIN:VCALENDAR
VERSION:2.0
PRODID:-//Narcotics Anonymous - NA in Johnson City, Kingsport and Bristol - ECPv6.15.20//NONSGML v1.0//EN
CALSCALE:GREGORIAN
METHOD:PUBLISH
X-WR-CALNAME:Narcotics Anonymous - NA in Johnson City, Kingsport and Bristol
X-ORIGINAL-URL:https://mountain-na.org
X-WR-CALDESC:Events for Narcotics Anonymous - NA in Johnson City, Kingsport and Bristol
REFRESH-INTERVAL;VALUE=DURATION:PT1H
X-Robots-Tag:noindex
X-PUBLISHED-TTL:PT1H
BEGIN:VTIMEZONE
TZID:America/New_York
BEGIN:DAYLIGHT
TZOFFSETFROM:-0500
TZOFFSETTO:-0400
TZNAME:EDT
DTSTART:20250309T070000
END:DAYLIGHT
BEGIN:STANDARD
TZOFFSETFROM:-0400
TZOFFSETTO:-0500
TZNAME:EST
DTSTART:20251102T060000
END:STANDARD
BEGIN:DAYLIGHT
TZOFFSETFROM:-0500
TZOFFSETTO:-0400
TZNAME:EDT
DTSTART:20260308T070000
END:DAYLIGHT
BEGIN:STANDARD
TZOFFSETFROM:-0400
TZOFFSETTO:-0500
TZNAME:EST
DTSTART:20261101T060000
END:STANDARD
BEGIN:DAYLIGHT
TZOFFSETFROM:-0500
TZOFFSETTO:-0400
TZNAME:EDT
DTSTART:20270314T070000
END:DAYLIGHT
BEGIN:STANDARD
TZOFFSETFROM:-0400
TZOFFSETTO:-0500
TZNAME:EST
DTSTART:20271107T060000
END:STANDARD
END:VTIMEZONE
BEGIN:VEVENT
DTSTART;TZID=America/New_York:20260209T080000
DTEND;TZID=America/New_York:20260401T233000
DTSTAMP:20260423T143847
CREATED:20260209T153134Z
LAST-MODIFIED:20260307T220738Z
UID:2342-1770624000-1775086200@mountain-na.org
SUMMARY:NA World Services Surveys: Seeking Input from All Members
DESCRIPTION:Got opinions on issues such as gender-neutral language? MAT/MRT and NA membership? Future literature topics and many other items? Then\, you need to make your voice heard and complete the survey today! \nNAWS surveys are opportunities for members to share their views and help shape the projects planned for future conference cycles. \nVoting and input deadline: April 1\, 2026 \nCurrent Surveys: Conference Agenda; Gender-Neutral and Inclusive Language; DRT/MAT in NA – Helping Members Take Root; H&I Basics \nParticipation is essential to unity\, and it’s also how we start to feel like we belong. \n-Guiding Principles\, p. 6
URL:https://mountain-na.org/event/na-world-services-surveys-seeking-input-from-all-members/
ATTACH;FMTTYPE=image/jpeg:https://mountain-na.org/wp-content/uploads/2023/02/I-Serve-Pin.jpeg
END:VEVENT
BEGIN:VEVENT
DTSTART;TZID=America/New_York:20260328T093000
DTEND;TZID=America/New_York:20260411T220000
DTSTAMP:20260423T143847
CREATED:20260219T213443Z
LAST-MODIFIED:20260328T133545Z
UID:2356-1774690200-1775944800@mountain-na.org
SUMMARY:Conference Agenda Report (CAR) Group Voting Instructions - Deadline to Vote is 4/11
DESCRIPTION:The deadline for group voting on the CAR is April 11th. \nIf you missed one of the recent CAR trainings offered by the Volunteer Region\, here is a link to condensed instructions. \nWhen your group is ready to vote\, here is a link to cast your group’s vote. Only one vote per group may be submitted. \n 
URL:https://mountain-na.org/event/conference-agenda-report-car-workshop/
ATTACH;FMTTYPE=image/png:https://mountain-na.org/wp-content/uploads/2026/02/2026-CAR.png
END:VEVENT
BEGIN:VEVENT
DTSTART;TZID=America/New_York:20260328T133000
DTEND;TZID=America/New_York:20260328T163000
DTSTAMP:20260423T143847
CREATED:20260217T211150Z
LAST-MODIFIED:20260313T185609Z
UID:2353-1774704600-1774715400@mountain-na.org
SUMMARY:H&I Learning Day
DESCRIPTION:Join us for lunch (1:30 – 2:00) and a day of learning how to get involved with H&I. Help us carry the message to those who cannot get out to attend meetings.
URL:https://mountain-na.org/event/hi-learning-day/
LOCATION:End of the Road Group Facility\, 603 Sunset Drive\, Johnson City\, TN\, 37604\, United States
ATTACH;FMTTYPE=image/png:https://mountain-na.org/wp-content/uploads/2026/03/MANA-HI-Learning-Day-03-28-26-scaled.png
ORGANIZER;CN="Hospitals & Institutions Subcommittee":MAILTO:mountainhandi@gmail.com
END:VEVENT
BEGIN:VEVENT
DTSTART;TZID=America/New_York:20260328T190000
DTEND;TZID=America/New_York:20260328T200000
DTSTAMP:20260423T143847
CREATED:20260307T221407Z
LAST-MODIFIED:20260307T221430Z
UID:2379-1774724400-1774728000@mountain-na.org
SUMMARY:Jessy celebrates 7 years clean and Jacob 2!
DESCRIPTION:Join us in Kingsport for a double celebration when Jessy picks up 7 years and Jacob picks up 2.
URL:https://mountain-na.org/event/jessy-celebrates-7-years-clean-and-jacob-2/
LOCATION:New Way of Life Group Facility – Prospect Center\, 1425 E Center Street\, Kingsport\, TN\, 37664\, United States
ATTACH;FMTTYPE=image/jpeg:https://mountain-na.org/wp-content/uploads/2025/02/IMG_0127.jpeg
END:VEVENT
END:VCALENDAR