BEGIN:VCALENDAR
VERSION:2.0
PRODID:-//Narcotics Anonymous - NA in Johnson City, Kingsport and Bristol - ECPv6.15.20//NONSGML v1.0//EN
CALSCALE:GREGORIAN
METHOD:PUBLISH
X-WR-CALNAME:Narcotics Anonymous - NA in Johnson City, Kingsport and Bristol
X-ORIGINAL-URL:https://mountain-na.org
X-WR-CALDESC:Events for Narcotics Anonymous - NA in Johnson City, Kingsport and Bristol
REFRESH-INTERVAL;VALUE=DURATION:PT1H
X-Robots-Tag:noindex
X-PUBLISHED-TTL:PT1H
BEGIN:VTIMEZONE
TZID:America/New_York
BEGIN:DAYLIGHT
TZOFFSETFROM:-0500
TZOFFSETTO:-0400
TZNAME:EDT
DTSTART:20250309T070000
END:DAYLIGHT
BEGIN:STANDARD
TZOFFSETFROM:-0400
TZOFFSETTO:-0500
TZNAME:EST
DTSTART:20251102T060000
END:STANDARD
BEGIN:DAYLIGHT
TZOFFSETFROM:-0500
TZOFFSETTO:-0400
TZNAME:EDT
DTSTART:20260308T070000
END:DAYLIGHT
BEGIN:STANDARD
TZOFFSETFROM:-0400
TZOFFSETTO:-0500
TZNAME:EST
DTSTART:20261101T060000
END:STANDARD
BEGIN:DAYLIGHT
TZOFFSETFROM:-0500
TZOFFSETTO:-0400
TZNAME:EDT
DTSTART:20270314T070000
END:DAYLIGHT
BEGIN:STANDARD
TZOFFSETFROM:-0400
TZOFFSETTO:-0500
TZNAME:EST
DTSTART:20271107T060000
END:STANDARD
END:VTIMEZONE
BEGIN:VEVENT
DTSTART;TZID=America/New_York:20260502T103000
DTEND;TZID=America/New_York:20260502T113000
DTSTAMP:20260423T125627
CREATED:20250101T173502Z
LAST-MODIFIED:20260423T162618Z
UID:1708-1777717800-1777721400@mountain-na.org
SUMMARY:Unity in the Mountains Registration Committee Meeting
DESCRIPTION:Come get involved with the Registration Committee for the 2026 Area Convention every first Saturday morning of each month. \n 
URL:https://mountain-na.org/event/unity-in-the-mountains-registration-committee-meeting/
LOCATION:Johnson City Recovery Center\, 513 E. Unaka Avenue\, Johnson City\, TN\, 37601\, United States
ATTACH;FMTTYPE=image/png:https://mountain-na.org/wp-content/uploads/2026/04/UITM-Logo-2026.png
END:VEVENT
BEGIN:VEVENT
DTSTART;TZID=America/New_York:20260502T223000
DTEND;TZID=America/New_York:20260502T233000
DTSTAMP:20260423T125627
CREATED:20260419T145107Z
LAST-MODIFIED:20260419T145138Z
UID:2521-1777761000-1777764600@mountain-na.org
SUMMARY:NA World Unity Day Presentations - Speaker Meeting
DESCRIPTION:World Unity Day(s) will be celebrated fully over two consecutive weekends with speakers from around the world and special NA History presentations. The meetings will begin at 10:30 pm EDT and may be accessed via Zoom. \nMeeting ID: 883 0100 5069  Passcode: 1953
URL:https://mountain-na.org/event/na-world-unity-day-presentations-speaker-meeting/
LOCATION:Virtual / Zoom Meeting
ATTACH;FMTTYPE=image/png:https://mountain-na.org/wp-content/uploads/2026/04/Unity-Day-scaled.png
END:VEVENT
END:VCALENDAR