BEGIN:VCALENDAR
VERSION:2.0
PRODID:-//Narcotics Anonymous - NA in Johnson City, Kingsport and Bristol - ECPv6.15.20//NONSGML v1.0//EN
CALSCALE:GREGORIAN
METHOD:PUBLISH
X-ORIGINAL-URL:https://mountain-na.org
X-WR-CALDESC:Events for Narcotics Anonymous - NA in Johnson City, Kingsport and Bristol
REFRESH-INTERVAL;VALUE=DURATION:PT1H
X-Robots-Tag:noindex
X-PUBLISHED-TTL:PT1H
BEGIN:VTIMEZONE
TZID:America/New_York
BEGIN:DAYLIGHT
TZOFFSETFROM:-0500
TZOFFSETTO:-0400
TZNAME:EDT
DTSTART:20250309T070000
END:DAYLIGHT
BEGIN:STANDARD
TZOFFSETFROM:-0400
TZOFFSETTO:-0500
TZNAME:EST
DTSTART:20251102T060000
END:STANDARD
BEGIN:DAYLIGHT
TZOFFSETFROM:-0500
TZOFFSETTO:-0400
TZNAME:EDT
DTSTART:20260308T070000
END:DAYLIGHT
BEGIN:STANDARD
TZOFFSETFROM:-0400
TZOFFSETTO:-0500
TZNAME:EST
DTSTART:20261101T060000
END:STANDARD
BEGIN:DAYLIGHT
TZOFFSETFROM:-0500
TZOFFSETTO:-0400
TZNAME:EDT
DTSTART:20270314T070000
END:DAYLIGHT
BEGIN:STANDARD
TZOFFSETFROM:-0400
TZOFFSETTO:-0500
TZNAME:EST
DTSTART:20271107T060000
END:STANDARD
END:VTIMEZONE
BEGIN:VEVENT
DTSTART;TZID=America/New_York:20260516T130000
DTEND;TZID=America/New_York:20260516T163000
DTSTAMP:20260423T202421
CREATED:20230225T161424Z
LAST-MODIFIED:20260423T162357Z
UID:1183-1778936400-1778949000@mountain-na.org
SUMMARY:Mountain Area Service Committee Meeting
DESCRIPTION:If you are like most of us\, you will find that NA service through Area Service involvement is often a challenging yet rewarding experience. As a participating member of the Mountain Area Service Committee (MASC)\, you will be directly involved in developing\, coordinating and maintaining the services Narcotics Anonymous offers in the Mountain Area and worldwide. At these meetings MASC members\, subcommittee members and Group Service Representatives (GSRs) join together to develop\, coordinate\, and maintain the services of Narcotics Anonymous in this area. Representatives from new groups and new GSRs are encouraged to arrive early in order to receive GSR packets and a brief orientation before the 3:00 start. \nCome early to participate and learn about our service subcommittees: Hospitals & Institutions with new member orientations – 1:00pm; Activities – 2:00pm
URL:https://mountain-na.org/event/mountain-area-service-committee-meeting-19/
LOCATION:Miracles Happen Group Facility\, 105 S. Boone Street\, Johnson City\, TN\, 37604
ATTACH;FMTTYPE=image/jpeg:https://mountain-na.org/wp-content/uploads/2023/02/I-Serve-Pin.jpeg
END:VEVENT
END:VCALENDAR