BEGIN:VCALENDAR
VERSION:2.0
PRODID:-//Narcotics Anonymous - NA in Johnson City, Kingsport and Bristol - ECPv6.15.20//NONSGML v1.0//EN
CALSCALE:GREGORIAN
METHOD:PUBLISH
X-WR-CALNAME:Narcotics Anonymous - NA in Johnson City, Kingsport and Bristol
X-ORIGINAL-URL:https://mountain-na.org
X-WR-CALDESC:Events for Narcotics Anonymous - NA in Johnson City, Kingsport and Bristol
REFRESH-INTERVAL;VALUE=DURATION:PT1H
X-Robots-Tag:noindex
X-PUBLISHED-TTL:PT1H
BEGIN:VTIMEZONE
TZID:America/New_York
BEGIN:DAYLIGHT
TZOFFSETFROM:-0500
TZOFFSETTO:-0400
TZNAME:EDT
DTSTART:20220313T070000
END:DAYLIGHT
BEGIN:STANDARD
TZOFFSETFROM:-0400
TZOFFSETTO:-0500
TZNAME:EST
DTSTART:20221106T060000
END:STANDARD
BEGIN:DAYLIGHT
TZOFFSETFROM:-0500
TZOFFSETTO:-0400
TZNAME:EDT
DTSTART:20230312T070000
END:DAYLIGHT
BEGIN:STANDARD
TZOFFSETFROM:-0400
TZOFFSETTO:-0500
TZNAME:EST
DTSTART:20231105T060000
END:STANDARD
BEGIN:DAYLIGHT
TZOFFSETFROM:-0500
TZOFFSETTO:-0400
TZNAME:EDT
DTSTART:20240310T070000
END:DAYLIGHT
BEGIN:STANDARD
TZOFFSETFROM:-0400
TZOFFSETTO:-0500
TZNAME:EST
DTSTART:20241103T060000
END:STANDARD
BEGIN:DAYLIGHT
TZOFFSETFROM:-0500
TZOFFSETTO:-0400
TZNAME:EDT
DTSTART:20250309T070000
END:DAYLIGHT
BEGIN:STANDARD
TZOFFSETFROM:-0400
TZOFFSETTO:-0500
TZNAME:EST
DTSTART:20251102T060000
END:STANDARD
END:VTIMEZONE
BEGIN:VEVENT
DTSTART;TZID=America/New_York:20240204T190000
DTEND;TZID=America/New_York:20240204T210000
DTSTAMP:20260425T084946
CREATED:20240203T225547Z
LAST-MODIFIED:20240203T225547Z
UID:1455-1707073200-1707080400@mountain-na.org
SUMMARY:Mike F. Celebrates 33 Years Clean!
DESCRIPTION:Come join us in Marion for an eating meeting with speakers to celebrate Mike’s 33 years clean!
URL:https://mountain-na.org/event/mike-f-celebrates-33-years-clean/
LOCATION:Marion Survivor’s Group location\, 139 W. Main St.\, Marion\, VA\, 24354\, United States
END:VEVENT
BEGIN:VEVENT
DTSTART;TZID=America/New_York:20240119T190000
DTEND;TZID=America/New_York:20240119T200000
DTSTAMP:20260425T084946
CREATED:20240118T214000Z
LAST-MODIFIED:20240118T214015Z
UID:1442-1705690800-1705694400@mountain-na.org
SUMMARY:Robin G. Celebrates 14 Years Clean!
DESCRIPTION:Join us at Miracles Happen as Robin G. celebrates 14 years clean!
URL:https://mountain-na.org/event/robin-g-celebrates-14-years-clean/
LOCATION:Miracles Happen Group Facility\, 105 S. Boone Street\, Johnson City\, TN\, 37604
ATTACH;FMTTYPE=image/jpeg:https://mountain-na.org/wp-content/uploads/2023/06/NA-Cake-copy.jpeg
END:VEVENT
BEGIN:VEVENT
DTSTART;TZID=America/New_York:20240104T200000
DTEND;TZID=America/New_York:20240104T210000
DTSTAMP:20260425T084946
CREATED:20231226T180818Z
LAST-MODIFIED:20231226T180818Z
UID:1433-1704398400-1704402000@mountain-na.org
SUMMARY:Phil S. Celebrates 35 Years Clean!
DESCRIPTION:Join us in Abingdon when Phil S. celebrates 35 years clean!
URL:https://mountain-na.org/event/phil-s-celebrates-35-years-clean/
LOCATION:New Day Group Facility\, 124 E Main St.\, Abingdon\, TN\, 24210\, United States
ATTACH;FMTTYPE=image/jpeg:https://mountain-na.org/wp-content/uploads/2023/06/NA-Cake-copy.jpeg
END:VEVENT
BEGIN:VEVENT
DTSTART;TZID=America/New_York:20240104T200000
DTEND;TZID=America/New_York:20240104T210000
DTSTAMP:20260425T084946
CREATED:20231226T180356Z
LAST-MODIFIED:20231226T180604Z
UID:1431-1704398400-1704402000@mountain-na.org
SUMMARY:Joe J. Celebrates 39 Years Clean!
DESCRIPTION:Join us in Abingdon when Joe J. celebrates 39 years clean.
URL:https://mountain-na.org/event/joe-j-celebrates-39-years-clean/
LOCATION:New Day Group Facility\, 124 E Main St.\, Abingdon\, TN\, 24210\, United States
ATTACH;FMTTYPE=image/jpeg:https://mountain-na.org/wp-content/uploads/2023/06/NA-Cake-copy.jpeg
END:VEVENT
BEGIN:VEVENT
DTSTART;TZID=America/New_York:20231231T210000
DTEND;TZID=America/New_York:20240101T010000
DTSTAMP:20260425T084946
CREATED:20231206T052952Z
LAST-MODIFIED:20231206T052952Z
UID:1418-1704056400-1704070800@mountain-na.org
SUMMARY:Ring in the New Year Clean!
DESCRIPTION:Speaker Jam\, New Year’s Countdown\, and Candle Light Meeting
URL:https://mountain-na.org/event/ring-in-the-new-year-clean/
LOCATION:End of the Road Group Facility\, 603 Sunset Drive\, Johnson City\, TN\, 37604\, United States
END:VEVENT
BEGIN:VEVENT
DTSTART;TZID=America/New_York:20231229T190000
DTEND;TZID=America/New_York:20231229T200000
DTSTAMP:20260425T084946
CREATED:20221213T220521Z
LAST-MODIFIED:20231226T181148Z
UID:1121-1703876400-1703880000@mountain-na.org
SUMMARY:Stephanie M. Celebrates 4 Years Clean!
DESCRIPTION:Come join us as Stephanie M. celebrates 4 years clean.
URL:https://mountain-na.org/event/stephanie-m-celebrates-3-years-clean/
LOCATION:Miracles Happen Group Facility\, 105 S. Boone Street\, Johnson City\, TN\, 37604
ATTACH;FMTTYPE=image/jpeg:https://mountain-na.org/wp-content/uploads/2023/06/NA-Cake-copy.jpeg
END:VEVENT
BEGIN:VEVENT
DTSTART;TZID=America/New_York:20231226T200000
DTEND;TZID=America/New_York:20231226T210000
DTSTAMP:20260425T084946
CREATED:20221213T215309Z
LAST-MODIFIED:20231226T174819Z
UID:1117-1703620800-1703624400@mountain-na.org
SUMMARY:Donna S. Celebrates 36 Years Clean!
DESCRIPTION:Come join us in Abingdon as Donna S. celebrates 36 years clean!
URL:https://mountain-na.org/event/billy-t-celebrates-26-years-clean/
LOCATION:New Day Group Facility\, 124 E Main St.\, Abingdon\, TN\, 24210\, United States
ATTACH;FMTTYPE=image/jpeg:https://mountain-na.org/wp-content/uploads/2023/06/NA-Cake-copy.jpeg
END:VEVENT
BEGIN:VEVENT
DTSTART;TZID=America/New_York:20231209T140000
DTEND;TZID=America/New_York:20231209T160000
DTSTAMP:20260425T084946
CREATED:20231206T051747Z
LAST-MODIFIED:20231206T052047Z
UID:1414-1702130400-1702137600@mountain-na.org
SUMMARY:H&I Orientation and Cookie Decorating Event
DESCRIPTION:Join us to learn about H&I and carrying the message to those who cannot freely attend meetings. We’ll also be decorating holiday cookies.
URL:https://mountain-na.org/event/hi-orientation-and-cookie-decorating-event/
LOCATION:Love Church\, 1109 Old Gray Station Rd\, Johnson City\, TN\, 37615\, United States
ORGANIZER;CN="Hospitals & Institutions Subcommittee":MAILTO:mountainhandi@gmail.com
END:VEVENT
BEGIN:VEVENT
DTSTART;VALUE=DATE:20231124
DTEND;VALUE=DATE:20231127
DTSTAMP:20260425T084946
CREATED:20230321T214808Z
LAST-MODIFIED:20230704T184149Z
UID:1221-1700784000-1701043199@mountain-na.org
SUMMARY:Volunteer Region Convention 41
DESCRIPTION:  \n 
URL:https://mountain-na.org/event/volunteer-region-convention-41/
END:VEVENT
BEGIN:VEVENT
DTSTART;TZID=America/New_York:20231118T180000
DTEND;TZID=America/New_York:20231118T200000
DTSTAMP:20260425T084946
CREATED:20231114T025150Z
LAST-MODIFIED:20231114T025150Z
UID:1408-1700330400-1700337600@mountain-na.org
SUMMARY:Thanksgiving Covered Dish Meal
DESCRIPTION:Join us Saturday for a Thanksgiving meal and a special meeting with Maria S. from Knoxville sharing her story.
URL:https://mountain-na.org/event/thanksgiving-covered-dish-meal/
LOCATION:Miracles Happen Group Facility\, 105 S. Boone Street\, Johnson City\, TN\, 37604
END:VEVENT
BEGIN:VEVENT
DTSTART;TZID=America/New_York:20231118T140000
DTEND;TZID=America/New_York:20231118T150000
DTSTAMP:20260425T084946
CREATED:20231114T030046Z
LAST-MODIFIED:20231114T030046Z
UID:1411-1700316000-1700319600@mountain-na.org
SUMMARY:Convention Committee Meeting
DESCRIPTION:Join us as we plan and prepare for a MANA convention!
URL:https://mountain-na.org/event/convention-committee-meeting/
LOCATION:Miracles Happen Group Facility\, 105 S. Boone Street\, Johnson City\, TN\, 37604
END:VEVENT
BEGIN:VEVENT
DTSTART;TZID=America/New_York:20231029T143000
DTEND;TZID=America/New_York:20231029T153000
DTSTAMP:20260425T084946
CREATED:20230727T155900Z
LAST-MODIFIED:20230730T183214Z
UID:1331-1698589800-1698593400@mountain-na.org
SUMMARY:Volunteer Region H&I Committee Meeting
DESCRIPTION:This will be a virtual meeting for H&I committee members from across the Volunteer region. Area H&I chairs and panel leaders are encouraged to attend. \nSunday October 29 at 2:30pm est.     Zoom ID 596-811-1398    PW – clean
URL:https://mountain-na.org/event/volunteer-region-hi-committee-meeting/
LOCATION:Virtual / Zoom Meeting
ATTACH;FMTTYPE=image/png:https://mountain-na.org/wp-content/uploads/2023/06/HI-Logo.png
END:VEVENT
BEGIN:VEVENT
DTSTART;TZID=America/New_York:20231028T190000
DTEND;TZID=America/New_York:20231028T220000
DTSTAMP:20260425T084946
CREATED:20231003T125543Z
LAST-MODIFIED:20231013T164444Z
UID:1389-1698519600-1698530400@mountain-na.org
SUMMARY:Masquerade Bash!
DESCRIPTION:Come join us for a fun evening of food\, dancing\, and mystique!
URL:https://mountain-na.org/event/masquerade-bash/
LOCATION:Gray Community Chest\, 113 Gray Ruritan Dr.\, Gray\, TN\, 37615\, United States
END:VEVENT
BEGIN:VEVENT
DTSTART;TZID=America/New_York:20231013T150000
DTEND;TZID=America/New_York:20231015T150000
DTSTAMP:20260425T084946
CREATED:20230908T161854Z
LAST-MODIFIED:20231003T130816Z
UID:1362-1697209200-1697382000@mountain-na.org
SUMMARY:Recovery on the Ridge 27 Campout
DESCRIPTION:Join us at Big Ridge State Park in Maynardville\, TN for our annual fall campout!
URL:https://mountain-na.org/event/recovery-on-the-ridge-27-campout/
LOCATION:Big Ridge State Park\, 1015 Big Ridge Park Road\, Maynardville\, TN\, 37807
ATTACH;FMTTYPE=image/jpeg:https://mountain-na.org/wp-content/uploads/2023/09/ROR27.jpeg
END:VEVENT
BEGIN:VEVENT
DTSTART;TZID=America/New_York:20231008T140000
DTEND;TZID=America/New_York:20231008T170000
DTSTAMP:20260425T084946
CREATED:20231003T130440Z
LAST-MODIFIED:20231003T130440Z
UID:1393-1696773600-1696784400@mountain-na.org
SUMMARY:Corn Maze Outing!
DESCRIPTION:Come join us at Fenders Farm for a walk through the corn Maze!
URL:https://mountain-na.org/event/corn-maze-outing/
END:VEVENT
BEGIN:VEVENT
DTSTART;TZID=America/New_York:20231007T190000
DTEND;TZID=America/New_York:20231007T200000
DTSTAMP:20260425T084946
CREATED:20231003T123832Z
LAST-MODIFIED:20231003T123832Z
UID:1387-1696705200-1696708800@mountain-na.org
SUMMARY:Chris P. Celebrates 37 Years Clean!
DESCRIPTION:Join us in Kingsport on October 7th at the New Way of Life group when Chris P. celebrates 37 years clean!
URL:https://mountain-na.org/event/chris-p-celebrates-37-years-clean/
LOCATION:New Way of Life Group Facility – Prospect Center\, 1425 E Center Street\, Kingsport\, TN\, 37664\, United States
ATTACH;FMTTYPE=image/jpeg:https://mountain-na.org/wp-content/uploads/2023/06/NA-Cake-copy.jpeg
END:VEVENT
BEGIN:VEVENT
DTSTART;TZID=America/New_York:20231001T130000
DTEND;TZID=America/New_York:20231001T170000
DTSTAMP:20260425T084946
CREATED:20230908T162343Z
LAST-MODIFIED:20230908T162343Z
UID:1367-1696165200-1696179600@mountain-na.org
SUMMARY:Recovery is a Journey Group Picnic
DESCRIPTION:Join us in Newport for a picnic and speaker meeting!
URL:https://mountain-na.org/event/recovery-is-a-journey-group-picnic/
END:VEVENT
BEGIN:VEVENT
DTSTART;TZID=America/New_York:20230930T110000
DTEND;TZID=America/New_York:20230930T160000
DTSTAMP:20260425T084946
CREATED:20220705T175932Z
LAST-MODIFIED:20230911T013505Z
UID:1048-1696071600-1696089600@mountain-na.org
SUMMARY:The Just For Today Group Celebrates 37 Years!
DESCRIPTION:Join us at Cat Island Park in Elizabethton as the Just For Today group celebrates its 37th year of carrying the message! Members bringing a covered dish would be appreciated.
URL:https://mountain-na.org/event/the-just-for-today-group-celebrates-36-years/
LOCATION:Cat Island City Park\, US Hwy 19E\, Elizabethton\, TN\, 37643\, United States
END:VEVENT
BEGIN:VEVENT
DTSTART;TZID=America/New_York:20230929T160000
DTEND;TZID=America/New_York:20231001T120000
DTSTAMP:20260425T084946
CREATED:20230908T155836Z
LAST-MODIFIED:20230908T160053Z
UID:1356-1696003200-1696161600@mountain-na.org
SUMMARY:Surrender XXXVI Campout
DESCRIPTION:Join us at Dogwood Lodge\, on the banks of the Chickamauga Lake for a weekend full of recovery.
URL:https://mountain-na.org/event/surrender-xxxvi-campout/
END:VEVENT
BEGIN:VEVENT
DTSTART;TZID=America/New_York:20230922T190000
DTEND;TZID=America/New_York:20230922T200000
DTSTAMP:20260425T084946
CREATED:20220723T174240Z
LAST-MODIFIED:20230807T131954Z
UID:1044-1695409200-1695412800@mountain-na.org
SUMMARY:Brooke B. Celebrates 2 Years Clean!
DESCRIPTION:Join us as Brook B. celebrates her 2nd year clean!
URL:https://mountain-na.org/event/brooke-b-jordan-p-celebrate-1-year-clean/
LOCATION:Miracles Happen Group Facility\, 105 S. Boone Street\, Johnson City\, TN\, 37604
ATTACH;FMTTYPE=image/jpeg:https://mountain-na.org/wp-content/uploads/2023/06/NA-Cake-copy.jpeg
END:VEVENT
BEGIN:VEVENT
DTSTART;TZID=America/New_York:20230915T173000
DTEND;TZID=America/New_York:20230915T183000
DTSTAMP:20260425T084946
CREATED:20230908T162759Z
LAST-MODIFIED:20230908T162759Z
UID:1370-1694799000-1694802600@mountain-na.org
SUMMARY:Dottie G. celebrates 33 years clean!
DESCRIPTION:Join us at the Friends of Jimmy K. group when Dottie G. celebrates 33 years clean and Stephanie M. shares her story.
URL:https://mountain-na.org/event/dottie-g-celebrates-33-years-clean/
LOCATION:Johnson City Recovery Center\, 513 E. Unaka Avenue\, Johnson City\, TN\, 37601\, United States
ATTACH;FMTTYPE=image/jpeg:https://mountain-na.org/wp-content/uploads/2023/06/NA-Cake-copy.jpeg
END:VEVENT
BEGIN:VEVENT
DTSTART;TZID=America/New_York:20230913T080000
DTEND;TZID=America/New_York:20231013T090000
DTSTAMP:20260425T084946
CREATED:20230913T022528Z
LAST-MODIFIED:20230913T022958Z
UID:1378-1694592000-1697187600@mountain-na.org
SUMMARY:New Morning Meditation Meetings!
DESCRIPTION:Rise & Shine! We now have morning meditation meetings at 8:00 am every Wednesday and Friday.
URL:https://mountain-na.org/event/new-morning-meditation-meetings/
LOCATION:Johnson City Recovery Center\, 513 E. Unaka Avenue\, Johnson City\, TN\, 37601\, United States
END:VEVENT
BEGIN:VEVENT
DTSTART;TZID=America/New_York:20230910T190000
DTEND;TZID=America/New_York:20230910T200000
DTSTAMP:20260425T084946
CREATED:20230820T145540Z
LAST-MODIFIED:20230830T200530Z
UID:1350-1694372400-1694376000@mountain-na.org
SUMMARY:Primary Purpose Group Monthly Speaker: Brian A.
DESCRIPTION:Join us this month to show your love and support when Brian A. shares his story at the Primary Purpose group in Greeneville.
URL:https://mountain-na.org/event/primary-purpose-group-monthly-speaker-sarah-m/
LOCATION:Primary Purpose Group Meeting Facility\, 201 S. Main Street\, Greeneville\, TN\, 37745\, United States
END:VEVENT
BEGIN:VEVENT
DTSTART;TZID=America/New_York:20230905T120000
DTEND;TZID=America/New_York:20231003T130000
DTSTAMP:20260425T084946
CREATED:20230908T211140Z
LAST-MODIFIED:20230908T211435Z
UID:1372-1693915200-1696338000@mountain-na.org
SUMMARY:New Meeting! Noon Literature Study Group in Greeneville
DESCRIPTION:On Tuesday September 5th a new group started in Greenville. The Literature Study Group will meet each Tuesday at noon at Asbury Methodist Church\, 201 S. Main St. in Greeneville.
URL:https://mountain-na.org/event/new-meeting-noon-literature-study-group-in-greeneville/
LOCATION:Literature Study Group\, 201 S Main St\, Greeneville\, TN\, 37743
END:VEVENT
BEGIN:VEVENT
DTSTART;VALUE=DATE:20230824
DTEND;VALUE=DATE:20230828
DTSTAMP:20260425T084946
CREATED:20230321T213506Z
LAST-MODIFIED:20230321T213506Z
UID:1219-1692835200-1693180799@mountain-na.org
SUMMARY:Chill Out on Chilhowee Campout
DESCRIPTION:
URL:https://mountain-na.org/event/chill-out-on-chilhowee-campout/
END:VEVENT
BEGIN:VEVENT
DTSTART;TZID=America/New_York:20230813T140000
DTEND;TZID=America/New_York:20230813T180000
DTSTAMP:20260425T084946
CREATED:20230727T153717Z
LAST-MODIFIED:20230727T153717Z
UID:1328-1691935200-1691949600@mountain-na.org
SUMMARY:End of Summer Splash at Warriors' Path
DESCRIPTION:Activities committee will provide hotdogs and drinks. Bring a summery side dish\, your lawn chair\, and your own water gun. We will eat at 2:00. Phil from Abington will speak at 3:00. Water games after the speaker meeting!
URL:https://mountain-na.org/event/end-of-summer-splash-at-warriors-path/
LOCATION:Warriors’ Path State Park\, 490 Hemlock Road\, Kingsport\, TN\, 37663\, United States
END:VEVENT
BEGIN:VEVENT
DTSTART;TZID=America/New_York:20230805T173000
DTEND;TZID=America/New_York:20230805T183000
DTSTAMP:20260425T084946
CREATED:20230731T014659Z
LAST-MODIFIED:20230731T014659Z
UID:1341-1691256600-1691260200@mountain-na.org
SUMMARY:Regional Committee Member (RCM) Training & Orientation Session
DESCRIPTION:We will be having an RCM orientation on Saturday August 5th at 5:30 eastern.  The Zoom ID is 901 350 5030.   The password is NATN.   Anyone is welcome to join especially new RCMs\, RCM-Alts\, and those with aspirations of becoming Regional Committee Members.
URL:https://mountain-na.org/event/regional-committee-member-rcm-training-orientation-session/
LOCATION:Virtual / Zoom Meeting
ATTACH;FMTTYPE=image/jpeg:https://mountain-na.org/wp-content/uploads/2023/02/I-Serve-Pin.jpeg
END:VEVENT
BEGIN:VEVENT
DTSTART;TZID=America/New_York:20230803T190000
DTEND;TZID=America/New_York:20230803T200000
DTSTAMP:20260425T084946
CREATED:20230730T184915Z
LAST-MODIFIED:20230730T185011Z
UID:1336-1691089200-1691092800@mountain-na.org
SUMMARY:Marietta Celebrates 7 Years Clean!
DESCRIPTION:Join us in Rogersville for a spiritual principle meeting and celebration for Marietta as she picks up 7 years!
URL:https://mountain-na.org/event/marietta-celebrates-7-years-clean/
LOCATION:Right Foot Forward Group Facility\, 309 West Kyle Street\, Rogersville\, TN\, 37857\, United States
END:VEVENT
BEGIN:VEVENT
DTSTART;TZID=America/New_York:20230803T150000
DTEND;TZID=America/New_York:20230806T120000
DTSTAMP:20260425T084946
CREATED:20230704T150243Z
LAST-MODIFIED:20230704T150243Z
UID:1304-1691074800-1691323200@mountain-na.org
SUMMARY:Looking Glass Bash XXII - Western NC Area of NA
DESCRIPTION:A large popular campout just south of Asheville near Looking Glass Falls.
URL:https://mountain-na.org/event/looking-glass-bash-xxii-western-nc-area-of-na/
END:VEVENT
BEGIN:VEVENT
DTSTART;TZID=America/New_York:20230729T183000
DTEND;TZID=America/New_York:20230729T210000
DTSTAMP:20260425T084946
CREATED:20220712T161701Z
LAST-MODIFIED:20230716T193826Z
UID:1064-1690655400-1690664400@mountain-na.org
SUMMARY:Summertime Cookout in Abingdon!
DESCRIPTION:Come join us in Abingdon for a cookout at the New Day Group. Food will be served at 7:00 followed by a meeting at 8:00.
URL:https://mountain-na.org/event/eating-and-speaker-meeting-in-abingdon/
LOCATION:New Day Group Facility\, 124 E Main St.\, Abingdon\, TN\, 24210\, United States
END:VEVENT
END:VCALENDAR