BEGIN:VCALENDAR
VERSION:2.0
PRODID:-//Narcotics Anonymous - NA in Johnson City, Kingsport and Bristol - ECPv6.15.20//NONSGML v1.0//EN
CALSCALE:GREGORIAN
METHOD:PUBLISH
X-WR-CALNAME:Narcotics Anonymous - NA in Johnson City, Kingsport and Bristol
X-ORIGINAL-URL:https://mountain-na.org
X-WR-CALDESC:Events for Narcotics Anonymous - NA in Johnson City, Kingsport and Bristol
REFRESH-INTERVAL;VALUE=DURATION:PT1H
X-Robots-Tag:noindex
X-PUBLISHED-TTL:PT1H
BEGIN:VTIMEZONE
TZID:America/New_York
BEGIN:DAYLIGHT
TZOFFSETFROM:-0500
TZOFFSETTO:-0400
TZNAME:EDT
DTSTART:20240310T070000
END:DAYLIGHT
BEGIN:STANDARD
TZOFFSETFROM:-0400
TZOFFSETTO:-0500
TZNAME:EST
DTSTART:20241103T060000
END:STANDARD
BEGIN:DAYLIGHT
TZOFFSETFROM:-0500
TZOFFSETTO:-0400
TZNAME:EDT
DTSTART:20250309T070000
END:DAYLIGHT
BEGIN:STANDARD
TZOFFSETFROM:-0400
TZOFFSETTO:-0500
TZNAME:EST
DTSTART:20251102T060000
END:STANDARD
BEGIN:DAYLIGHT
TZOFFSETFROM:-0500
TZOFFSETTO:-0400
TZNAME:EDT
DTSTART:20260308T070000
END:DAYLIGHT
BEGIN:STANDARD
TZOFFSETFROM:-0400
TZOFFSETTO:-0500
TZNAME:EST
DTSTART:20261101T060000
END:STANDARD
BEGIN:DAYLIGHT
TZOFFSETFROM:-0500
TZOFFSETTO:-0400
TZNAME:EDT
DTSTART:20270314T070000
END:DAYLIGHT
BEGIN:STANDARD
TZOFFSETFROM:-0400
TZOFFSETTO:-0500
TZNAME:EST
DTSTART:20271107T060000
END:STANDARD
END:VTIMEZONE
BEGIN:VEVENT
DTSTART;TZID=America/New_York:20260208T190000
DTEND;TZID=America/New_York:20260208T210000
DTSTAMP:20260423T193619
CREATED:20260202T013907Z
LAST-MODIFIED:20260202T013936Z
UID:2327-1770577200-1770584400@mountain-na.org
SUMMARY:Mike F. Celebrates 35 Years Clean!
DESCRIPTION:Join us in Marion for food and fellowship when Mike F. celebrates 35 years clean! Phillip W. and Cristy W. will be speaking.
URL:https://mountain-na.org/event/mike-f-celebrates-35-years-clean/
ATTACH;FMTTYPE=image/jpeg:https://mountain-na.org/wp-content/uploads/2026/02/Mike-F.jpg
END:VEVENT
BEGIN:VEVENT
DTSTART;TZID=America/New_York:20260203T190000
DTEND;TZID=America/New_York:20260203T200000
DTSTAMP:20260423T193619
CREATED:20260118T194009Z
LAST-MODIFIED:20260118T194009Z
UID:2293-1770145200-1770148800@mountain-na.org
SUMMARY:Greg V. Celebrates 11 Years Clean!
DESCRIPTION:Help us celebrate Greg V. and his 11 years clean!
URL:https://mountain-na.org/event/greg-v-celebrates-11-years-clean/
LOCATION:Recovering Spirituality Group Facility\, 119 West F Street\, Elizabethton\, TN\, 37643\, United States
ATTACH;FMTTYPE=image/jpeg:https://mountain-na.org/wp-content/uploads/2025/02/IMG_0127.jpeg
END:VEVENT
BEGIN:VEVENT
DTSTART;TZID=America/New_York:20260131T183000
DTEND;TZID=America/New_York:20260131T210000
DTSTAMP:20260423T193619
CREATED:20260131T202658Z
LAST-MODIFIED:20260131T203353Z
UID:2315-1769884200-1769893200@mountain-na.org
SUMMARY:Special Blizzard Virtual Meeting
DESCRIPTION:Snowed in tonight? Don’t worry\, the New Way of Life group is hosting a meeting/gathering tonight from 6:30 – 9:00ish and all NA members are welcome to attend. \nMountain Area of NA is inviting you to a scheduled Zoom meeting. \nTopic: New Way of Life Blizzard Meeting – Tonight Only!\nTime: Jan 31\, 2026 06:30 PM Eastern Time (US and Canada)\nJoin Zoom Meeting\nhttps://zoom.us/j/99748576503?pwd=Adsdhc2lP7yeZu6yvfjvdeXSbW6Pt2.1 \nMeeting ID: 997 4857 6503\nPasscode: clean \n— \nOne tap mobile\n+13126266799\,\,99748576503#\,\,\,\,*969604# US (Chicago)\n+16469313860\,\,99748576503#\,\,\,\,*969604# US \nJoin instructions\nhttps://zoom.us/meetings/99748576503/invitations?signature=j4km6waGPmqu72iZgCy_kUyihrh8kaEVzvakqe_2sUc \n 
URL:https://mountain-na.org/event/special-blizzard-virtual-meeting/
LOCATION:Virtual / Zoom Meeting
ATTACH;FMTTYPE=image/jpeg:https://mountain-na.org/wp-content/uploads/2025/11/Podium.jpeg
END:VEVENT
BEGIN:VEVENT
DTSTART;TZID=America/New_York:20260125T190000
DTEND;TZID=America/New_York:20260125T200000
DTSTAMP:20260423T193619
CREATED:20260115T192219Z
LAST-MODIFIED:20260115T192219Z
UID:2275-1769367600-1769371200@mountain-na.org
SUMMARY:Erin M. Celebrates 8 Years Clean!
DESCRIPTION:Come out and celebrate Erin M. and her 8 years clean! Stephanie M. will be sharing her experience\, strength\, and hope.
URL:https://mountain-na.org/event/erin-m-celebrates-8-years-clean/
LOCATION:End of the Road Group Facility\, 603 Sunset Drive\, Johnson City\, TN\, 37604\, United States
ATTACH;FMTTYPE=image/jpeg:https://mountain-na.org/wp-content/uploads/2025/02/IMG_0127.jpeg
END:VEVENT
BEGIN:VEVENT
DTSTART;TZID=America/New_York:20260124T190000
DTEND;TZID=America/New_York:20260124T200000
DTSTAMP:20260423T193619
CREATED:20260105T213922Z
LAST-MODIFIED:20260105T213922Z
UID:2268-1769281200-1769284800@mountain-na.org
SUMMARY:Barry D. Celebrates 22 Years Clean!
DESCRIPTION:Help us celebrate Barry D. and his 22 years clean at Miracles Happen! Donjia K. will be sharing her story.
URL:https://mountain-na.org/event/barry-d-celebrates-22-years-clean/
LOCATION:Miracles Happen Group Facility\, 105 S. Boone Street\, Johnson City\, TN\, 37604
ATTACH;FMTTYPE=image/jpeg:https://mountain-na.org/wp-content/uploads/2025/02/IMG_0127.jpeg
END:VEVENT
BEGIN:VEVENT
DTSTART;TZID=America/New_York:20260121T190000
DTEND;TZID=America/New_York:20260121T200000
DTSTAMP:20260423T193619
CREATED:20260118T193701Z
LAST-MODIFIED:20260118T193701Z
UID:2291-1769022000-1769025600@mountain-na.org
SUMMARY:Tammy S. Celebrates 4 Years Clean!
DESCRIPTION:Help us celebrate Tammy S. and her 4 years clean! Kirsten G. will be sharing her story.
URL:https://mountain-na.org/event/tammy-s-celebrates-4-years-clean/
LOCATION:End of the Road Group Facility\, 603 Sunset Drive\, Johnson City\, TN\, 37604\, United States
ATTACH;FMTTYPE=image/jpeg:https://mountain-na.org/wp-content/uploads/2025/02/IMG_0127.jpeg
END:VEVENT
BEGIN:VEVENT
DTSTART;TZID=America/New_York:20260119T190000
DTEND;TZID=America/New_York:20260119T200000
DTSTAMP:20260423T193619
CREATED:20260112T233207Z
LAST-MODIFIED:20260112T233207Z
UID:2271-1768849200-1768852800@mountain-na.org
SUMMARY:Robin G. Celebrates 16 Years Clean!
DESCRIPTION:Join us in Johnson City when Robin G. celebrates 16 years clean!
URL:https://mountain-na.org/event/robin-g-celebrates-16-years-clean/
LOCATION:Miracles Happen Group Facility\, 105 S. Boone Street\, Johnson City\, TN\, 37604
ATTACH;FMTTYPE=image/jpeg:https://mountain-na.org/wp-content/uploads/2025/02/IMG_0127.jpeg
END:VEVENT
BEGIN:VEVENT
DTSTART;VALUE=DATE:20260119
DTEND;VALUE=DATE:20260201
DTSTAMP:20260423T193619
CREATED:20260119T220633Z
LAST-MODIFIED:20260119T220740Z
UID:2295-1768780800-1769903999@mountain-na.org
SUMMARY:Volunteer Regional Convention Survey
DESCRIPTION:You asked\, and they listened! Now it’s time for you to respond. Be sure and complete the VRC survey by January 31st by clicking on this link.
URL:https://mountain-na.org/event/volunteer-regional-convention-survey/
ATTACH;FMTTYPE=image/png:https://mountain-na.org/wp-content/uploads/2026/01/BueUHbVsHMfITJF5uvT2tLL6VpYHLVkFtvfYHfA43kE6rNPuyCVFceX5fyCCiuiXUrmEaUzlKnTI664w1200-h630-p.png
END:VEVENT
BEGIN:VEVENT
DTSTART;TZID=America/New_York:20260118T190000
DTEND;TZID=America/New_York:20260118T200000
DTSTAMP:20260423T193619
CREATED:20260118T014555Z
LAST-MODIFIED:20260118T014627Z
UID:2287-1768762800-1768766400@mountain-na.org
SUMMARY:Stanley W. Celebrates 25 Years Clean!
DESCRIPTION:Join us in Johnson City when Stanley W. celebrates 25 years clean! Trey will be sharing his story.
URL:https://mountain-na.org/event/stanley-w-celebrates-25-years-clean/
LOCATION:End of the Road Group Facility\, 603 Sunset Drive\, Johnson City\, TN\, 37604\, United States
ATTACH;FMTTYPE=image/jpeg:https://mountain-na.org/wp-content/uploads/2023/06/NA-Cake-copy.jpeg
END:VEVENT
BEGIN:VEVENT
DTSTART;TZID=America/New_York:20260115T190000
DTEND;TZID=America/New_York:20260115T200000
DTSTAMP:20260423T193619
CREATED:20251222T200749Z
LAST-MODIFIED:20251222T200749Z
UID:2228-1768503600-1768507200@mountain-na.org
SUMMARY:Lisa L. Celebrates 2 Years Clean!
DESCRIPTION:Join us in Johnson City when Lisa L. celebrates 2 years clean.
URL:https://mountain-na.org/event/lisa-l-celebrates-2-years-clean/
LOCATION:Nothing to Fear Group Facility\, 1104 Afton St.\, Johnson City\, TN\, 37601\, United States
ATTACH;FMTTYPE=image/jpeg:https://mountain-na.org/wp-content/uploads/2025/02/IMG_0127.jpeg
END:VEVENT
BEGIN:VEVENT
DTSTART;TZID=America/New_York:20260113T190000
DTEND;TZID=America/New_York:20260113T200000
DTSTAMP:20260423T193619
CREATED:20251222T201046Z
LAST-MODIFIED:20251222T202015Z
UID:2230-1768330800-1768334400@mountain-na.org
SUMMARY:Jenora P. Celebrates 14 Years Clean!
DESCRIPTION:Join us in Johnson City when Jenora P. celebrates 14 years clean!
URL:https://mountain-na.org/event/jenora-p-celebrates-14-years-clean/
LOCATION:Nothing to Fear Group Facility\, 1104 Afton St.\, Johnson City\, TN\, 37601\, United States
ATTACH;FMTTYPE=image/jpeg:https://mountain-na.org/wp-content/uploads/2025/02/IMG_0127.jpeg
END:VEVENT
BEGIN:VEVENT
DTSTART;TZID=America/New_York:20260112T190000
DTEND;TZID=America/New_York:20260112T200000
DTSTAMP:20260423T193619
CREATED:20260103T212110Z
LAST-MODIFIED:20260103T212110Z
UID:2261-1768244400-1768248000@mountain-na.org
SUMMARY:Artie E. Celebrates 36 Years Clean!
DESCRIPTION:Join us in Johnson City when Artie celebrates 36 years clean!
URL:https://mountain-na.org/event/artie-e-celebrates-36-years-clean/
LOCATION:Miracles Happen Group Facility\, 105 S. Boone Street\, Johnson City\, TN\, 37604
ATTACH;FMTTYPE=image/jpeg:https://mountain-na.org/wp-content/uploads/2025/02/IMG_0127.jpeg
END:VEVENT
BEGIN:VEVENT
DTSTART;TZID=America/New_York:20260109T120000
DTEND;TZID=America/New_York:20260111T130000
DTSTAMP:20260423T193619
CREATED:20221213T222513Z
LAST-MODIFIED:20251117T182012Z
UID:1123-1767960000-1768136400@mountain-na.org
SUMMARY:Spiritually High in the Land of the Sky 40 - Asheville\, NC
DESCRIPTION:Spiritually High in the Land of the Sky 40 in Asheville\, NC is coming soon! Join us for a full weekend celebrating recovery in Narcotics Anonymous. \n 
URL:https://mountain-na.org/event/spiritually-high-in-the-land-of-the-sky-2023-asheville-nc/
ATTACH;FMTTYPE=image/jpeg:https://mountain-na.org/wp-content/uploads/2025/11/Podium.jpeg
END:VEVENT
BEGIN:VEVENT
DTSTART;TZID=America/New_York:20260105T190000
DTEND;TZID=America/New_York:20260105T200000
DTSTAMP:20260423T193619
CREATED:20260105T190337Z
LAST-MODIFIED:20260105T190337Z
UID:2263-1767639600-1767643200@mountain-na.org
SUMMARY:Johna W. Celebrates 18 Months Clean!
DESCRIPTION:Help us celebrate Johna W. and her 18 months clean! \nNote: Serenity Sisters is usually a women-only meeting\, however all are welcome to celebrate. 
URL:https://mountain-na.org/event/johna-w-celebrates-18-months-clean/
LOCATION:Serenity Sisters Group\, 305 Christian Church Rd.\, Boones Creek\, TN\, 37615\, United States
ATTACH;FMTTYPE=image/jpeg:https://mountain-na.org/wp-content/uploads/2025/02/IMG_0127.jpeg
END:VEVENT
BEGIN:VEVENT
DTSTART;TZID=America/New_York:20251231T180000
DTEND;TZID=America/New_York:20251231T233000
DTSTAMP:20260423T193619
CREATED:20251222T193856Z
LAST-MODIFIED:20251222T193856Z
UID:2220-1767204000-1767223800@mountain-na.org
SUMMARY:NYE Potluck and Marathon Meeting
DESCRIPTION:Join us on New Year’s Eve for a potluck dinner and marathon meeting to follow at the Nothing to Fear facility.
URL:https://mountain-na.org/event/nye-potluck-and-marathon-meeting/
LOCATION:Nothing to Fear Group Facility\, 1104 Afton St.\, Johnson City\, TN\, 37601\, United States
ATTACH;FMTTYPE=image/jpeg:https://mountain-na.org/wp-content/uploads/2021/08/iStock-1010214768.jpg
END:VEVENT
BEGIN:VEVENT
DTSTART;TZID=America/New_York:20251230T190000
DTEND;TZID=America/New_York:20251230T200000
DTSTAMP:20260423T193619
CREATED:20251222T192939Z
LAST-MODIFIED:20251222T192939Z
UID:2214-1767121200-1767124800@mountain-na.org
SUMMARY:Cheryl A. 12 Years Clean
DESCRIPTION:Come join us when we celebrate Cheryl’s 12 years
URL:https://mountain-na.org/event/cheryl-a-12-years-clean/
LOCATION:Primary Purpose Group Meeting Facility\, 201 S. Main Street\, Greeneville\, TN\, 37745\, United States
ATTACH;FMTTYPE=image/jpeg:https://mountain-na.org/wp-content/uploads/2025/02/IMG_0127.jpeg
END:VEVENT
BEGIN:VEVENT
DTSTART;TZID=America/New_York:20251209T193000
DTEND;TZID=America/New_York:20251209T203000
DTSTAMP:20260423T193619
CREATED:20251117T164539Z
LAST-MODIFIED:20251117T171506Z
UID:2187-1765308600-1765312200@mountain-na.org
SUMMARY:Public Relations & Fellowship Development Workshops
DESCRIPTION:Join us on the 2nd Tuesday of each month for discussions design to educate and assist members with PR & FD functions and issues.
URL:https://mountain-na.org/event/public-relations-fellowship-development-workshops/
LOCATION:Virtual / Zoom Meeting
ATTACH;FMTTYPE=image/png:https://mountain-na.org/wp-content/uploads/2025/11/SZF-FD-PR-Meeting.png
END:VEVENT
BEGIN:VEVENT
DTSTART;TZID=America/New_York:20251207T140000
DTEND;TZID=America/New_York:20251207T160000
DTSTAMP:20260423T193619
CREATED:20251117T041936Z
LAST-MODIFIED:20251125T161626Z
UID:2178-1765116000-1765123200@mountain-na.org
SUMMARY:H&I Committee Policy Meeting
DESCRIPTION:H&I committee members are encouraged to attend this meeting to update the current policy. You may attend in-person or virtually. \nhttps://zoom.us/j/91682540978?pwd=asRX0HpVKRl7ciOdXn53swoPdyJL8j.1 \nMeeting ID: 916 8254 0978\nPasscode: clean \n— \nOne tap mobile\n+16469313860\,\,91682540978#\,\,\,\,*001640# US\n+19292056099\,\,91682540978#\,\,\,\,*001640# US (New York) \nJoin instructions\nhttps://zoom.us/meetings/91682540978/invitations?signature=ndhc9o0IuWkrsCrCsJR3uvLvjb97gL3rFxhumXYUXPQ \n 
URL:https://mountain-na.org/event/hi-committee-policy-meeting/
LOCATION:End of the Road Group Facility\, 603 Sunset Drive\, Johnson City\, TN\, 37604\, United States
ATTACH;FMTTYPE=image/png:https://mountain-na.org/wp-content/uploads/2023/06/HI-Logo.png
ORGANIZER;CN="Hospitals & Institutions Subcommittee":MAILTO:mountainhandi@gmail.com
END:VEVENT
BEGIN:VEVENT
DTSTART;TZID=America/New_York:20251202T190000
DTEND;TZID=America/New_York:20251202T200000
DTSTAMP:20260423T193619
CREATED:20251125T161730Z
LAST-MODIFIED:20251125T161730Z
UID:2203-1764702000-1764705600@mountain-na.org
SUMMARY:Randy K 2 Years
DESCRIPTION:Come celebrate Randy’s 2-year birthday with us
URL:https://mountain-na.org/event/randy-k-2-years/
LOCATION:Primary Purpose Group Meeting Facility\, 201 S. Main Street\, Greeneville\, TN\, 37745\, United States
ATTACH;FMTTYPE=image/jpeg:https://mountain-na.org/wp-content/uploads/2025/02/IMG_0127.jpeg
END:VEVENT
BEGIN:VEVENT
DTSTART;TZID=America/New_York:20251128T090000
DTEND;TZID=America/New_York:20251130T130000
DTSTAMP:20260423T193619
CREATED:20251117T163501Z
LAST-MODIFIED:20251117T163501Z
UID:2184-1764320400-1764507600@mountain-na.org
SUMMARY:VRC 43!
DESCRIPTION:Join us in Memphis for VRC 43 during Thanksgiving weekend!
URL:https://mountain-na.org/event/vrc-43/
END:VEVENT
BEGIN:VEVENT
DTSTART;TZID=America/New_York:20251127T170000
DTEND;TZID=America/New_York:20251127T220000
DTSTAMP:20260423T193619
CREATED:20251101T193727Z
LAST-MODIFIED:20251125T161918Z
UID:2143-1764262800-1764280800@mountain-na.org
SUMMARY:Thanksgiving Newcomer Dinner
DESCRIPTION:There will be a Thanksgiving Newcomer Dinner at 5:00pm followed by a meeting at the Nothing to Fear group facility in Johnson City. \nPlease RSVP if you plan to attend so there will be plenty of food to serve. See flyer for details.
URL:https://mountain-na.org/event/thanksgiving-newcomer-dinner/
LOCATION:Nothing to Fear Group Facility\, 1104 Afton St.\, Johnson City\, TN\, 37601\, United States
ATTACH;FMTTYPE=image/jpeg:https://mountain-na.org/wp-content/uploads/2025/11/TGive-NTF.jpeg
END:VEVENT
BEGIN:VEVENT
DTSTART;TZID=America/New_York:20251124T180000
DTEND;TZID=America/New_York:20251124T200000
DTSTAMP:20260423T193619
CREATED:20251002T010043Z
LAST-MODIFIED:20251020T024626Z
UID:2102-1764007200-1764014400@mountain-na.org
SUMMARY:Pre-Thanksgiving Gratitude Dinner & Meeting
DESCRIPTION:Join us in Dandridge for a pre-Thanksgiving potluck and meeting!
URL:https://mountain-na.org/event/pre-thanksgiving-gratitude-dinner-meeting/
LOCATION:Easy Does It Group – First United Methodist Church – Dandridge\, TN\, 121 E. Meeting St.\, Dandridge\, TN\, 37725\, United States
ATTACH;FMTTYPE=image/png:https://mountain-na.org/wp-content/uploads/2025/10/Easy-Does-It-Thanksgiving-dinner-flyer-2025-scaled.png
END:VEVENT
BEGIN:VEVENT
DTSTART;TZID=America/New_York:20251123T190000
DTEND;TZID=America/New_York:20251123T200000
DTSTAMP:20260423T193619
CREATED:20251114T160507Z
LAST-MODIFIED:20251114T160507Z
UID:2171-1763924400-1763928000@mountain-na.org
SUMMARY:Tommy G. Celebrates 8 Years Clean!
DESCRIPTION:Help us celebrate Tommy G. and his 8 years clean! Stanley W. will be sharing his experience\, strength\, and hope.
URL:https://mountain-na.org/event/tommy-g-celebrates-8-years-clean/
LOCATION:End of the Road Group Facility\, 603 Sunset Drive\, Johnson City\, TN\, 37604\, United States
ATTACH;FMTTYPE=image/jpeg:https://mountain-na.org/wp-content/uploads/2025/02/IMG_0127.jpeg
END:VEVENT
BEGIN:VEVENT
DTSTART;TZID=America/New_York:20251123T190000
DTEND;TZID=America/New_York:20251123T200000
DTSTAMP:20260423T193619
CREATED:20251103T155955Z
LAST-MODIFIED:20251103T160114Z
UID:2157-1763924400-1763928000@mountain-na.org
SUMMARY:Stephen T. Celebrates One Year Clean!
DESCRIPTION:Come out to Primary Purpose on 11/23/25 to celebrate Stephen’s first year.
URL:https://mountain-na.org/event/stephen-t-celebrates-one-year-clean/
LOCATION:Primary Purpose Group Meeting Facility\, 201 S. Main Street\, Greeneville\, TN\, 37745\, United States
ATTACH;FMTTYPE=image/jpeg:https://mountain-na.org/wp-content/uploads/2025/02/IMG_0127.jpeg
END:VEVENT
BEGIN:VEVENT
DTSTART;TZID=America/New_York:20251122T100000
DTEND;TZID=America/New_York:20251122T120000
DTSTAMP:20260423T193619
CREATED:20251117T162701Z
LAST-MODIFIED:20251117T162701Z
UID:2181-1763805600-1763812800@mountain-na.org
SUMMARY:Conference Agenda Report Workshop
DESCRIPTION:All members are invited to attend a Conference Agenda Report workshop hosted by the Southern Zonal Forum. This is a great way to get educated on the motions up for consideration that your home groups will be voting on very soon. See flyer for details.
URL:https://mountain-na.org/event/conference-agenda-report-workshop/
LOCATION:Virtual / Zoom Meeting
ATTACH;FMTTYPE=image/jpeg:https://mountain-na.org/wp-content/uploads/2025/11/SZF-CAR-Virtual-Workshop.jpg
END:VEVENT
BEGIN:VEVENT
DTSTART;TZID=America/New_York:20251117T170000
DTEND;TZID=America/New_York:20251117T210000
DTSTAMP:20260423T193619
CREATED:20251103T155433Z
LAST-MODIFIED:20251103T165212Z
UID:2160-1763398800-1763413200@mountain-na.org
SUMMARY:Greene County Detention Center Volunteer Training
DESCRIPTION:If you are interested in taking meetings into the Greene County Detention Center and you have attended an H&I orientation\, then you will need to attend this facility training.
URL:https://mountain-na.org/event/greene-county-detention-center-volunteer-training/
ATTACH;FMTTYPE=image/png:https://mountain-na.org/wp-content/uploads/2023/06/HI-Logo.png
ORGANIZER;CN="Hospitals & Institutions Subcommittee":MAILTO:mountainhandi@gmail.com
END:VEVENT
BEGIN:VEVENT
DTSTART;TZID=America/New_York:20251114T190000
DTEND;TZID=America/New_York:20251114T200000
DTSTAMP:20260423T193619
CREATED:20251101T200626Z
LAST-MODIFIED:20251101T200635Z
UID:2153-1763146800-1763150400@mountain-na.org
SUMMARY:Guest Speaker: Lovely H. at Miracles Happen
DESCRIPTION:Join us in Johnson City when Lovely H. speaks.
URL:https://mountain-na.org/event/guest-speaker-lovely-h-at-miracles-happen/
LOCATION:Miracles Happen Group Facility\, 105 S. Boone Street\, Johnson City\, TN\, 37604
ATTACH;FMTTYPE=image/jpeg:https://mountain-na.org/wp-content/uploads/2025/11/Podium.jpeg
END:VEVENT
BEGIN:VEVENT
DTSTART;TZID=America/New_York:20251113T190000
DTEND;TZID=America/New_York:20251113T200000
DTSTAMP:20260423T193619
CREATED:20251101T194825Z
LAST-MODIFIED:20251101T195002Z
UID:2151-1763060400-1763064000@mountain-na.org
SUMMARY:Ben M. Celebrates 2 Years Clean!
DESCRIPTION:Join us in Johnson City when Ben M. celebrates 2 years clean! Derek H. will be speaking.
URL:https://mountain-na.org/event/ben-m-celebrates-2-years-clean-2/
LOCATION:Nothing to Fear Group Facility\, 1104 Afton St.\, Johnson City\, TN\, 37601\, United States
ATTACH;FMTTYPE=image/jpeg:https://mountain-na.org/wp-content/uploads/2025/02/IMG_0127.jpeg
END:VEVENT
BEGIN:VEVENT
DTSTART;TZID=America/New_York:20251113T190000
DTEND;TZID=America/New_York:20251113T200000
DTSTAMP:20260423T193619
CREATED:20251013T191531Z
LAST-MODIFIED:20251013T191531Z
UID:2130-1763060400-1763064000@mountain-na.org
SUMMARY:Ben M. Celebrates 2 Years Clean!
DESCRIPTION:Join us when Ben M. celebrates 2 years clean!
URL:https://mountain-na.org/event/ben-m-celebrates-2-years-clean/
LOCATION:Nothing to Fear Group Facility\, 1104 Afton St.\, Johnson City\, TN\, 37601\, United States
ATTACH;FMTTYPE=image/jpeg:https://mountain-na.org/wp-content/uploads/2025/02/IMG_0127.jpeg
END:VEVENT
BEGIN:VEVENT
DTSTART;TZID=America/New_York:20251111T190000
DTEND;TZID=America/New_York:20251111T200000
DTSTAMP:20260423T193619
CREATED:20251101T194619Z
LAST-MODIFIED:20251101T194619Z
UID:2149-1762887600-1762891200@mountain-na.org
SUMMARY:Maria R. Celebrates 26 Years Clean!
DESCRIPTION:Join us in Johnson City when Maria R. celebrates 26 years clean!
URL:https://mountain-na.org/event/maria-r-celebrates-26-years-clean-2/
LOCATION:Nothing to Fear Group Facility\, 1104 Afton St.\, Johnson City\, TN\, 37601\, United States
ATTACH;FMTTYPE=image/jpeg:https://mountain-na.org/wp-content/uploads/2025/02/IMG_0127.jpeg
END:VEVENT
END:VCALENDAR