BEGIN:VCALENDAR
VERSION:2.0
PRODID:-//Narcotics Anonymous - NA in Johnson City, Kingsport and Bristol - ECPv6.15.20//NONSGML v1.0//EN
CALSCALE:GREGORIAN
METHOD:PUBLISH
X-WR-CALNAME:Narcotics Anonymous - NA in Johnson City, Kingsport and Bristol
X-ORIGINAL-URL:https://mountain-na.org
X-WR-CALDESC:Events for Narcotics Anonymous - NA in Johnson City, Kingsport and Bristol
REFRESH-INTERVAL;VALUE=DURATION:PT1H
X-Robots-Tag:noindex
X-PUBLISHED-TTL:PT1H
BEGIN:VTIMEZONE
TZID:America/New_York
BEGIN:DAYLIGHT
TZOFFSETFROM:-0500
TZOFFSETTO:-0400
TZNAME:EDT
DTSTART:20220313T070000
END:DAYLIGHT
BEGIN:STANDARD
TZOFFSETFROM:-0400
TZOFFSETTO:-0500
TZNAME:EST
DTSTART:20221106T060000
END:STANDARD
BEGIN:DAYLIGHT
TZOFFSETFROM:-0500
TZOFFSETTO:-0400
TZNAME:EDT
DTSTART:20230312T070000
END:DAYLIGHT
BEGIN:STANDARD
TZOFFSETFROM:-0400
TZOFFSETTO:-0500
TZNAME:EST
DTSTART:20231105T060000
END:STANDARD
BEGIN:DAYLIGHT
TZOFFSETFROM:-0500
TZOFFSETTO:-0400
TZNAME:EDT
DTSTART:20240310T070000
END:DAYLIGHT
BEGIN:STANDARD
TZOFFSETFROM:-0400
TZOFFSETTO:-0500
TZNAME:EST
DTSTART:20241103T060000
END:STANDARD
BEGIN:DAYLIGHT
TZOFFSETFROM:-0500
TZOFFSETTO:-0400
TZNAME:EDT
DTSTART:20250309T070000
END:DAYLIGHT
BEGIN:STANDARD
TZOFFSETFROM:-0400
TZOFFSETTO:-0500
TZNAME:EST
DTSTART:20251102T060000
END:STANDARD
END:VTIMEZONE
BEGIN:VTIMEZONE
TZID:America/Chicago
BEGIN:DAYLIGHT
TZOFFSETFROM:-0600
TZOFFSETTO:-0500
TZNAME:CDT
DTSTART:20230312T080000
END:DAYLIGHT
BEGIN:STANDARD
TZOFFSETFROM:-0500
TZOFFSETTO:-0600
TZNAME:CST
DTSTART:20231105T070000
END:STANDARD
BEGIN:DAYLIGHT
TZOFFSETFROM:-0600
TZOFFSETTO:-0500
TZNAME:CDT
DTSTART:20240310T080000
END:DAYLIGHT
BEGIN:STANDARD
TZOFFSETFROM:-0500
TZOFFSETTO:-0600
TZNAME:CST
DTSTART:20241103T070000
END:STANDARD
BEGIN:DAYLIGHT
TZOFFSETFROM:-0600
TZOFFSETTO:-0500
TZNAME:CDT
DTSTART:20250309T080000
END:DAYLIGHT
BEGIN:STANDARD
TZOFFSETFROM:-0500
TZOFFSETTO:-0600
TZNAME:CST
DTSTART:20251102T070000
END:STANDARD
END:VTIMEZONE
BEGIN:VEVENT
DTSTART;TZID=America/New_York:20231226T200000
DTEND;TZID=America/New_York:20231226T210000
DTSTAMP:20260425T124238
CREATED:20221213T215309Z
LAST-MODIFIED:20231226T174819Z
UID:1117-1703620800-1703624400@mountain-na.org
SUMMARY:Donna S. Celebrates 36 Years Clean!
DESCRIPTION:Come join us in Abingdon as Donna S. celebrates 36 years clean!
URL:https://mountain-na.org/event/billy-t-celebrates-26-years-clean/
LOCATION:New Day Group Facility\, 124 E Main St.\, Abingdon\, TN\, 24210\, United States
ATTACH;FMTTYPE=image/jpeg:https://mountain-na.org/wp-content/uploads/2023/06/NA-Cake-copy.jpeg
END:VEVENT
BEGIN:VEVENT
DTSTART;TZID=America/New_York:20231229T190000
DTEND;TZID=America/New_York:20231229T200000
DTSTAMP:20260425T124238
CREATED:20221213T220521Z
LAST-MODIFIED:20231226T181148Z
UID:1121-1703876400-1703880000@mountain-na.org
SUMMARY:Stephanie M. Celebrates 4 Years Clean!
DESCRIPTION:Come join us as Stephanie M. celebrates 4 years clean.
URL:https://mountain-na.org/event/stephanie-m-celebrates-3-years-clean/
LOCATION:Miracles Happen Group Facility\, 105 S. Boone Street\, Johnson City\, TN\, 37604
ATTACH;FMTTYPE=image/jpeg:https://mountain-na.org/wp-content/uploads/2023/06/NA-Cake-copy.jpeg
END:VEVENT
BEGIN:VEVENT
DTSTART;TZID=America/New_York:20231231T210000
DTEND;TZID=America/New_York:20240101T010000
DTSTAMP:20260425T124238
CREATED:20231206T052952Z
LAST-MODIFIED:20231206T052952Z
UID:1418-1704056400-1704070800@mountain-na.org
SUMMARY:Ring in the New Year Clean!
DESCRIPTION:Speaker Jam\, New Year’s Countdown\, and Candle Light Meeting
URL:https://mountain-na.org/event/ring-in-the-new-year-clean/
LOCATION:End of the Road Group Facility\, 603 Sunset Drive\, Johnson City\, TN\, 37604\, United States
END:VEVENT
BEGIN:VEVENT
DTSTART;TZID=America/New_York:20240104T200000
DTEND;TZID=America/New_York:20240104T210000
DTSTAMP:20260425T124238
CREATED:20231226T180356Z
LAST-MODIFIED:20231226T180604Z
UID:1431-1704398400-1704402000@mountain-na.org
SUMMARY:Joe J. Celebrates 39 Years Clean!
DESCRIPTION:Join us in Abingdon when Joe J. celebrates 39 years clean.
URL:https://mountain-na.org/event/joe-j-celebrates-39-years-clean/
LOCATION:New Day Group Facility\, 124 E Main St.\, Abingdon\, TN\, 24210\, United States
ATTACH;FMTTYPE=image/jpeg:https://mountain-na.org/wp-content/uploads/2023/06/NA-Cake-copy.jpeg
END:VEVENT
BEGIN:VEVENT
DTSTART;TZID=America/New_York:20240104T200000
DTEND;TZID=America/New_York:20240104T210000
DTSTAMP:20260425T124238
CREATED:20231226T180818Z
LAST-MODIFIED:20231226T180818Z
UID:1433-1704398400-1704402000@mountain-na.org
SUMMARY:Phil S. Celebrates 35 Years Clean!
DESCRIPTION:Join us in Abingdon when Phil S. celebrates 35 years clean!
URL:https://mountain-na.org/event/phil-s-celebrates-35-years-clean/
LOCATION:New Day Group Facility\, 124 E Main St.\, Abingdon\, TN\, 24210\, United States
ATTACH;FMTTYPE=image/jpeg:https://mountain-na.org/wp-content/uploads/2023/06/NA-Cake-copy.jpeg
END:VEVENT
BEGIN:VEVENT
DTSTART;TZID=America/New_York:20240119T190000
DTEND;TZID=America/New_York:20240119T200000
DTSTAMP:20260425T124238
CREATED:20240118T214000Z
LAST-MODIFIED:20240118T214015Z
UID:1442-1705690800-1705694400@mountain-na.org
SUMMARY:Robin G. Celebrates 14 Years Clean!
DESCRIPTION:Join us at Miracles Happen as Robin G. celebrates 14 years clean!
URL:https://mountain-na.org/event/robin-g-celebrates-14-years-clean/
LOCATION:Miracles Happen Group Facility\, 105 S. Boone Street\, Johnson City\, TN\, 37604
ATTACH;FMTTYPE=image/jpeg:https://mountain-na.org/wp-content/uploads/2023/06/NA-Cake-copy.jpeg
END:VEVENT
BEGIN:VEVENT
DTSTART;TZID=America/New_York:20240204T190000
DTEND;TZID=America/New_York:20240204T210000
DTSTAMP:20260425T124238
CREATED:20240203T225547Z
LAST-MODIFIED:20240203T225547Z
UID:1455-1707073200-1707080400@mountain-na.org
SUMMARY:Mike F. Celebrates 33 Years Clean!
DESCRIPTION:Come join us in Marion for an eating meeting with speakers to celebrate Mike’s 33 years clean!
URL:https://mountain-na.org/event/mike-f-celebrates-33-years-clean/
LOCATION:Marion Survivor’s Group location\, 139 W. Main St.\, Marion\, VA\, 24354\, United States
END:VEVENT
BEGIN:VEVENT
DTSTART;TZID=America/New_York:20240210T140000
DTEND;TZID=America/New_York:20240210T170000
DTSTAMP:20260425T124238
CREATED:20240118T221118Z
LAST-MODIFIED:20240118T221118Z
UID:1447-1707573600-1707584400@mountain-na.org
SUMMARY:Valentine's Relationships in Recovery Speaker Jam!
DESCRIPTION:Join us in Elizabethton for a speaker jam focusing on relationships in recovery.
URL:https://mountain-na.org/event/valentines-relationships-in-recovery-speaker-jam/
LOCATION:Recovering Spirituality Group Facility\, 119 West F Street\, Elizabethton\, TN\, 37643\, United States
END:VEVENT
BEGIN:VEVENT
DTSTART;TZID=America/New_York:20240211T190000
DTEND;TZID=America/New_York:20240211T200000
DTSTAMP:20260425T124238
CREATED:20230128T172252Z
LAST-MODIFIED:20240205T024133Z
UID:1167-1707678000-1707681600@mountain-na.org
SUMMARY:Dale D. Celebrates His First Year Clean!
DESCRIPTION:Join at Miracles Happen when Dale D. celebrates his 1st year clean.
URL:https://mountain-na.org/event/monthly-speaker-meeting-in-greeneville-terry-f/
LOCATION:Miracles Happen Group Facility\, 105 S. Boone Street\, Johnson City\, TN\, 37604
ATTACH;FMTTYPE=image/jpeg:https://mountain-na.org/wp-content/uploads/2023/06/NA-Cake-copy.jpeg
END:VEVENT
BEGIN:VEVENT
DTSTART;TZID=America/New_York:20240304T190000
DTEND;TZID=America/New_York:20240304T200000
DTSTAMP:20260425T124238
CREATED:20240203T230257Z
LAST-MODIFIED:20240203T230751Z
UID:1458-1709578800-1709582400@mountain-na.org
SUMMARY:Polina K. Celebrates 4 Years Clean!
DESCRIPTION:Come join us when Polina celebrates 4 years clean. The meeting format will be Walk Across.
URL:https://mountain-na.org/event/polina-k-celebrates-4-years-clean/
LOCATION:Serenity Sisters Group\, 305 Christian Church Rd.\, Boones Creek\, TN\, 37615\, United States
ATTACH;FMTTYPE=image/jpeg:https://mountain-na.org/wp-content/uploads/2023/06/NA-Cake-copy.jpeg
END:VEVENT
BEGIN:VEVENT
DTSTART;TZID=America/New_York:20240311T190000
DTEND;TZID=America/New_York:20240311T200000
DTSTAMP:20260425T124238
CREATED:20240219T031759Z
LAST-MODIFIED:20240219T034730Z
UID:1471-1710183600-1710187200@mountain-na.org
SUMMARY:Sarah S. Celebrates 5 Years Clean!
DESCRIPTION:Join us when Sarah S. celebrates 5 years clean. Matt M. will be sharing his story.
URL:https://mountain-na.org/event/sarah-s-celebrates-5-years-clean/
LOCATION:Serenity Sisters Group\, 305 Christian Church Rd.\, Boones Creek\, TN\, 37615\, United States
ATTACH;FMTTYPE=image/jpeg:https://mountain-na.org/wp-content/uploads/2023/06/NA-Cake-copy.jpeg
END:VEVENT
BEGIN:VEVENT
DTSTART;TZID=America/New_York:20240317T190000
DTEND;TZID=America/New_York:20240317T200000
DTSTAMP:20260425T124238
CREATED:20230305T230238Z
LAST-MODIFIED:20240312T001817Z
UID:1197-1710702000-1710705600@mountain-na.org
SUMMARY:Kahla C. Celebrates 6 Years Clean!
DESCRIPTION:Join us at the End of the Road group when Kahla C. celebrates 6 years clean. Brenda B. will be sharing her story.
URL:https://mountain-na.org/event/kahla-c-celebrates-5-years-clean/
LOCATION:End of the Road Group Facility\, 603 Sunset Drive\, Johnson City\, TN\, 37604\, United States
ATTACH;FMTTYPE=image/jpeg:https://mountain-na.org/wp-content/uploads/2023/06/NA-Cake-copy.jpeg
END:VEVENT
BEGIN:VEVENT
DTSTART;TZID=America/New_York:20240323T140000
DTEND;TZID=America/New_York:20240323T153000
DTSTAMP:20260425T124238
CREATED:20240204T170907Z
LAST-MODIFIED:20240204T170907Z
UID:1460-1711202400-1711207800@mountain-na.org
SUMMARY:NAWS H&I Webinar - Revitalizing H&I Service
DESCRIPTION:Please join us with others from around the world for an open webinar on revitalizing H&I service.
URL:https://mountain-na.org/event/naws-hi-webinar-revitalizing-hi-service/
LOCATION:Virtual / Zoom Meeting
END:VEVENT
BEGIN:VEVENT
DTSTART;TZID=America/New_York:20240323T190000
DTEND;TZID=America/New_York:20240323T200000
DTSTAMP:20260425T124238
CREATED:20220208T175343Z
LAST-MODIFIED:20240311T234136Z
UID:901-1711220400-1711224000@mountain-na.org
SUMMARY:Ken B. Celebrates 38 Years Clean!
DESCRIPTION:Join us as in Kingsport when Ken B. celebrates 38 years clean!
URL:https://mountain-na.org/event/stanley-w-celebrates-21-years-clean/
LOCATION:New Way of Life Group Facility – Prospect Center\, 1425 E Center Street\, Kingsport\, TN\, 37664\, United States
ATTACH;FMTTYPE=image/jpeg:https://mountain-na.org/wp-content/uploads/2023/06/NA-Cake-copy.jpeg
END:VEVENT
BEGIN:VEVENT
DTSTART;TZID=America/New_York:20240323T190000
DTEND;TZID=America/New_York:20240430T200000
DTSTAMP:20260425T124238
CREATED:20240323T213312Z
LAST-MODIFIED:20240323T213609Z
UID:1498-1711220400-1714507200@mountain-na.org
SUMMARY:New Meeting in Rogersville!
DESCRIPTION:Hawkins County Hope Dealers meeting now meets at 7:00 pm on the 2nd and 4th Saturdays of each month at 110 N. Brownlow St. in Rogersville\, TN. Please check out and support this new vibrant meeting.
URL:https://mountain-na.org/event/new-meeting-in-rogersville/
END:VEVENT
BEGIN:VEVENT
DTSTART;TZID=America/New_York:20240328T190000
DTEND;TZID=America/New_York:20240328T200000
DTSTAMP:20260425T124238
CREATED:20230409T180352Z
LAST-MODIFIED:20240311T235357Z
UID:1228-1711652400-1711656000@mountain-na.org
SUMMARY:Jake C. Celebrates His 1st Year Clean!
DESCRIPTION:Join us in Greeneville when Jake C. celebrates his first anniversary clean!
URL:https://mountain-na.org/event/jennifer-n-celebrates-5-years-clean/
LOCATION:Primary Purpose Group Meeting Facility\, 201 S. Main Street\, Greeneville\, TN\, 37745\, United States
ATTACH;FMTTYPE=image/jpeg:https://mountain-na.org/wp-content/uploads/2023/06/NA-Cake-copy.jpeg
END:VEVENT
BEGIN:VEVENT
DTSTART;TZID=America/New_York:20240421T140000
DTEND;TZID=America/New_York:20240421T143000
DTSTAMP:20260425T124238
CREATED:20230421T005535Z
LAST-MODIFIED:20240323T212640Z
UID:1236-1713708000-1713709800@mountain-na.org
SUMMARY:MANA Policy Subcommittee
DESCRIPTION:The Policy and Procedures Subcommittee announces its monthly subcommittee meeting. Come learn how to get involved with policy in the MANA area. The P&P subcommittee is also available as a resource for groups with questions regarding area policy or help constructing group policy. \nContact Catherine P with any questions or for more info: catherinep.naserv@gmail.com
URL:https://mountain-na.org/event/policy-subcommittee-virtual-meeting/
LOCATION:Nothing to Fear Group Facility\, 1104 Afton St.\, Johnson City\, TN\, 37601\, United States
END:VEVENT
BEGIN:VEVENT
DTSTART;TZID=America/New_York:20240429T190000
DTEND;TZID=America/New_York:20240429T200000
DTSTAMP:20260425T124238
CREATED:20230716T163119Z
LAST-MODIFIED:20240325T002551Z
UID:1319-1714417200-1714420800@mountain-na.org
SUMMARY:Kate A. Celebrates 3 Years Clean!
DESCRIPTION:Join us as Kate A. celebrates 3 years clean.
URL:https://mountain-na.org/event/amanda-b-celebrates-2-years-clean/
LOCATION:Serenity Sisters Group\, 305 Christian Church Rd.\, Boones Creek\, TN\, 37615\, United States
ATTACH;FMTTYPE=image/jpeg:https://mountain-na.org/wp-content/uploads/2023/06/NA-Cake-copy.jpeg
END:VEVENT
BEGIN:VEVENT
DTSTART;TZID=America/New_York:20240503T190000
DTEND;TZID=America/New_York:20240503T200000
DTSTAMP:20260425T124238
CREATED:20230426T005410Z
LAST-MODIFIED:20240503T172806Z
UID:1255-1714762800-1714766400@mountain-na.org
SUMMARY:Terry F. Celebrates 24 Years Clean!
DESCRIPTION:Join us when Terry F. Celebrates 24 years clean. Melanie H. will be sharing her story during the meeting.
URL:https://mountain-na.org/event/terry-f-celebrates-23-years-clean/
LOCATION:Miracles Happen Group Facility\, 105 S. Boone Street\, Johnson City\, TN\, 37604
ATTACH;FMTTYPE=image/jpeg:https://mountain-na.org/wp-content/uploads/2023/06/NA-Cake-copy.jpeg
END:VEVENT
BEGIN:VEVENT
DTSTART;TZID=America/Chicago:20240504T110000
DTEND;TZID=America/Chicago:20240504T190000
DTSTAMP:20260425T124238
CREATED:20240204T195200Z
LAST-MODIFIED:20240406T163024Z
UID:1463-1714820400-1714849200@mountain-na.org
SUMMARY:Volunteer Regional Assembly and Learning Day
DESCRIPTION:It’s time again for the Volunteer Region Assembly. This is the time set aside for members from across the region to gather to discuss specific issues to be discussed at the World Service Conference. GSRs and all other trusted servants at all levels are strongly encouraged to attend in person or virtually on Zoom. Topics formulating future policies and contributions to NA literature to be discussed this year include: \n\nGender Neutral and Inclusive Language in NA Literature\nDealing with Disruptive and Predatory Behavior\nDRT/MAT as it Relates to NA\n\nMake sure your voice and the voice of your group is heard! \n*Times listed on flyer are for the Central Time Zone*
URL:https://mountain-na.org/event/volunteer-regional-assembly/
END:VEVENT
BEGIN:VEVENT
DTSTART;TZID=America/New_York:20240504T140000
DTEND;TZID=America/New_York:20240504T170000
DTSTAMP:20260425T124238
CREATED:20240406T163241Z
LAST-MODIFIED:20240416T200213Z
UID:1507-1714831200-1714842000@mountain-na.org
SUMMARY:Taco Bout Traditions!
DESCRIPTION:
URL:https://mountain-na.org/event/taco-bout-traditions/
LOCATION:Miracles Happen Group Facility\, 105 S. Boone Street\, Johnson City\, TN\, 37604
END:VEVENT
BEGIN:VEVENT
DTSTART;TZID=America/New_York:20240507T190000
DTEND;TZID=America/New_York:20240507T200000
DTSTAMP:20260425T124238
CREATED:20240503T173641Z
LAST-MODIFIED:20240503T173937Z
UID:1512-1715108400-1715112000@mountain-na.org
SUMMARY:Kris B. Celebrates 8 Years Clean!
DESCRIPTION:Join us when Kris B. picks up 8 years and Sherri A. shares her story.
URL:https://mountain-na.org/event/kris-b-celebrates-8-years-clean/
LOCATION:Nothing to Fear Group Facility\, 1104 Afton St.\, Johnson City\, TN\, 37601\, United States
ATTACH;FMTTYPE=image/jpeg:https://mountain-na.org/wp-content/uploads/2023/06/NA-Cake-copy.jpeg
END:VEVENT
BEGIN:VEVENT
DTSTART;TZID=America/New_York:20240527T190000
DTEND;TZID=America/New_York:20240527T200000
DTSTAMP:20260425T124238
CREATED:20240520T020749Z
LAST-MODIFIED:20240520T020749Z
UID:1534-1716836400-1716840000@mountain-na.org
SUMMARY:Chelsea D. Celebrates 8 Years Clean!
DESCRIPTION:Join us at Serenity Sisters when Chelsea D. celebrates 8 years clean!
URL:https://mountain-na.org/event/chelsea-d-celebrates-8-years-clean/
LOCATION:Serenity Sisters Group\, 305 Christian Church Rd.\, Boones Creek\, TN\, 37615\, United States
ATTACH;FMTTYPE=image/jpeg:https://mountain-na.org/wp-content/uploads/2023/06/NA-Cake-copy.jpeg
END:VEVENT
BEGIN:VEVENT
DTSTART;TZID=America/New_York:20240602T140000
DTEND;TZID=America/New_York:20240602T160000
DTSTAMP:20260425T124238
CREATED:20230421T013441Z
LAST-MODIFIED:20240323T212327Z
UID:1253-1717336800-1717344000@mountain-na.org
SUMMARY:Sunday Volleyball at Kiwanis Park
DESCRIPTION:Join us for an afternoon of volleyball at Kiwanis Park! \n 
URL:https://mountain-na.org/event/sunday-volleyball-at-kiwanis-park-2/
LOCATION:Kiwanis Park – Johnson City\, 821 West Market Street\, Johnson City\, TN\, 37604\, United States
END:VEVENT
BEGIN:VEVENT
DTSTART;TZID=America/New_York:20240619T190000
DTEND;TZID=America/New_York:20240619T200000
DTSTAMP:20260425T124238
CREATED:20240610T025044Z
LAST-MODIFIED:20240610T025522Z
UID:1543-1718823600-1718827200@mountain-na.org
SUMMARY:Kim B. Celebrates 11 Years Clean!
DESCRIPTION:Join us at the End of the Road group when Kim B. celebrates 11 years clean.
URL:https://mountain-na.org/event/kim-b-celebrates-11-years-clean/
LOCATION:End of the Road Group Facility\, 603 Sunset Drive\, Johnson City\, TN\, 37604\, United States
ATTACH;FMTTYPE=image/jpeg:https://mountain-na.org/wp-content/uploads/2023/06/NA-Cake-copy.jpeg
END:VEVENT
BEGIN:VEVENT
DTSTART;TZID=America/New_York:20240624T190000
DTEND;TZID=America/New_York:20240624T200000
DTSTAMP:20260425T124238
CREATED:20240520T015557Z
LAST-MODIFIED:20240610T030438Z
UID:1528-1719255600-1719259200@mountain-na.org
SUMMARY:Danielle H. Celebrates 1 Year Clean!
DESCRIPTION:Join us at Serenity Sisters when Danielle H. celebrates her first year clean!
URL:https://mountain-na.org/event/danielle-h-celebrates-1-year-clean/
LOCATION:Serenity Sisters Group\, 305 Christian Church Rd.\, Boones Creek\, TN\, 37615\, United States
END:VEVENT
BEGIN:VEVENT
DTSTART;TZID=America/New_York:20240626T190000
DTEND;TZID=America/New_York:20240626T200000
DTSTAMP:20260425T124238
CREATED:20240520T021323Z
LAST-MODIFIED:20240520T021600Z
UID:1538-1719428400-1719432000@mountain-na.org
SUMMARY:Lexee C. Celebrates 3 Years Clean!
DESCRIPTION:Join us at End of the Road when Lexee C. celebrates 3 years clean! Brooke B. will be sharing her story.
URL:https://mountain-na.org/event/lexee-c-celebrates-3-years-clean/
ATTACH;FMTTYPE=image/jpeg:https://mountain-na.org/wp-content/uploads/2023/06/NA-Cake-copy.jpeg
END:VEVENT
BEGIN:VEVENT
DTSTART;TZID=America/New_York:20240718T190000
DTEND;TZID=America/New_York:20240718T200000
DTSTAMP:20260425T124238
CREATED:20240610T025726Z
LAST-MODIFIED:20240703T013342Z
UID:1547-1721329200-1721332800@mountain-na.org
SUMMARY:Dylan P. Celebrates 2 Years Clean!
DESCRIPTION:Join us at the Nothing to Fear group when Dylan celebrates 2 years clean. Mike H. from Asheville will be sharing his story.
URL:https://mountain-na.org/event/alan-celebrates-2-years-clean/
LOCATION:Nothing to Fear Group Facility\, 1104 Afton St.\, Johnson City\, TN\, 37601\, United States
ATTACH;FMTTYPE=image/jpeg:https://mountain-na.org/wp-content/uploads/2023/06/NA-Cake-copy.jpeg
END:VEVENT
BEGIN:VEVENT
DTSTART;TZID=America/New_York:20240719T190000
DTEND;TZID=America/New_York:20240719T200000
DTSTAMP:20260425T124238
CREATED:20240610T030940Z
LAST-MODIFIED:20240610T031051Z
UID:1551-1721415600-1721419200@mountain-na.org
SUMMARY:Kenna G. Celebrates 8 Years Clean!
DESCRIPTION:Join us when Kenna celebrates 8 years clean. Leah L. will be sharing her story.
URL:https://mountain-na.org/event/kenna-g-celebrates-8-years-clean/
LOCATION:Miracles Happen Group Facility\, 105 S. Boone Street\, Johnson City\, TN\, 37604
ATTACH;FMTTYPE=image/jpeg:https://mountain-na.org/wp-content/uploads/2023/06/NA-Cake-copy.jpeg
END:VEVENT
BEGIN:VEVENT
DTSTART;TZID=America/New_York:20240720T150000
DTEND;TZID=America/New_York:20240720T170000
DTSTAMP:20260425T124238
CREATED:20240705T151427Z
LAST-MODIFIED:20240705T151427Z
UID:1561-1721487600-1721494800@mountain-na.org
SUMMARY:la Dolce Vita! Italian Dish Cook off.
DESCRIPTION:Join us for an Italian Eating Meeting!
URL:https://mountain-na.org/event/la-dolce-vita-italian-dish-cook-off/
LOCATION:Miracles Happen Group Facility\, 105 S. Boone Street\, Johnson City\, TN\, 37604
END:VEVENT
END:VCALENDAR