BEGIN:VCALENDAR
VERSION:2.0
PRODID:-//Narcotics Anonymous - NA in Johnson City, Kingsport and Bristol - ECPv6.15.20//NONSGML v1.0//EN
CALSCALE:GREGORIAN
METHOD:PUBLISH
X-ORIGINAL-URL:https://mountain-na.org
X-WR-CALDESC:Events for Narcotics Anonymous - NA in Johnson City, Kingsport and Bristol
REFRESH-INTERVAL;VALUE=DURATION:PT1H
X-Robots-Tag:noindex
X-PUBLISHED-TTL:PT1H
BEGIN:VTIMEZONE
TZID:America/New_York
BEGIN:DAYLIGHT
TZOFFSETFROM:-0500
TZOFFSETTO:-0400
TZNAME:EDT
DTSTART:20250309T070000
END:DAYLIGHT
BEGIN:STANDARD
TZOFFSETFROM:-0400
TZOFFSETTO:-0500
TZNAME:EST
DTSTART:20251102T060000
END:STANDARD
BEGIN:DAYLIGHT
TZOFFSETFROM:-0500
TZOFFSETTO:-0400
TZNAME:EDT
DTSTART:20260308T070000
END:DAYLIGHT
BEGIN:STANDARD
TZOFFSETFROM:-0400
TZOFFSETTO:-0500
TZNAME:EST
DTSTART:20261101T060000
END:STANDARD
BEGIN:DAYLIGHT
TZOFFSETFROM:-0500
TZOFFSETTO:-0400
TZNAME:EDT
DTSTART:20270314T070000
END:DAYLIGHT
BEGIN:STANDARD
TZOFFSETFROM:-0400
TZOFFSETTO:-0500
TZNAME:EST
DTSTART:20271107T060000
END:STANDARD
END:VTIMEZONE
BEGIN:VEVENT
DTSTART;TZID=America/New_York:20260425T150000
DTEND;TZID=America/New_York:20260425T180000
DTSTAMP:20260423T101719
CREATED:20260408T181301Z
LAST-MODIFIED:20260409T132350Z
UID:2507-1777129200-1777140000@mountain-na.org
SUMMARY:Sponsor/Sponsee Speaker Meeting & Dinner
DESCRIPTION:Join us in Johnson City for this UITM sponsored event.
URL:https://mountain-na.org/event/sponsor-sponsee-speaker-meeting-dinner/
LOCATION:Miracles Happen Group Facility\, 105 S. Boone Street\, Johnson City\, TN\, 37604
ATTACH;FMTTYPE=image/png:https://mountain-na.org/wp-content/uploads/2026/04/89542D16-CBEF-48BE-9DB3-6601013E94EE.png
END:VEVENT
BEGIN:VEVENT
DTSTART;TZID=America/New_York:20260426T190000
DTEND;TZID=America/New_York:20260426T200000
DTSTAMP:20260423T101719
CREATED:20260307T223031Z
LAST-MODIFIED:20260307T223031Z
UID:2388-1777230000-1777233600@mountain-na.org
SUMMARY:Tayler C. Celebrates 1 Year Clean!
DESCRIPTION:Join us in Johnson City when Tayler celebrates 1 year clean.
URL:https://mountain-na.org/event/tayler-c-celebrates-1-year-clean/
LOCATION:End of the Road Group Facility\, 603 Sunset Drive\, Johnson City\, TN\, 37604\, United States
ATTACH;FMTTYPE=image/jpeg:https://mountain-na.org/wp-content/uploads/2025/02/IMG_0127.jpeg
END:VEVENT
BEGIN:VEVENT
DTSTART;TZID=America/New_York:20260427T190000
DTEND;TZID=America/New_York:20260427T200000
DTSTAMP:20260423T101719
CREATED:20260315T202600Z
LAST-MODIFIED:20260419T194747Z
UID:2410-1777316400-1777320000@mountain-na.org
SUMMARY:Megan P. & Brooke B. Celebrate 1 Year Clean!
DESCRIPTION:Help us celebrate Megan P. and Brooke B. and their 1 year clean! Serenity Sisters celebrations are open to everyone.
URL:https://mountain-na.org/event/megan-p-celebrates-1-year-clean-2/
LOCATION:Serenity Sisters Group\, 305 Christian Church Rd.\, Boones Creek\, TN\, 37615\, United States
ATTACH;FMTTYPE=image/jpeg:https://mountain-na.org/wp-content/uploads/2025/02/IMG_0127.jpeg
END:VEVENT
BEGIN:VEVENT
DTSTART;TZID=America/New_York:20260502T223000
DTEND;TZID=America/New_York:20260502T233000
DTSTAMP:20260423T101719
CREATED:20260419T145107Z
LAST-MODIFIED:20260419T145138Z
UID:2521-1777761000-1777764600@mountain-na.org
SUMMARY:NA World Unity Day Presentations - Speaker Meeting
DESCRIPTION:World Unity Day(s) will be celebrated fully over two consecutive weekends with speakers from around the world and special NA History presentations. The meetings will begin at 10:30 pm EDT and may be accessed via Zoom. \nMeeting ID: 883 0100 5069  Passcode: 1953
URL:https://mountain-na.org/event/na-world-unity-day-presentations-speaker-meeting/
LOCATION:Virtual / Zoom Meeting
ATTACH;FMTTYPE=image/png:https://mountain-na.org/wp-content/uploads/2026/04/Unity-Day-scaled.png
END:VEVENT
BEGIN:VEVENT
DTSTART;TZID=America/New_York:20260503T223000
DTEND;TZID=America/New_York:20260503T233000
DTSTAMP:20260423T101719
CREATED:20260419T145427Z
LAST-MODIFIED:20260419T145427Z
UID:2526-1777847400-1777851000@mountain-na.org
SUMMARY:NA World Unity Day Presentations - NA History
DESCRIPTION:World Unity Day(s) will be celebrated fully over two consecutive weekends with speakers from around the world and special NA History presentations. The meetings will begin at 10:30 pm EDT and may be accessed via Zoom. \nMeeting ID: 883 0100 5069  Passcode: 1953
URL:https://mountain-na.org/event/na-world-unity-day-presentations-na-history/
LOCATION:Virtual / Zoom Meeting
ATTACH;FMTTYPE=image/png:https://mountain-na.org/wp-content/uploads/2026/04/Unity-Day-scaled.png
END:VEVENT
BEGIN:VEVENT
DTSTART;TZID=America/New_York:20260504T223000
DTEND;TZID=America/New_York:20260504T233000
DTSTAMP:20260423T101719
CREATED:20260419T145508Z
LAST-MODIFIED:20260419T150727Z
UID:2528-1777933800-1777937400@mountain-na.org
SUMMARY:NA World Unity Day Presentations - NA History
DESCRIPTION:World Unity Day(s) will be celebrated fully over two consecutive weekends with speakers from around the world and special NA History presentations. The meetings will begin at 10:30 pm EDT and may be accessed via Zoom. \nMeeting ID: 883 0100 5069  Passcode: 1953
URL:https://mountain-na.org/event/na-world-unity-day-presentations-na-history-2/
LOCATION:Virtual / Zoom Meeting
ATTACH;FMTTYPE=image/png:https://mountain-na.org/wp-content/uploads/2026/04/Unity-Day-scaled.png
END:VEVENT
BEGIN:VEVENT
DTSTART;TZID=America/New_York:20260505T190000
DTEND;TZID=America/New_York:20260505T200000
DTSTAMP:20260423T101719
CREATED:20260403T133938Z
LAST-MODIFIED:20260403T134719Z
UID:2500-1778007600-1778011200@mountain-na.org
SUMMARY:Aaron H. Celebrates 2 Years Clean!
DESCRIPTION:Join us in Kingsport when Aaron H. celebrates 2 years clean. There will be cake.
URL:https://mountain-na.org/event/aaron-h-celebrates-2-years-clean/
LOCATION:New Way of Life Group Facility – Prospect Center\, 1425 E Center Street\, Kingsport\, TN\, 37664\, United States
ATTACH;FMTTYPE=image/jpeg:https://mountain-na.org/wp-content/uploads/2025/02/IMG_0127.jpeg
END:VEVENT
BEGIN:VEVENT
DTSTART;TZID=America/New_York:20260506T190000
DTEND;TZID=America/New_York:20260506T200000
DTSTAMP:20260423T101719
CREATED:20260307T223159Z
LAST-MODIFIED:20260307T223302Z
UID:2390-1778094000-1778097600@mountain-na.org
SUMMARY:Courtney P. Celebrates 1 Year Clean!
DESCRIPTION:Join us in Johnson City when Courtney celebrates 1 year clean.
URL:https://mountain-na.org/event/courtney-p-celebrates-1-year-clean/
LOCATION:End of the Road Group Facility\, 603 Sunset Drive\, Johnson City\, TN\, 37604\, United States
ATTACH;FMTTYPE=image/jpeg:https://mountain-na.org/wp-content/uploads/2025/02/IMG_0127.jpeg
END:VEVENT
BEGIN:VEVENT
DTSTART;TZID=America/New_York:20260509T130000
DTEND;TZID=America/New_York:20260509T173000
DTSTAMP:20260423T101719
CREATED:20260403T014827Z
LAST-MODIFIED:20260403T015447Z
UID:2475-1778331600-1778347800@mountain-na.org
SUMMARY:Milestone Speaker Jam
DESCRIPTION:Join us in Johnson City for an afternoon of recovery\, celebration\, experience\, strength\, and hope!
URL:https://mountain-na.org/event/milestone-speaker-jam/
LOCATION:End of the Road Group Facility\, 603 Sunset Drive\, Johnson City\, TN\, 37604\, United States
ATTACH;FMTTYPE=image/png:https://mountain-na.org/wp-content/uploads/2026/04/Speaker-Jam-2026.png
END:VEVENT
BEGIN:VEVENT
DTSTART;TZID=America/New_York:20260509T223000
DTEND;TZID=America/New_York:20260509T233000
DTSTAMP:20260423T101719
CREATED:20260419T145235Z
LAST-MODIFIED:20260419T145235Z
UID:2524-1778365800-1778369400@mountain-na.org
SUMMARY:NA World Unity Day Presentations - Speaker Meeting
DESCRIPTION:World Unity Day(s) will be celebrated fully over two consecutive weekends with speakers from around the world and special NA History presentations. The meetings will begin at 10:30 pm EDT and may be accessed via Zoom. \nMeeting ID: 883 0100 5069  Passcode: 1953
URL:https://mountain-na.org/event/na-world-unity-day-presentations-speaker-meeting-2/
LOCATION:Virtual / Zoom Meeting
ATTACH;FMTTYPE=image/png:https://mountain-na.org/wp-content/uploads/2026/04/Unity-Day-scaled.png
END:VEVENT
BEGIN:VEVENT
DTSTART;TZID=America/New_York:20260522T100000
DTEND;TZID=America/New_York:20260525T180000
DTSTAMP:20260423T101719
CREATED:20211114T230716Z
LAST-MODIFIED:20260408T180831Z
UID:783-1779444000-1779732000@mountain-na.org
SUMMARY:Marion Survivors Group Spring Weekend Campout
DESCRIPTION:Join us for fun\, food\, & fellowship! \n\nCamp Fire Speaker Meetings\nPavilion w/ picnic tables\nSmall kitchen\nBathrooms\nSpaces available for Tents\, Small Campers\, & RV’s (no hook ups)\n“Creek & Log Cabins” may be rented from Hungry Mother Lutheran Camp. Check their site for details.\n$5.00 per night per person to camp\n$10.00 per night per person for a bed bed in the bunk house\, linens not provided\n\n*Narcotics Anonymous is not affiliated with the Hungry Mother Lutheran Camp \nContact: Mike Fisher Home 276-646-8462; Cell 276-356-3878 \n 
URL:https://mountain-na.org/event/marion-survivors-group-memorial-day-weekend-campout/
LOCATION:Hungry Mother Lutheran Retreat Center\, 772 East Hungry Mother Drive\, Marion\, VA\, 24354\, United States
ATTACH;FMTTYPE=image/jpeg:https://mountain-na.org/wp-content/uploads/2026/04/Marion-campout-May-2026.jpg
END:VEVENT
BEGIN:VEVENT
DTSTART;TZID=America/New_York:20260620T100000
DTEND;TZID=America/New_York:20260620T180000
DTSTAMP:20260423T101719
CREATED:20230421T011104Z
LAST-MODIFIED:20260403T020925Z
UID:1246-1781949600-1781978400@mountain-na.org
SUMMARY:New Day Group's 21st Annual Lakeshore Picnic
DESCRIPTION:Come join us for a day on the lake with food\, fun\, and fellowship. Washington County\, VA Park Shelter #4
URL:https://mountain-na.org/event/new-day-groups-18th-annual-lakeshore-picnic/
LOCATION:Washington County VA Park\, 19482 County Park Rd\, Abingdon\, VA\, 24211\, United States
END:VEVENT
END:VCALENDAR