BEGIN:VCALENDAR
VERSION:2.0
PRODID:-//Narcotics Anonymous - NA in Johnson City, Kingsport and Bristol - ECPv6.15.20//NONSGML v1.0//EN
CALSCALE:GREGORIAN
METHOD:PUBLISH
X-ORIGINAL-URL:https://mountain-na.org
X-WR-CALDESC:Events for Narcotics Anonymous - NA in Johnson City, Kingsport and Bristol
REFRESH-INTERVAL;VALUE=DURATION:PT1H
X-Robots-Tag:noindex
X-PUBLISHED-TTL:PT1H
BEGIN:VTIMEZONE
TZID:America/New_York
BEGIN:DAYLIGHT
TZOFFSETFROM:-0500
TZOFFSETTO:-0400
TZNAME:EDT
DTSTART:20250309T070000
END:DAYLIGHT
BEGIN:STANDARD
TZOFFSETFROM:-0400
TZOFFSETTO:-0500
TZNAME:EST
DTSTART:20251102T060000
END:STANDARD
BEGIN:DAYLIGHT
TZOFFSETFROM:-0500
TZOFFSETTO:-0400
TZNAME:EDT
DTSTART:20260308T070000
END:DAYLIGHT
BEGIN:STANDARD
TZOFFSETFROM:-0400
TZOFFSETTO:-0500
TZNAME:EST
DTSTART:20261101T060000
END:STANDARD
BEGIN:DAYLIGHT
TZOFFSETFROM:-0500
TZOFFSETTO:-0400
TZNAME:EDT
DTSTART:20270314T070000
END:DAYLIGHT
BEGIN:STANDARD
TZOFFSETFROM:-0400
TZOFFSETTO:-0500
TZNAME:EST
DTSTART:20271107T060000
END:STANDARD
END:VTIMEZONE
BEGIN:VEVENT
DTSTART;TZID=America/New_York:20260209T080000
DTEND;TZID=America/New_York:20260327T233000
DTSTAMP:20260423T193619
CREATED:20260209T161648Z
LAST-MODIFIED:20260219T212454Z
UID:2344-1770624000-1774654200@mountain-na.org
SUMMARY:NA World Service Conference: 2026 CAR & CAT
DESCRIPTION:The purpose of the conference is to define and take action according to the group conscience of Narcotics Anonymous and fulfill the WSC Mission Statement: to honor the spiritual principles of NA’s Twelve Steps\, Traditions\, and Concepts for Service; and to use resources efficiently to sustain its functions. \n2026 Conference Agenda Report (CAR) \n2026 Conference Agenda Track (CAT) \n2026–2029 proposed project plans This cycle we are proposing ten projects: • Fellowship Awareness and Engagement with PR Service • Raising Public Awareness of NA • New Recovery Informational Pamphlets • Revising Existing Recovery Informational Pamphlets • Issue Discussion Topics (IDTs) • New and Revised Service Tools • Safety and Belonging/Gender-Neutral Language • DRT/MAT—Helping Members Take Root • Generational and Cultural Diversity • Three-Year Conference Cycle \nThe group voting deadline to the region is 3/27/26. The tally sheet voting link will be posted when it’s open.
URL:https://mountain-na.org/event/na-world-service-conference-2026-car-cat/
ATTACH;FMTTYPE=image/jpeg:https://mountain-na.org/wp-content/uploads/2023/02/I-Serve-Pin.jpeg
END:VEVENT
BEGIN:VEVENT
DTSTART;TZID=America/New_York:20260209T080000
DTEND;TZID=America/New_York:20260401T233000
DTSTAMP:20260423T193619
CREATED:20260209T153134Z
LAST-MODIFIED:20260307T220738Z
UID:2342-1770624000-1775086200@mountain-na.org
SUMMARY:NA World Services Surveys: Seeking Input from All Members
DESCRIPTION:Got opinions on issues such as gender-neutral language? MAT/MRT and NA membership? Future literature topics and many other items? Then\, you need to make your voice heard and complete the survey today! \nNAWS surveys are opportunities for members to share their views and help shape the projects planned for future conference cycles. \nVoting and input deadline: April 1\, 2026 \nCurrent Surveys: Conference Agenda; Gender-Neutral and Inclusive Language; DRT/MAT in NA – Helping Members Take Root; H&I Basics \nParticipation is essential to unity\, and it’s also how we start to feel like we belong. \n-Guiding Principles\, p. 6
URL:https://mountain-na.org/event/na-world-services-surveys-seeking-input-from-all-members/
ATTACH;FMTTYPE=image/jpeg:https://mountain-na.org/wp-content/uploads/2023/02/I-Serve-Pin.jpeg
END:VEVENT
BEGIN:VEVENT
DTSTART;TZID=America/New_York:20260209T190000
DTEND;TZID=America/New_York:20260209T200000
DTSTAMP:20260423T193619
CREATED:20260118T193231Z
LAST-MODIFIED:20260118T193231Z
UID:2289-1770663600-1770667200@mountain-na.org
SUMMARY:Ricki S. Celebrates 18 Months Clean!
DESCRIPTION:Help us celebrate Ricki S. and her 18 months clean! All (men & women) are welcome.
URL:https://mountain-na.org/event/ricki-s-celebrates-18-months-clean/
LOCATION:Serenity Sisters Group\, 305 Christian Church Rd.\, Boones Creek\, TN\, 37615\, United States
ATTACH;FMTTYPE=image/jpeg:https://mountain-na.org/wp-content/uploads/2025/02/IMG_0127.jpeg
END:VEVENT
BEGIN:VEVENT
DTSTART;TZID=America/New_York:20260210T190000
DTEND;TZID=America/New_York:20260210T200000
DTSTAMP:20260423T193619
CREATED:20260202T001557Z
LAST-MODIFIED:20260202T001557Z
UID:2320-1770750000-1770753600@mountain-na.org
SUMMARY:Tammy Celebrates 3 Years Clean!
DESCRIPTION:Join us in Elizabethton when Tammy celebrates 3 years clean!
URL:https://mountain-na.org/event/tammy-celebrates-3-years-clean/
LOCATION:Recovering Spirituality Group Facility\, 119 West F Street\, Elizabethton\, TN\, 37643\, United States
ATTACH;FMTTYPE=image/jpeg:https://mountain-na.org/wp-content/uploads/2025/02/IMG_0127.jpeg
END:VEVENT
BEGIN:VEVENT
DTSTART;TZID=America/New_York:20260211T180000
DTEND;TZID=America/New_York:20260211T190000
DTSTAMP:20260423T193619
CREATED:20260202T014845Z
LAST-MODIFIED:20260202T021014Z
UID:2332-1770832800-1770836400@mountain-na.org
SUMMARY:UITM Fundraising Committee Meeting
DESCRIPTION:The UITM fundraising committee meeting will be on the 2nd Wednesday every month at 6:00 at the Philosopher’s House. All are welcome.
URL:https://mountain-na.org/event/uitm-fundraising-committee-meeting/
LOCATION:Philosopher’s House\, 117 W Fairview Av\, Johnson City\, TN\, 37604\, United States
ATTACH;FMTTYPE=image/png:https://mountain-na.org/wp-content/uploads/2025/02/Logo-cropped.png
END:VEVENT
BEGIN:VEVENT
DTSTART;TZID=America/New_York:20260214T140000
DTEND;TZID=America/New_York:20260214T170000
DTSTAMP:20260423T193619
CREATED:20260124T224302Z
LAST-MODIFIED:20260124T224316Z
UID:2310-1771077600-1771088400@mountain-na.org
SUMMARY:For the Love of Recovery Valentine's Day Event
DESCRIPTION:Join us in Greeneville for this 2nd annual event featuring fun\, food\, and fellowship!
URL:https://mountain-na.org/event/for-the-love-of-recovery-valentines-day-event/
LOCATION:Primary Purpose Group Meeting Facility\, 201 S. Main Street\, Greeneville\, TN\, 37745\, United States
ATTACH;FMTTYPE=image/png:https://mountain-na.org/wp-content/uploads/2026/01/Valentines-Day-Flyer-scaled.png
END:VEVENT
BEGIN:VEVENT
DTSTART;TZID=America/New_York:20260220T080000
DTEND;TZID=America/New_York:20260220T090000
DTSTAMP:20260423T193619
CREATED:20260202T001908Z
LAST-MODIFIED:20260202T001908Z
UID:2322-1771574400-1771578000@mountain-na.org
SUMMARY:Jeremy B. Celebrates 3 Years Clean!
DESCRIPTION:Join us in Johnson City when Jeremy B. celebrates 3 years clean!
URL:https://mountain-na.org/event/jeremy-b-celebrates-3-years-clean/
LOCATION:Johnson City Recovery Center\, 513 E. Unaka Avenue\, Johnson City\, TN\, 37601\, United States
ATTACH;FMTTYPE=image/jpeg:https://mountain-na.org/wp-content/uploads/2025/02/IMG_0127.jpeg
END:VEVENT
BEGIN:VEVENT
DTSTART;TZID=America/New_York:20260220T180000
DTEND;TZID=America/New_York:20260220T190000
DTSTAMP:20260423T193619
CREATED:20260202T014352Z
LAST-MODIFIED:20260202T014352Z
UID:2330-1771610400-1771614000@mountain-na.org
SUMMARY:Hospitality Committee Meeting for UITM 2026
DESCRIPTION:The Hospitality committee meeting for 2026 Unity in the Mountains Convention will be at 6pm at Pike House Coffee! If you have any interest in being on the committee or getting involved with service please attend!
URL:https://mountain-na.org/event/hospitality-committee-meeting-for-uitm-2026/
LOCATION:Pike House Coffee Co.\, 2203 McKinley Rd. Ste 101\, Johnson City\, TN\, 37604\, United States
ATTACH;FMTTYPE=image/png:https://mountain-na.org/wp-content/uploads/2025/02/Logo-cropped.png
END:VEVENT
BEGIN:VEVENT
DTSTART;TZID=America/New_York:20260222T153000
DTEND;TZID=America/New_York:20260222T183000
DTSTAMP:20260423T193619
CREATED:20260116T192504Z
LAST-MODIFIED:20260202T013617Z
UID:2278-1771774200-1771785000@mountain-na.org
SUMMARY:Chili Cook-Off & Bake Sale Fundraiser
DESCRIPTION:Unity in the Mountains will be holding its first fundraiser of 2026.
URL:https://mountain-na.org/event/chili-cook-off-bake-sale-fundraiser/
LOCATION:End of the Road Group Facility\, 603 Sunset Drive\, Johnson City\, TN\, 37604\, United States
ATTACH;FMTTYPE=image/jpeg:https://mountain-na.org/wp-content/uploads/2026/02/Chili-Bingo.jpg
END:VEVENT
BEGIN:VEVENT
DTSTART;TZID=America/New_York:20260228T130000
DTEND;TZID=America/New_York:20260228T170000
DTSTAMP:20260423T193619
CREATED:20260217T210728Z
LAST-MODIFIED:20260217T210728Z
UID:2351-1772283600-1772298000@mountain-na.org
SUMMARY:H&I Workshop Planning & Policy Meeting
DESCRIPTION:All members are welcome to attend the H&I workshop planning session from 1:00 – 3:00pm and the policy updating session from 3:00 – 5:oopm.
URL:https://mountain-na.org/event/hi-workshop-planning-policy-meeting/
LOCATION:Nothing to Fear Group Facility\, 1104 Afton St.\, Johnson City\, TN\, 37601\, United States
ATTACH;FMTTYPE=image/png:https://mountain-na.org/wp-content/uploads/2023/06/HI-Logo.png
ORGANIZER;CN="Hospitals & Institutions Subcommittee":MAILTO:mountainhandi@gmail.com
END:VEVENT
BEGIN:VEVENT
DTSTART;TZID=America/New_York:20260307T080000
DTEND;TZID=America/New_York:20260307T120000
DTSTAMP:20260423T193619
CREATED:20260304T155912Z
LAST-MODIFIED:20260304T160133Z
UID:2367-1772870400-1772884800@mountain-na.org
SUMMARY:Snow Tubing this Saturday!
DESCRIPTION:
URL:https://mountain-na.org/event/snow-tubing-this-saturday/
ATTACH;FMTTYPE=image/png:https://mountain-na.org/wp-content/uploads/2026/03/Snow-Tubing.png
END:VEVENT
BEGIN:VEVENT
DTSTART;TZID=America/New_York:20260307T120000
DTEND;TZID=America/New_York:20260307T130000
DTSTAMP:20260423T193619
CREATED:20260214T175014Z
LAST-MODIFIED:20260214T175014Z
UID:2349-1772884800-1772888400@mountain-na.org
SUMMARY:Kris A. Celebrates 2 Years Clean!
DESCRIPTION:Help us celebrate Kris A. and their 2 years clean! Marietta N. will be sharing her story.
URL:https://mountain-na.org/event/kris-a-celebrates-2-years-clean/
LOCATION:Johnson City Recovery Center\, 513 E. Unaka Avenue\, Johnson City\, TN\, 37601\, United States
ATTACH;FMTTYPE=image/jpeg:https://mountain-na.org/wp-content/uploads/2025/02/IMG_0127.jpeg
END:VEVENT
BEGIN:VEVENT
DTSTART;TZID=America/New_York:20260308T190000
DTEND;TZID=America/New_York:20260308T200000
DTSTAMP:20260423T193619
CREATED:20260304T162539Z
LAST-MODIFIED:20260304T162713Z
UID:2369-1772996400-1773000000@mountain-na.org
SUMMARY:Kahla C. Celebrate 8 Years Clean!
DESCRIPTION:Join us in Johnson City when Kahla C. celebrates 8 years clean! Candy G. will be speaking.
URL:https://mountain-na.org/event/kahla-c-celebrate-8-years-clean/
LOCATION:End of the Road Group Facility\, 603 Sunset Drive\, Johnson City\, TN\, 37604\, United States
ATTACH;FMTTYPE=image/jpeg:https://mountain-na.org/wp-content/uploads/2025/02/IMG_0127.jpeg
END:VEVENT
BEGIN:VEVENT
DTSTART;TZID=America/New_York:20260314T120000
DTEND;TZID=America/New_York:20260314T150000
DTSTAMP:20260423T193619
CREATED:20260209T145639Z
LAST-MODIFIED:20260209T152444Z
UID:2338-1773489600-1773500400@mountain-na.org
SUMMARY:Conference Approval Track Workshop
DESCRIPTION:Your group CAT/CAR input is wanted and voting deadlines are soon. Find out more at this virtual event. \nZoom ID: 901 350 5030   PC: NATN
URL:https://mountain-na.org/event/conference-approval-track-workshop/
LOCATION:Virtual / Zoom Meeting
ATTACH;FMTTYPE=image/jpeg:https://mountain-na.org/wp-content/uploads/2026/02/CAT-Workshop-Conference-Approval-Track-flyer-1-791x1024-1.jpg
END:VEVENT
BEGIN:VEVENT
DTSTART;TZID=America/New_York:20260315T190000
DTEND;TZID=America/New_York:20260315T210000
DTSTAMP:20260423T193619
CREATED:20260304T163259Z
LAST-MODIFIED:20260314T210209Z
UID:2371-1773601200-1773608400@mountain-na.org
SUMMARY:Mike F. Celebrates 35 Years Clean!
DESCRIPTION:Join us for food and fellowship in Marion when Mike F. celebrates 35 years clean. Bring a dish if you can. Food served at 7:00. Phillip W. & Christy W. will be speaking during the 8:00 meeting.
URL:https://mountain-na.org/event/mike-f-celebrates-35-years-clean-2/
LOCATION:Marion Survivor’s Group location\, 139 W. Main St.\, Marion\, VA\, 24354\, United States
ATTACH;FMTTYPE=image/jpeg:https://mountain-na.org/wp-content/uploads/2025/02/IMG_0127.jpeg
END:VEVENT
BEGIN:VEVENT
DTSTART;TZID=America/New_York:20260319T200000
DTEND;TZID=America/New_York:20260319T210000
DTSTAMP:20260423T193619
CREATED:20260307T221907Z
LAST-MODIFIED:20260307T221907Z
UID:2382-1773950400-1773954000@mountain-na.org
SUMMARY:Kendra L. Celebrates 2 years Clean!
DESCRIPTION:Join us in Jefferson City when Kendra celebrates 2 years clean!
URL:https://mountain-na.org/event/kendra-l-celebrates-2-years-clean/
LOCATION:Emmanuel Baptist Church – Jefferson City\, 1916 Overlook Dr\, Jefferson City\, TN\, 37760
ATTACH;FMTTYPE=image/jpeg:https://mountain-na.org/wp-content/uploads/2025/02/IMG_0127.jpeg
END:VEVENT
BEGIN:VEVENT
DTSTART;TZID=America/New_York:20260324T190000
DTEND;TZID=America/New_York:20260324T200000
DTSTAMP:20260423T193619
CREATED:20260226T055845Z
LAST-MODIFIED:20260307T223637Z
UID:2364-1774378800-1774382400@mountain-na.org
SUMMARY:Ron M. Celebrates 3 Years Clean!
DESCRIPTION:Help us celebrate Ron M. and his 3 years clean! David H. will be speaking.
URL:https://mountain-na.org/event/ron-m-celebrates-3-years-clean/
LOCATION:Nothing to Fear Group Facility\, 1104 Afton St.\, Johnson City\, TN\, 37601\, United States
ATTACH;FMTTYPE=image/jpeg:https://mountain-na.org/wp-content/uploads/2023/06/NA-Cake-copy.jpeg
END:VEVENT
BEGIN:VEVENT
DTSTART;TZID=America/New_York:20260326T200000
DTEND;TZID=America/New_York:20260326T210000
DTSTAMP:20260423T193619
CREATED:20260307T222109Z
LAST-MODIFIED:20260307T222530Z
UID:2384-1774555200-1774558800@mountain-na.org
SUMMARY:Zach J. Celebrates 2 Years Clean!
DESCRIPTION:Join us in Jefferson City when Zach celebrates 2 years clean!
URL:https://mountain-na.org/event/zach-j-celebrates-2-years-clean/
LOCATION:Emmanuel Baptist Church – Jefferson City\, 1916 Overlook Dr\, Jefferson City\, TN\, 37760
ATTACH;FMTTYPE=image/jpeg:https://mountain-na.org/wp-content/uploads/2025/02/IMG_0127.jpeg
END:VEVENT
BEGIN:VEVENT
DTSTART;TZID=America/New_York:20260328T093000
DTEND;TZID=America/New_York:20260411T220000
DTSTAMP:20260423T193619
CREATED:20260219T213443Z
LAST-MODIFIED:20260328T133545Z
UID:2356-1774690200-1775944800@mountain-na.org
SUMMARY:Conference Agenda Report (CAR) Group Voting Instructions - Deadline to Vote is 4/11
DESCRIPTION:The deadline for group voting on the CAR is April 11th. \nIf you missed one of the recent CAR trainings offered by the Volunteer Region\, here is a link to condensed instructions. \nWhen your group is ready to vote\, here is a link to cast your group’s vote. Only one vote per group may be submitted. \n 
URL:https://mountain-na.org/event/conference-agenda-report-car-workshop/
ATTACH;FMTTYPE=image/png:https://mountain-na.org/wp-content/uploads/2026/02/2026-CAR.png
END:VEVENT
BEGIN:VEVENT
DTSTART;TZID=America/New_York:20260328T133000
DTEND;TZID=America/New_York:20260328T163000
DTSTAMP:20260423T193619
CREATED:20260217T211150Z
LAST-MODIFIED:20260313T185609Z
UID:2353-1774704600-1774715400@mountain-na.org
SUMMARY:H&I Learning Day
DESCRIPTION:Join us for lunch (1:30 – 2:00) and a day of learning how to get involved with H&I. Help us carry the message to those who cannot get out to attend meetings.
URL:https://mountain-na.org/event/hi-learning-day/
LOCATION:End of the Road Group Facility\, 603 Sunset Drive\, Johnson City\, TN\, 37604\, United States
ATTACH;FMTTYPE=image/png:https://mountain-na.org/wp-content/uploads/2026/03/MANA-HI-Learning-Day-03-28-26-scaled.png
ORGANIZER;CN="Hospitals & Institutions Subcommittee":MAILTO:mountainhandi@gmail.com
END:VEVENT
BEGIN:VEVENT
DTSTART;TZID=America/New_York:20260328T190000
DTEND;TZID=America/New_York:20260328T200000
DTSTAMP:20260423T193619
CREATED:20260307T221407Z
LAST-MODIFIED:20260307T221430Z
UID:2379-1774724400-1774728000@mountain-na.org
SUMMARY:Jessy celebrates 7 years clean and Jacob 2!
DESCRIPTION:Join us in Kingsport for a double celebration when Jessy picks up 7 years and Jacob picks up 2.
URL:https://mountain-na.org/event/jessy-celebrates-7-years-clean-and-jacob-2/
LOCATION:New Way of Life Group Facility – Prospect Center\, 1425 E Center Street\, Kingsport\, TN\, 37664\, United States
ATTACH;FMTTYPE=image/jpeg:https://mountain-na.org/wp-content/uploads/2025/02/IMG_0127.jpeg
END:VEVENT
BEGIN:VEVENT
DTSTART;TZID=America/New_York:20260330T190000
DTEND;TZID=America/New_York:20260330T200000
DTSTAMP:20260423T193619
CREATED:20260315T202939Z
LAST-MODIFIED:20260315T202939Z
UID:2412-1774897200-1774900800@mountain-na.org
SUMMARY:Sarah M. Celebrates 7 Years Clean!
DESCRIPTION:Help us celebrate Sarah M. and her 7 years clean! Serenity Sisters celebrations are open to everyone.
URL:https://mountain-na.org/event/sarah-m-celebrates-7-years-clean/
LOCATION:Serenity Sisters Group\, 305 Christian Church Rd.\, Boones Creek\, TN\, 37615\, United States
ATTACH;FMTTYPE=image/jpeg:https://mountain-na.org/wp-content/uploads/2025/02/IMG_0127.jpeg
END:VEVENT
BEGIN:VEVENT
DTSTART;TZID=America/New_York:20260413T190000
DTEND;TZID=America/New_York:20260413T200000
DTSTAMP:20260423T193619
CREATED:20260315T202252Z
LAST-MODIFIED:20260315T202252Z
UID:2408-1776106800-1776110400@mountain-na.org
SUMMARY:Kate A. Celebrates 5 Years Clean!
DESCRIPTION:Help us celebrate Kate A. and her 5 years clean! Serenity Sisters celebrations are open to everyone.
URL:https://mountain-na.org/event/kate-a-celebrates-5-years-clean/
LOCATION:Serenity Sisters Group\, 305 Christian Church Rd.\, Boones Creek\, TN\, 37615\, United States
ATTACH;FMTTYPE=image/jpeg:https://mountain-na.org/wp-content/uploads/2025/02/IMG_0127.jpeg
END:VEVENT
BEGIN:VEVENT
DTSTART;TZID=America/New_York:20260416T120000
DTEND;TZID=America/New_York:20260416T130000
DTSTAMP:20260423T193619
CREATED:20260407T205357Z
LAST-MODIFIED:20260407T205357Z
UID:2498-1776340800-1776344400@mountain-na.org
SUMMARY:Trey M. Celebrates 1 Year Clean!
DESCRIPTION:Help us celebrate Trey M. and his 1 year clean!
URL:https://mountain-na.org/event/trey-m-celebrates-1-year-clean/
LOCATION:Johnson City Recovery Center\, 513 E. Unaka Avenue\, Johnson City\, TN\, 37601\, United States
ATTACH;FMTTYPE=image/jpeg:https://mountain-na.org/wp-content/uploads/2023/06/NA-Cake-copy.jpeg
END:VEVENT
BEGIN:VEVENT
DTSTART;TZID=America/New_York:20260418T153000
DTEND;TZID=America/New_York:20260418T173000
DTSTAMP:20260423T193619
CREATED:20251222T194343Z
LAST-MODIFIED:20260415T150814Z
UID:2222-1776526200-1776533400@mountain-na.org
SUMMARY:Let's Go Bowling! - Note - Time Change to Afternoon!
DESCRIPTION:Join us at Holiday Lanes for some Saturday morning recovery bowling.
URL:https://mountain-na.org/event/lets-go-bowling/
LOCATION:Holiday Lanes\, 117 Broyles Dr\, Johnson City\, TN\, 37601
ATTACH;FMTTYPE=image/jpeg:https://mountain-na.org/wp-content/uploads/2025/12/Bowling.jpeg
END:VEVENT
BEGIN:VEVENT
DTSTART;TZID=America/New_York:20260419T173000
DTEND;TZID=America/New_York:20260419T183000
DTSTAMP:20260423T193619
CREATED:20260417T015051Z
LAST-MODIFIED:20260417T015051Z
UID:2516-1776619800-1776623400@mountain-na.org
SUMMARY:Catherine P. Celebrates 18 Months Clean!
DESCRIPTION:Help us celebrate Catherine P. and her 18 months clean!
URL:https://mountain-na.org/event/catherine-p-celebrates-18-months-clean/
LOCATION:Johnson City Recovery Center\, 513 E. Unaka Avenue\, Johnson City\, TN\, 37601\, United States
ATTACH;FMTTYPE=image/jpeg:https://mountain-na.org/wp-content/uploads/2023/06/NA-Cake-copy.jpeg
END:VEVENT
BEGIN:VEVENT
DTSTART;TZID=America/New_York:20260419T190000
DTEND;TZID=America/New_York:20260419T200000
DTSTAMP:20260423T193619
CREATED:20260307T222817Z
LAST-MODIFIED:20260409T132848Z
UID:2386-1776625200-1776628800@mountain-na.org
SUMMARY:Dallas A. Celebrates 4 Years Clean!
DESCRIPTION:Join us in Johnson City when Dallas celebrates 4 years clean.
URL:https://mountain-na.org/event/dallas-a-celebrates-4-years-clean/
LOCATION:End of the Road Group Facility\, 603 Sunset Drive\, Johnson City\, TN\, 37604\, United States
ATTACH;FMTTYPE=image/jpeg:https://mountain-na.org/wp-content/uploads/2025/02/IMG_0127.jpeg
END:VEVENT
BEGIN:VEVENT
DTSTART;TZID=America/New_York:20260421T120000
DTEND;TZID=America/New_York:20260421T130000
DTSTAMP:20260423T193619
CREATED:20260403T081453Z
LAST-MODIFIED:20260408T222849Z
UID:2496-1776772800-1776776400@mountain-na.org
SUMMARY:Donjia K. Celebrates 2 Years Clean!
DESCRIPTION:Help us celebrate Donjia K. and her 2 years clean! \nStanley W. will share his experience\, strength\, & hope.
URL:https://mountain-na.org/event/donjia-k-celebrates-2-years-clean/
LOCATION:Johnson City Recovery Center\, 513 E. Unaka Avenue\, Johnson City\, TN\, 37601\, United States
ATTACH;FMTTYPE=image/jpeg:https://mountain-na.org/wp-content/uploads/2025/02/IMG_0127.jpeg
END:VEVENT
BEGIN:VEVENT
DTSTART;TZID=America/New_York:20260421T190000
DTEND;TZID=America/New_York:20260421T200000
DTSTAMP:20260423T193619
CREATED:20260403T013829Z
LAST-MODIFIED:20260403T013911Z
UID:2470-1776798000-1776801600@mountain-na.org
SUMMARY:Sarah & Chris M. Celebrate 5 Years Clean!
DESCRIPTION:Join us in Johnson City when Chris & Sarah M. celebrate 5 years clean.
URL:https://mountain-na.org/event/sarah-chris-m-celebrate-5-years-clean/
LOCATION:Nothing to Fear Group Facility\, 1104 Afton St.\, Johnson City\, TN\, 37601\, United States
ATTACH;FMTTYPE=image/jpeg:https://mountain-na.org/wp-content/uploads/2025/02/IMG_0127.jpeg
END:VEVENT
BEGIN:VEVENT
DTSTART;TZID=America/New_York:20260425T150000
DTEND;TZID=America/New_York:20260425T180000
DTSTAMP:20260423T193619
CREATED:20260408T181301Z
LAST-MODIFIED:20260409T132350Z
UID:2507-1777129200-1777140000@mountain-na.org
SUMMARY:Sponsor/Sponsee Speaker Meeting & Dinner
DESCRIPTION:Join us in Johnson City for this UITM sponsored event.
URL:https://mountain-na.org/event/sponsor-sponsee-speaker-meeting-dinner/
LOCATION:Miracles Happen Group Facility\, 105 S. Boone Street\, Johnson City\, TN\, 37604
ATTACH;FMTTYPE=image/png:https://mountain-na.org/wp-content/uploads/2026/04/89542D16-CBEF-48BE-9DB3-6601013E94EE.png
END:VEVENT
END:VCALENDAR