BEGIN:VCALENDAR
VERSION:2.0
PRODID:-//Narcotics Anonymous - NA in Johnson City, Kingsport and Bristol - ECPv6.15.20//NONSGML v1.0//EN
CALSCALE:GREGORIAN
METHOD:PUBLISH
X-WR-CALNAME:Narcotics Anonymous - NA in Johnson City, Kingsport and Bristol
X-ORIGINAL-URL:https://mountain-na.org
X-WR-CALDESC:Events for Narcotics Anonymous - NA in Johnson City, Kingsport and Bristol
REFRESH-INTERVAL;VALUE=DURATION:PT1H
X-Robots-Tag:noindex
X-PUBLISHED-TTL:PT1H
BEGIN:VTIMEZONE
TZID:America/New_York
BEGIN:DAYLIGHT
TZOFFSETFROM:-0500
TZOFFSETTO:-0400
TZNAME:EDT
DTSTART:20210314T070000
END:DAYLIGHT
BEGIN:STANDARD
TZOFFSETFROM:-0400
TZOFFSETTO:-0500
TZNAME:EST
DTSTART:20211107T060000
END:STANDARD
BEGIN:DAYLIGHT
TZOFFSETFROM:-0500
TZOFFSETTO:-0400
TZNAME:EDT
DTSTART:20220313T070000
END:DAYLIGHT
BEGIN:STANDARD
TZOFFSETFROM:-0400
TZOFFSETTO:-0500
TZNAME:EST
DTSTART:20221106T060000
END:STANDARD
BEGIN:DAYLIGHT
TZOFFSETFROM:-0500
TZOFFSETTO:-0400
TZNAME:EDT
DTSTART:20230312T070000
END:DAYLIGHT
BEGIN:STANDARD
TZOFFSETFROM:-0400
TZOFFSETTO:-0500
TZNAME:EST
DTSTART:20231105T060000
END:STANDARD
END:VTIMEZONE
BEGIN:VEVENT
DTSTART;TZID=America/New_York:20220717T150000
DTEND;TZID=America/New_York:20220717T170000
DTSTAMP:20260425T110904
CREATED:20220510T154547Z
LAST-MODIFIED:20220628T214558Z
UID:999-1658070000-1658077200@mountain-na.org
SUMMARY:Mountain Area Service Committee Meeting
DESCRIPTION:If you are like most of us\, you will find that NA service through Area Service involvement is often a challenging yet rewarding experience. As a participating member of the Mountain Area Service Committee (MASC)\, you will be directly involved in developing\, coordinating and maintaining the services Narcotics Anonymous offers in the Mountain Area and worldwide. At these meetings MASC members\, subcommittee members and Group Service Representatives (GSRs) join together to develop\, coordinate\, and maintain the services of Narcotics Anonymous in this area. Representatives from new groups and new GSRs are encouraged to arrive early in order to receive GSR packets and a brief orientation before the 3:00 start.
URL:https://mountain-na.org/event/mountain-area-service-committee-meeting-11/
LOCATION:Miracles Happen Group Facility\, 105 S. Boone Street\, Johnson City\, TN\, 37604
END:VEVENT
BEGIN:VEVENT
DTSTART;TZID=America/New_York:20220716T110000
DTEND;TZID=America/New_York:20220716T170000
DTSTAMP:20260425T110904
CREATED:20220510T153036Z
LAST-MODIFIED:20220707T231142Z
UID:991-1657969200-1657990800@mountain-na.org
SUMMARY:Woods Party - Annual Celebration of the Mountain Area's Formation in 1985
DESCRIPTION:Join us for food and fellowship as we celebrate the 37th anniversary of the Mountain Area of NA at the Laurels Picnic Area. The 2:00 speaker meeting will feature Steve L. of Asheville (formerly of Kingsport). \nWoods Party 2022 flyer \n  \n 
URL:https://mountain-na.org/event/woods-party-annual-celebration-of-the-mountain-areas-formation-in-1985/
LOCATION:Laurels Picnic Area\, TN 361\, Elizabethton\, TN\, 37643\, United States
END:VEVENT
BEGIN:VEVENT
DTSTART;TZID=America/New_York:20220702T090000
DTEND;TZID=America/New_York:20220702T230000
DTSTAMP:20260425T110904
CREATED:20220609T173410Z
LAST-MODIFIED:20220609T173410Z
UID:1023-1656752400-1656802800@mountain-na.org
SUMMARY:H&I Pancake Breakfast - Learning Session
DESCRIPTION:Come join us for a pancake breakfast where we will be discussing all things related to the Hospitals & Institutions subcommittee. \nAttendance at your home group is directly related to the number of H&I meetings in your county. Find out how to participate in H&I meetings and get them started in facilities near you. \nH&I Flyer
URL:https://mountain-na.org/event/hi-pancake-breakfast-learning-session/
LOCATION:End of the Road Group Facility\, 603 Sunset Drive\, Johnson City\, TN\, 37604\, United States
ORGANIZER;CN="Hospitals & Institutions Subcommittee":MAILTO:mountainhandi@gmail.com
END:VEVENT
BEGIN:VEVENT
DTSTART;TZID=America/New_York:20220626T150000
DTEND;TZID=America/New_York:20220626T170000
DTSTAMP:20260425T110904
CREATED:20220510T154435Z
LAST-MODIFIED:20220609T173605Z
UID:997-1656255600-1656262800@mountain-na.org
SUMMARY:Mountain Area Service Committee Meeting
DESCRIPTION:If you are like most of us\, you will find that NA service through Area Service involvement is often a challenging yet rewarding experience. As a participating member of the Mountain Area Service Committee (MASC)\, you will be directly involved in developing\, coordinating and maintaining the services Narcotics Anonymous offers in the Mountain Area and worldwide. At these meetings MASC members\, subcommittee members and Group Service Representatives (GSRs) join together to develop\, coordinate\, and maintain the services of Narcotics Anonymous in this area. Representatives from new groups and new GSRs are encouraged to arrive early in order to receive GSR packets and a brief orientation before the 3:00 start.
URL:https://mountain-na.org/event/mountain-area-service-committee-meeting-10/
LOCATION:Just for Today Group Meeting Location\, 210 S Hills Drive\, Elizabethton\, TN\, 37643\, United States
END:VEVENT
BEGIN:VEVENT
DTSTART;TZID=America/New_York:20220618T110000
DTEND;TZID=America/New_York:20220618T170000
DTSTAMP:20260425T110904
CREATED:20220510T151132Z
LAST-MODIFIED:20220510T151132Z
UID:987-1655550000-1655571600@mountain-na.org
SUMMARY:New Day Group's Annual Summer Picnic on the Lake
DESCRIPTION:Join us for food & fellowship at the Washington County VA Park on South Holston Lake at shelter #4.
URL:https://mountain-na.org/event/new-day-groups-annual-summer-picnic-on-the-lake/
LOCATION:Washington County VA Park\, 19482 County Park Rd\, Abingdon\, VA\, 24211\, United States
END:VEVENT
BEGIN:VEVENT
DTSTART;TZID=America/New_York:20220604T120000
DTEND;TZID=America/New_York:20220604T170000
DTSTAMP:20260425T110904
CREATED:20220426T125155Z
LAST-MODIFIED:20220426T125352Z
UID:964-1654344000-1654362000@mountain-na.org
SUMMARY:Summer Speaker Jam
DESCRIPTION:Come join us in Greeneville for a Summertime Speaker Jam! \nWe will have fun\, food and fellowship along with 4 speakers. \nBring a side dish or dessert if you can. Suggested donation is $3.00. \nBrought to you by the Mountain Area Service Activities Subcommittee.
URL:https://mountain-na.org/event/summer-speaker-jam/
LOCATION:Primary Purpose Group Meeting Facility\, 201 S. Main Street\, Greeneville\, TN\, 37745\, United States
END:VEVENT
BEGIN:VEVENT
DTSTART;TZID=America/New_York:20220515T150000
DTEND;TZID=America/New_York:20220515T163000
DTSTAMP:20260425T110904
CREATED:20220317T183326Z
LAST-MODIFIED:20220426T123211Z
UID:936-1652626800-1652632200@mountain-na.org
SUMMARY:Mountain Area Service Committee Meeting
DESCRIPTION:If you are like most of us\, you will find that NA service through Area Service involvement is often a challenging yet rewarding experience. As a participating member of the Mountain Area Service Committee (MASC)\, you will be directly involved in developing\, coordinating and maintaining the services Narcotics Anonymous offers in the Mountain Area and worldwide. At these meetings MASC members\, subcommittee members and Group Service Representatives (GSRs) join together to develop\, coordinate\, and maintain the services of Narcotics Anonymous in this area. Representatives from new groups and new GSRs are encouraged to arrive early in order to receive GSR packets and a brief orientation before the 3:00 start.
URL:https://mountain-na.org/event/mountain-area-service-committee-meeting-9/
LOCATION:Primary Purpose Group Meeting Facility\, 201 S. Main Street\, Greeneville\, TN\, 37745\, United States
END:VEVENT
BEGIN:VEVENT
DTSTART;VALUE=DATE:20220507
DTEND;VALUE=DATE:20220508
DTSTAMP:20260425T110904
CREATED:20220110T202640Z
LAST-MODIFIED:20220110T202640Z
UID:890-1651881600-1651967999@mountain-na.org
SUMMARY:One Addict Helping Another - Innovative Convention
DESCRIPTION:The Western North Carolina NA Fellowship Development Committee presents an all-new kind of convention featuring speakers\, workshops\, games\, prizes and skits.
URL:https://mountain-na.org/event/one-addict-helping-another-innovative-convention/
LOCATION:TN
END:VEVENT
BEGIN:VEVENT
DTSTART;VALUE=DATE:20220502
DTEND;VALUE=DATE:20220531
DTSTAMP:20260425T110904
CREATED:20220421T023627Z
LAST-MODIFIED:20220506T164511Z
UID:957-1651449600-1653955199@mountain-na.org
SUMMARY:Serenity Sisters New Facility
DESCRIPTION:Effective May 2\, 2022 the Serenity Sisters group will begin meeting at the Boones Creek Christian Church\, 305 Christian Church Road\, Boones Creek\, TN 37615.
URL:https://mountain-na.org/event/serenity-sisters-new-facility/
LOCATION:Serenity Sisters Group\, 305 Christian Church Rd.\, Boones Creek\, TN\, 37615\, United States
END:VEVENT
BEGIN:VEVENT
DTSTART;TZID=America/New_York:20220501T193000
DTEND;TZID=America/New_York:20220501T203000
DTSTAMP:20260425T110904
CREATED:20220421T020940Z
LAST-MODIFIED:20220421T020940Z
UID:955-1651433400-1651437000@mountain-na.org
SUMMARY:Whitney L. to Speak at Primary Purpose
DESCRIPTION:Join us to hear Whitney L. share her story at the Primary Purpose group in Greeneville.
URL:https://mountain-na.org/event/whitney-l-to-speak-at-primary-purpose/
LOCATION:Primary Purpose Group Meeting Facility\, 201 S. Main Street\, Greeneville\, TN\, 37745\, United States
END:VEVENT
BEGIN:VEVENT
DTSTART;TZID=America/New_York:20220428T130000
DTEND;TZID=America/New_York:20220501T140000
DTSTAMP:20260425T110904
CREATED:20220110T195800Z
LAST-MODIFIED:20220110T195800Z
UID:885-1651150800-1651413600@mountain-na.org
SUMMARY:GAP Area of NA (SC) Campout
DESCRIPTION:The GAP Area of NA will be hosting a campout on the shores of Lake Hartwell in Starr\, SC.
URL:https://mountain-na.org/event/gap-area-of-na-sc-campout/
LOCATION:TN
END:VEVENT
BEGIN:VEVENT
DTSTART;TZID=America/New_York:20220424T150000
DTEND;TZID=America/New_York:20220424T163000
DTSTAMP:20260425T110904
CREATED:20220317T182751Z
LAST-MODIFIED:20220323T203115Z
UID:934-1650812400-1650817800@mountain-na.org
SUMMARY:Mountain Area Service Committee Meeting
DESCRIPTION:If you are like most of us\, you will find that NA service through Area Service involvement is often a challenging yet rewarding experience. As a participating member of the Mountain Area Service Committee (MASC)\, you will be directly involved in developing\, coordinating and maintaining the services Narcotics Anonymous offers in the Mountain Area and worldwide. At these meetings MASC members\, subcommittee members and Group Service Representatives (GSRs) join together to develop\, coordinate\, and maintain the services of Narcotics Anonymous in this area. Representatives from new groups and new GSRs are encouraged to arrive early in order to receive GSR packets and a brief orientation before the 3:00 start.
URL:https://mountain-na.org/event/mountain-area-service-committee-meeting-8/
LOCATION:End of the Road Group Facility\, 603 Sunset Drive\, Johnson City\, TN\, 37604\, United States
END:VEVENT
BEGIN:VEVENT
DTSTART;TZID=America/New_York:20220423T121500
DTEND;TZID=America/New_York:20220423T131500
DTSTAMP:20260425T110904
CREATED:20220421T211836Z
LAST-MODIFIED:20220421T212155Z
UID:961-1650716100-1650719700@mountain-na.org
SUMMARY:Johnny O. Celebrates 5 Years!
DESCRIPTION:Come join us Saturday at noon in Elizabethton as Johnny O. celebrates 5 years clean. Steve W. will be sharing his story.
URL:https://mountain-na.org/event/johnny-o-celebrates-5-years/
LOCATION:Just for Today Group Meeting Location\, 210 S Hills Drive\, Elizabethton\, TN\, 37643\, United States
END:VEVENT
BEGIN:VEVENT
DTSTART;TZID=America/New_York:20220415T080000
DTEND;TZID=America/New_York:20220615T170000
DTSTAMP:20260425T110904
CREATED:20220415T174806Z
LAST-MODIFIED:20220510T153757Z
UID:949-1650009600-1655312400@mountain-na.org
SUMMARY:New Meetings in Bristol & Johnson City: "Nothing About Us\, Without Us"
DESCRIPTION:Wednesdays in Bristol\,VA and Saturdays in Johnson City\, TN \n  \nNA Meeting Flyer
URL:https://mountain-na.org/event/new-meeting/
LOCATION:TN
END:VEVENT
BEGIN:VEVENT
DTSTART;TZID=America/New_York:20220415T080000
DTEND;TZID=America/New_York:20220415T235900
DTSTAMP:20260425T110904
CREATED:20220323T205159Z
LAST-MODIFIED:20220323T205620Z
UID:944-1650009600-1650067140@mountain-na.org
SUMMARY:Deadline for 2022 Interim CAR-CAT Group Vote Submissions is 4/15/22
DESCRIPTION:The deadline for submitting your home group’s CAR-CAT tally sheet is 4/15/22. Check with your group’s GSR for details. Tally sheets may be submitted to MANA RSR\, Ryan C\, or votes may be submitted anytime before 4/15/22 by using the form in the link below. Only one vote may be cast per home group. \nLink: 2022 Interim CAR-CAT Online Submission Form \n 
URL:https://mountain-na.org/event/deadline-for-2022-interim-car-cat-group-vote-submissions-is-4-15-22/
LOCATION:TN
END:VEVENT
BEGIN:VEVENT
DTSTART;TZID=America/New_York:20220401T190000
DTEND;TZID=America/New_York:20220401T200000
DTSTAMP:20260425T110904
CREATED:20220317T181930Z
LAST-MODIFIED:20220317T181930Z
UID:932-1648839600-1648843200@mountain-na.org
SUMMARY:Stephanie M. to share her story
DESCRIPTION:Join us as Stephanie M. shares her story.
URL:https://mountain-na.org/event/stephanie-m-to-share-her-story/
LOCATION:Miracles Happen Group Facility\, 105 S. Boone Street\, Johnson City\, TN\, 37604
END:VEVENT
BEGIN:VEVENT
DTSTART;TZID=America/New_York:20220327T150000
DTEND;TZID=America/New_York:20220327T170000
DTSTAMP:20260425T110904
CREATED:20220323T203937Z
LAST-MODIFIED:20220323T203937Z
UID:942-1648393200-1648400400@mountain-na.org
SUMMARY:2022 Interim CAR-CAT Discussion Meeting
DESCRIPTION:The Greater Middle Tennessee Area of NA will be facilitating a virtual meeting for those members seeking further clarification around the 5 motions up for consideration within the 2022 Interim Conference Agenda report. \nEach home group has the opportunity to vote on these motions. Votes needs to be cast by 4/15/22. \nMeeting format: Zoom\nID: 551 703 9843\nCode: 12345
URL:https://mountain-na.org/event/2022-interim-car-cat-discussion-meeting/
LOCATION:TN
END:VEVENT
BEGIN:VEVENT
DTSTART;TZID=America/New_York:20220320T190000
DTEND;TZID=America/New_York:20220320T200000
DTSTAMP:20260425T110904
CREATED:20220307T210459Z
LAST-MODIFIED:20220307T210459Z
UID:926-1647802800-1647806400@mountain-na.org
SUMMARY:Kahla C. Celebrates 4 Years Clean!
DESCRIPTION:Join us as Kahla C. celebrates 4 years clean. Ryan C. will be sharing his story.
URL:https://mountain-na.org/event/kahla-c-celebrates-4-years-clean/
LOCATION:End of the Road Group Facility\, 603 Sunset Drive\, Johnson City\, TN\, 37604\, United States
END:VEVENT
BEGIN:VEVENT
DTSTART;TZID=America/New_York:20220320T150000
DTEND;TZID=America/New_York:20220320T163000
DTSTAMP:20260425T110904
CREATED:20211230T182432Z
LAST-MODIFIED:20220306T203354Z
UID:875-1647788400-1647793800@mountain-na.org
SUMMARY:Mountain Area Service Committee Meeting
DESCRIPTION:If you are like most of us\, you will find that NA service through Area Service involvement is often a challenging yet rewarding experience. As a participating member of the Mountain Area Service Committee (MASC)\, you will be directly involved in developing\, coordinating and maintaining the services Narcotics Anonymous offers in the Mountain Area and worldwide. At these meetings MASC members\, subcommittee members and Group Service Representatives (GSRs) join together to develop\, coordinate\, and maintain the services of Narcotics Anonymous in this area. Representatives from new groups and new GSRs are encouraged to arrive early in order to receive GSR packets and a brief orientation before the 3:00 start.
URL:https://mountain-na.org/event/mountain-area-service-committee-meeting-7/
LOCATION:Miracles Happen Group Facility\, 105 S. Boone Street\, Johnson City\, TN\, 37604
END:VEVENT
BEGIN:VEVENT
DTSTART;TZID=America/New_York:20220319T140000
DTEND;TZID=America/New_York:20220319T160000
DTSTAMP:20260425T110904
CREATED:20220221T033849Z
LAST-MODIFIED:20220221T033849Z
UID:917-1647698400-1647705600@mountain-na.org
SUMMARY:NAWS Webinar - How Do We Attract Members to Service?
DESCRIPTION:
URL:https://mountain-na.org/event/naws-webinar-how-do-we-attract-members-to-service/
LOCATION:TN
END:VEVENT
BEGIN:VEVENT
DTSTART;TZID=America/New_York:20220318T190000
DTEND;TZID=America/New_York:20220318T200000
DTSTAMP:20260425T110904
CREATED:20220317T181704Z
LAST-MODIFIED:20220317T181704Z
UID:930-1647630000-1647633600@mountain-na.org
SUMMARY:Kenny C. to share his story
DESCRIPTION:Join us to hear Kenny C. share his story.
URL:https://mountain-na.org/event/kenny-c-to-share-his-story/
LOCATION:Miracles Happen Group Facility\, 105 S. Boone Street\, Johnson City\, TN\, 37604
END:VEVENT
BEGIN:VEVENT
DTSTART;TZID=America/New_York:20220316T190000
DTEND;TZID=America/New_York:20220316T200000
DTSTAMP:20260425T110904
CREATED:20220219T193154Z
LAST-MODIFIED:20220219T193154Z
UID:912-1647457200-1647460800@mountain-na.org
SUMMARY:Sarah S. Celebrates 3 Years Clean!
DESCRIPTION:Join us as Sarah S. celebrates 3 years clean. Tommy G. will be sharing his story.
URL:https://mountain-na.org/event/sarah-s-celebrates-3-years-clean/
LOCATION:End of the Road Group Facility\, 603 Sunset Drive\, Johnson City\, TN\, 37604\, United States
END:VEVENT
BEGIN:VEVENT
DTSTART;TZID=America/New_York:20220312T180000
DTEND;TZID=America/New_York:20220312T200000
DTSTAMP:20260425T110904
CREATED:20220306T203944Z
LAST-MODIFIED:20220306T203944Z
UID:924-1647108000-1647115200@mountain-na.org
SUMMARY:Chili Dinner and Speaker Meeting
DESCRIPTION:Come join us in Abingdon for a chili dinner and then hear Greg V. share his story.
URL:https://mountain-na.org/event/chili-dinner-and-speaker-meeting/
LOCATION:New Day Group Facility\, 124 E Main St.\, Abingdon\, TN\, 24210\, United States
END:VEVENT
BEGIN:VEVENT
DTSTART;TZID=America/New_York:20220311T120000
DTEND;TZID=America/New_York:20220313T140000
DTSTAMP:20260425T110904
CREATED:20211230T164818Z
LAST-MODIFIED:20211230T164818Z
UID:871-1647000000-1647180000@mountain-na.org
SUMMARY:Circle of Sisters XXIV Women's Convention of Narcotics Anonymous
DESCRIPTION:Circle of Sisters (COS) is a traveling Women’s Convention of Narcotics Anonymous. COS XXIV in Atlanta is being hosted by the South Atlanta Area of Narcotics Anonymous. Cities that host a COS Convention have won the bid through a process (see guidelines). This is a convention that attracts “sisterhood” in the recovery process. While our traditions state that no addict will be turned away\, we respectfully request that our brothers allow us this weekend to bond in the common needs of women; and we thank you in advance for honoring our wishes. \n\n\n\n\n\n\n\n\n\n\n\nThe Theme of Atlanta’s COS XXIV celebration is “Our Journey Is A Gift”. Our journey is a gift and as a gift we may choose to unwrap it or not. It is a personal choice. If we choose not to unwrap this gift we will not learn who we truly ARE. However\, if we choose to Unwrap this Gift\, Our Journey can benefit the journey of others.
URL:https://mountain-na.org/event/circle-of-sisters-xxiv-womens-convention-of-narcotics-anonymous/
LOCATION:TN
END:VEVENT
BEGIN:VEVENT
DTSTART;TZID=America/New_York:20220306T193000
DTEND;TZID=America/New_York:20220306T203000
DTSTAMP:20260425T110904
CREATED:20220227T000718Z
LAST-MODIFIED:20220227T000718Z
UID:920-1646595000-1646598600@mountain-na.org
SUMMARY:Primary Purpose Group - Monthly Speaker Meetings
DESCRIPTION:To help bring recovery to Greeneville\, TN\, we are going to start having regular speaker meetings on the first Sunday of each month. Please come out and join us. If you would like to be a speaker please let us know. Eddy G. will be our first speaker on March 6\, 2022. Come on out to support him and the Primary Purpose Group.
URL:https://mountain-na.org/event/primary-purpose-group-monthly-speaker-meetings/
LOCATION:Primary Purpose Group Meeting Facility\, 201 S. Main Street\, Greeneville\, TN\, 37745\, United States
END:VEVENT
BEGIN:VEVENT
DTSTART;TZID=America/New_York:20220226T140000
DTEND;TZID=America/New_York:20220226T170000
DTSTAMP:20260425T110904
CREATED:20220221T022553Z
LAST-MODIFIED:20220221T022553Z
UID:914-1645884000-1645894800@mountain-na.org
SUMMARY:Volunteer Region CAT/CAR Workshop
DESCRIPTION:The Volunteer Region will be presenting a live virtual Zoom workshop covering the issues within the 2022 Conference Agenda Report. All NA members are welcome to attend.  During this cycle there are 5 motions up for consideration. All groups are encouraged to vote on the motions and submit their tally sheets to the Region Service Committee by March 15th\, 2022. \nZoom meeting ID: 901 350 5030  PW: NATN \nThe Interim CAR & CAT (ICC) is available for download from the Conference webpage: www.na.org/conference. The ICC contains explanatory essays on the motions and the World Service Conference. We encourage you to familiarize yourself with all of the content. Summary videos are also available at this same link.
URL:https://mountain-na.org/event/volunteer-region-cat-car-workshop/
LOCATION:TN
END:VEVENT
BEGIN:VEVENT
DTSTART;TZID=America/New_York:20220220T150000
DTEND;TZID=America/New_York:20220220T163000
DTSTAMP:20260425T110904
CREATED:20211230T182327Z
LAST-MODIFIED:20220206T162809Z
UID:873-1645369200-1645374600@mountain-na.org
SUMMARY:Mountain Area Service Committee Meeting
DESCRIPTION:If you are like most of us\, you will find that NA service through Area Service involvement is often a challenging yet rewarding experience. As a participating member of the Mountain Area Service Committee (MASC)\, you will be directly involved in developing\, coordinating and maintaining the services Narcotics Anonymous offers in the Mountain Area and worldwide. At these meetings MASC members\, subcommittee members and Group Service Representatives (GSRs) join together to develop\, coordinate\, and maintain the services of Narcotics Anonymous in this area. Representatives from new groups and new GSRs are encouraged to arrive early in order to receive GSR packets and a brief orientation before the 3:00 start.
URL:https://mountain-na.org/event/mountain-area-service-committee-meeting-6/
LOCATION:Just for Today Group Meeting Location\, 210 S Hills Drive\, Elizabethton\, TN\, 37643\, United States
END:VEVENT
BEGIN:VEVENT
DTSTART;TZID=America/New_York:20220208T190000
DTEND;TZID=America/New_York:20220208T200000
DTSTAMP:20260425T110904
CREATED:20220110T200701Z
LAST-MODIFIED:20220110T202003Z
UID:887-1644346800-1644350400@mountain-na.org
SUMMARY:David H. Celebrates 33 Years Clean!
DESCRIPTION:Join us when old man David H. picks up 33 years!
URL:https://mountain-na.org/event/david-h-celebrates-33-years-clean/
LOCATION:Nothing to Fear Group Facility\, 1104 Afton St.\, Johnson City\, TN\, 37601\, United States
END:VEVENT
BEGIN:VEVENT
DTSTART;TZID=America/New_York:20220206T190000
DTEND;TZID=America/New_York:20220206T210000
DTSTAMP:20260425T110904
CREATED:20211223T170001Z
LAST-MODIFIED:20211223T170531Z
UID:842-1644174000-1644181200@mountain-na.org
SUMMARY:Mike F. Celebrates 31 years clean!
DESCRIPTION:Join us as Mike F. celebrates 31 years clean! Dinner will be served at 7:00pm\, and Walt B. will be sharing his story at 8:00pm.
URL:https://mountain-na.org/event/mike-f-celebrates-31-years-clean/
LOCATION:Marion Survivor’s Group location\, 139 W. Main St.\, Marion\, VA\, 24354\, United States
END:VEVENT
BEGIN:VEVENT
DTSTART;TZID=America/New_York:20220202T200000
DTEND;TZID=America/New_York:20220202T210000
DTSTAMP:20260425T110904
CREATED:20220105T145559Z
LAST-MODIFIED:20220105T145559Z
UID:878-1643832000-1643835600@mountain-na.org
SUMMARY:Greg V. Celebrates 7 Years Clean!
DESCRIPTION:Join us as Greg V. celebrates 7 years clean.
URL:https://mountain-na.org/event/greg-v-celebrates-7-years-clean/
LOCATION:Just for Today Group Meeting Location\, 210 S Hills Drive\, Elizabethton\, TN\, 37643\, United States
END:VEVENT
END:VCALENDAR