BEGIN:VCALENDAR
VERSION:2.0
PRODID:-//Narcotics Anonymous - NA in Johnson City, Kingsport and Bristol - ECPv6.15.20//NONSGML v1.0//EN
CALSCALE:GREGORIAN
METHOD:PUBLISH
X-WR-CALNAME:Narcotics Anonymous - NA in Johnson City, Kingsport and Bristol
X-ORIGINAL-URL:https://mountain-na.org
X-WR-CALDESC:Events for Narcotics Anonymous - NA in Johnson City, Kingsport and Bristol
REFRESH-INTERVAL;VALUE=DURATION:PT1H
X-Robots-Tag:noindex
X-PUBLISHED-TTL:PT1H
BEGIN:VTIMEZONE
TZID:America/New_York
BEGIN:DAYLIGHT
TZOFFSETFROM:-0500
TZOFFSETTO:-0400
TZNAME:EDT
DTSTART:20200308T070000
END:DAYLIGHT
BEGIN:STANDARD
TZOFFSETFROM:-0400
TZOFFSETTO:-0500
TZNAME:EST
DTSTART:20201101T060000
END:STANDARD
BEGIN:DAYLIGHT
TZOFFSETFROM:-0500
TZOFFSETTO:-0400
TZNAME:EDT
DTSTART:20210314T070000
END:DAYLIGHT
BEGIN:STANDARD
TZOFFSETFROM:-0400
TZOFFSETTO:-0500
TZNAME:EST
DTSTART:20211107T060000
END:STANDARD
BEGIN:DAYLIGHT
TZOFFSETFROM:-0500
TZOFFSETTO:-0400
TZNAME:EDT
DTSTART:20220313T070000
END:DAYLIGHT
BEGIN:STANDARD
TZOFFSETFROM:-0400
TZOFFSETTO:-0500
TZNAME:EST
DTSTART:20221106T060000
END:STANDARD
BEGIN:DAYLIGHT
TZOFFSETFROM:-0500
TZOFFSETTO:-0400
TZNAME:EDT
DTSTART:20230312T070000
END:DAYLIGHT
BEGIN:STANDARD
TZOFFSETFROM:-0400
TZOFFSETTO:-0500
TZNAME:EST
DTSTART:20231105T060000
END:STANDARD
END:VTIMEZONE
BEGIN:VEVENT
DTSTART;TZID=America/New_York:20220131T190000
DTEND;TZID=America/New_York:20220131T200000
DTSTAMP:20260425T113811
CREATED:20211230T145919Z
LAST-MODIFIED:20220111T152202Z
UID:858-1643655600-1643659200@mountain-na.org
SUMMARY:Johna W. Celebrates 2 Years Clean!
DESCRIPTION:Join us as Johna W. celebrates 2 years clean. Polina K. will be sharing her story. \nMen are welcome to attend this meeting.
URL:https://mountain-na.org/event/johna-w-celebrates-2-years-clean/
LOCATION:Serenity Sisters Group\, 305 Christian Church Rd.\, Boones Creek\, TN\, 37615\, United States
END:VEVENT
BEGIN:VEVENT
DTSTART;TZID=America/New_York:20220128T120000
DTEND;TZID=America/New_York:20220130T140000
DTSTAMP:20260425T113811
CREATED:20211021T190108Z
LAST-MODIFIED:20211021T190108Z
UID:773-1643371200-1643551200@mountain-na.org
SUMMARY:41ST ANNUAL UPPER SOUTH CAROLINA AREA OF NARCOTICS ANONYMOUS CONVENTION
DESCRIPTION:The USCANA 41 Convention Committee has made the decision to move forward with hosting our convention in January 2022\, just like we hoped all those months back when we had to postpone the 2021 event.  WE ARE SO EXCITED!!  We hope you are as well. \nRegistration is now live!  You can register here on our site\, mail your flier with monies to our PO Box at USCANA PO Box 25456 Greenville SC 29616\, or if we are lucky enough to see you in person for a hug\, feel free to register with someone taking cash registrations on our committee listed on the flier.  Make sure they give you a receipt! \nThe Marriott hotel has been so gracious and worked with us to be sure we can hold our convention and we are very grateful.  At this time face coverings will be required inside the hotel commons areas. \nThings with Covid 19 are rapidly changing so please stay tuned here at our website for updates as we hope more and more restrictions will be lifted as we get closer to our convention in January 2022.
URL:https://mountain-na.org/event/41st-annual-upper-south-carolina-area-of-narcotics-anonymous-convention/
LOCATION:TN
END:VEVENT
BEGIN:VEVENT
DTSTART;TZID=America/New_York:20220124T190000
DTEND;TZID=America/New_York:20220124T200000
DTSTAMP:20260425T113811
CREATED:20211230T161234Z
LAST-MODIFIED:20211230T161347Z
UID:867-1643050800-1643054400@mountain-na.org
SUMMARY:Erin M. Celebrates 4 Years Clean!
DESCRIPTION:Join us as Erin M. celebrates 4 years clean. Kim B. will be sharing her story. \nMen are welcome to attend.
URL:https://mountain-na.org/event/erin-m-celebrates-4-years-clean/
LOCATION:Serenity Sisters Group\, 305 Christian Church Rd.\, Boones Creek\, TN\, 37615\, United States
END:VEVENT
BEGIN:VEVENT
DTSTART;TZID=America/New_York:20220121T190000
DTEND;TZID=America/New_York:20220121T200000
DTSTAMP:20260425T113811
CREATED:20211230T161852Z
LAST-MODIFIED:20220110T195325Z
UID:869-1642791600-1642795200@mountain-na.org
SUMMARY:Robin G. Celebrates 12 Years Clean!
DESCRIPTION:Join us as Robin G. celebrates 12 years clean. Leah R. will be sharing her story.
URL:https://mountain-na.org/event/robin-g-celebrates-12-years-clean/
LOCATION:Miracles Happen Group Facility\, 105 S. Boone Street\, Johnson City\, TN\, 37604
END:VEVENT
BEGIN:VEVENT
DTSTART;TZID=America/New_York:20220116T150000
DTEND;TZID=America/New_York:20220116T170000
DTSTAMP:20260425T113811
CREATED:20211021T183620Z
LAST-MODIFIED:20220113T162920Z
UID:768-1642345200-1642352400@mountain-na.org
SUMMARY:Mountain Area Service Committee Meeting - Canceled*
DESCRIPTION:This event has been canceled. \n  \nIf you are like most of us\, you will find that NA service through Area Service involvement is often a challenging yet rewarding experience. As a participating member of the Mountain Area Service Committee (MASC)\, you will be directly involved in developing\, coordinating and maintaining the services Narcotics Anonymous offers in the Mountain Area and worldwide. At these meetings MASC members\, subcommittee members and Group Service Representatives (GSRs) join together to develop\, coordinate\, and maintain the services of Narcotics Anonymous in this area. Representatives from new groups and new GSRs are encouraged to arrive early in order to receive GSR packets and a brief orientation before the 3:00 start.
URL:https://mountain-na.org/event/mountain-area-service-committee-meeting-5/
LOCATION:TN
END:VEVENT
BEGIN:VEVENT
DTSTART;TZID=America/New_York:20220115T180000
DTEND;TZID=America/New_York:20220115T200000
DTSTAMP:20260425T113811
CREATED:20211230T160050Z
LAST-MODIFIED:20220114T211737Z
UID:863-1642269600-1642276800@mountain-na.org
SUMMARY:Brenda V.\, Donna S. & Phil S. Celebrate 101 Combined Years Clean! - Canceled*
DESCRIPTION:The meeting will occur\, but the pizza party & celebration has been canceled. \n  \nCome join us as Brenda V. picks up 34 years\, Donna S. picks up 34 years\, and Phil S. picks up 33 years. \nPizza will be served at 6:00\, and a speaker meeting featuring Greg V. will begin at 7:00. \nThis will also be A New Day Group’s official restart of the regular Saturday night meeting in Abingdon.
URL:https://mountain-na.org/event/brenda-v-donna-s-phil-s-celebrate-101-combined-years-clean/
LOCATION:TN
END:VEVENT
BEGIN:VEVENT
DTSTART;TZID=America/New_York:20220111T190000
DTEND;TZID=America/New_York:20220111T200000
DTSTAMP:20260425T113811
CREATED:20211230T150925Z
LAST-MODIFIED:20211230T150925Z
UID:860-1641927600-1641931200@mountain-na.org
SUMMARY:Jenora P. & Eric S. Celebrate 14 Combined Years Clean!
DESCRIPTION:Join us as Jenora P. picks up 10 years and Eric S. picks up 4 years.
URL:https://mountain-na.org/event/jenora-p-eric-s-celebrate-14-combined-years-clean/
LOCATION:Nothing to Fear Group Facility\, 1104 Afton St.\, Johnson City\, TN\, 37601\, United States
END:VEVENT
BEGIN:VEVENT
DTSTART;TZID=America/New_York:20220107T120000
DTEND;TZID=America/New_York:20220109T140000
DTSTAMP:20260425T113811
CREATED:20210930T191554Z
LAST-MODIFIED:20211214T150137Z
UID:732-1641556800-1641736800@mountain-na.org
SUMMARY:Spiritually High in the Land of the Sky XXXVI - "Persevere Through Fear"
DESCRIPTION:Crowne Plaza Hotel \n1 Resort Drive \nAsheville\, NC 28806 \n*Ride Share opportunities available – Departing Saturday morning\, returning late Saturday night – Contact the Activities Subcommittee for more details or check this website later for more details.*
URL:https://mountain-na.org/event/spiritually-high-in-the-land-of-the-sky-xxxvi-persevere-through-fear/
LOCATION:TN
END:VEVENT
BEGIN:VEVENT
DTSTART;TZID=America/New_York:20211231T190000
DTEND;TZID=America/New_York:20220101T000000
DTSTAMP:20260425T113811
CREATED:20211211T222416Z
LAST-MODIFIED:20211229T152315Z
UID:814-1640977200-1640995200@mountain-na.org
SUMMARY:New Year's Eve Party!
DESCRIPTION:Come celebrate with us as we bring in the new year clean! \n\n7:00 – Miracles Happen meeting with Stephanie M. celebrating 2 years\,\n8:15 – Buffet dinner\, suggested $5.00 per plate\, but no one will be turned away\,\n9:15 – Speaker Meeting\,\n10:30 – Dance
URL:https://mountain-na.org/event/new-years-eve-party/
LOCATION:Miracles Happen Group Facility\, 105 S. Boone Street\, Johnson City\, TN\, 37604
END:VEVENT
BEGIN:VEVENT
DTSTART;TZID=America/New_York:20211231T190000
DTEND;TZID=America/New_York:20211231T200000
DTSTAMP:20260425T113811
CREATED:20211209T161026Z
LAST-MODIFIED:20211223T165501Z
UID:800-1640977200-1640980800@mountain-na.org
SUMMARY:Stephanie M. Celebrates 2 Years Clean!
DESCRIPTION:Join us as Stephanie M. celebrates 2 years clean. Dottie G. will be sharing her story. \nNew Year’s Eve dinner\, meeting and dance to follow.
URL:https://mountain-na.org/event/stephanie-m-celebrates-2-years-clean/
LOCATION:Miracles Happen Group Facility\, 105 S. Boone Street\, Johnson City\, TN\, 37604
END:VEVENT
BEGIN:VEVENT
DTSTART;TZID=America/New_York:20211219T150000
DTEND;TZID=America/New_York:20211219T170000
DTSTAMP:20260425T113811
CREATED:20211021T183455Z
LAST-MODIFIED:20211114T231623Z
UID:766-1639926000-1639933200@mountain-na.org
SUMMARY:Mountain Area Service Committee Meeting
DESCRIPTION:If you are like most of us\, you will find that NA service through Area Service involvement is often a challenging yet rewarding experience. As a participating member of the Mountain Area Service Committee (MASC)\, you will be directly involved in developing\, coordinating and maintaining the services Narcotics Anonymous offers in the Mountain Area and worldwide. At these meetings MASC members\, subcommittee members and Group Service Representatives (GSRs) join together to develop\, coordinate\, and maintain the services of Narcotics Anonymous in this area. Representatives from new groups and new GSRs are encouraged to arrive early in order to receive GSR packets and a brief orientation before the 3:00 start.
URL:https://mountain-na.org/event/mountain-area-service-committee-meeting-4/
LOCATION:End of the Road Group Facility\, 603 Sunset Drive\, Johnson City\, TN\, 37604\, United States
END:VEVENT
BEGIN:VEVENT
DTSTART;TZID=America/New_York:20211217T190000
DTEND;TZID=America/New_York:20211217T200000
DTSTAMP:20260425T113811
CREATED:20211209T161614Z
LAST-MODIFIED:20211211T210316Z
UID:802-1639767600-1639771200@mountain-na.org
SUMMARY:Amanda S. Celebrates 1 Year Clean!
DESCRIPTION:Join us as Amanda celebrates her first year clean. \nEric S. will be sharing his story.
URL:https://mountain-na.org/event/amanda-s-celebrates-1-year-clean/
LOCATION:Miracles Happen Group Facility\, 105 S. Boone Street\, Johnson City\, TN\, 37604
END:VEVENT
BEGIN:VEVENT
DTSTART;TZID=America/New_York:20211211T140000
DTEND;TZID=America/New_York:20211211T160000
DTSTAMP:20260425T113811
CREATED:20211206T230352Z
LAST-MODIFIED:20211206T230352Z
UID:794-1639231200-1639238400@mountain-na.org
SUMMARY:Activities Subcommittee Meeting
DESCRIPTION:Come join us as we plan upcoming events and gatherings for the members of Narcotics Anonymous. \nNo clean time requirements.
URL:https://mountain-na.org/event/activities-subcommittee-meeting/
LOCATION:Pike House Coffee Co.\, 2203 McKinley Rd. Ste 101\, Johnson City\, TN\, 37604\, United States
END:VEVENT
BEGIN:VEVENT
DTSTART;TZID=America/New_York:20211125T190000
DTEND;TZID=America/New_York:20211125T230000
DTSTAMP:20260425T113811
CREATED:20211124T162122Z
LAST-MODIFIED:20211124T162122Z
UID:792-1637866800-1637881200@mountain-na.org
SUMMARY:Thanksgiving Day Mini Marathon Meeting
DESCRIPTION:The Nothing to Fear group will be hosting a mini marathon meeting on Thanksgiving day.
URL:https://mountain-na.org/event/thanksgiving-day-mini-marathon-meeting/
LOCATION:TN
END:VEVENT
BEGIN:VEVENT
DTSTART;TZID=America/New_York:20211125T120000
DTEND;TZID=America/New_York:20211128T140000
DTSTAMP:20260425T113811
CREATED:20210930T192533Z
LAST-MODIFIED:20210930T192806Z
UID:734-1637841600-1638108000@mountain-na.org
SUMMARY:Volunteer Regional Convention 39 - Recovery is a Full-Contact Lifelong Process
DESCRIPTION:Holiday Inn – University of Memphis \n3700 Central Avenue \nMemphis\, TN 38111
URL:https://mountain-na.org/event/volunteer-regional-convention-39-recovery-is-a-full-contact-lifelong-process/
LOCATION:TN
END:VEVENT
BEGIN:VEVENT
DTSTART;TZID=America/New_York:20211123T190000
DTEND;TZID=America/New_York:20211123T200000
DTSTAMP:20260425T113811
CREATED:20211024T214702Z
LAST-MODIFIED:20211024T214702Z
UID:778-1637694000-1637697600@mountain-na.org
SUMMARY:Phil L. Celebrates 29 Years Clean!
DESCRIPTION:Come join us in Greeneville as Phil L. celebrates 29 years clean. Phil will be sharing his story along with Ricardo S.
URL:https://mountain-na.org/event/phil-l-celebrates-29-years-clean/
LOCATION:Primary Purpose Group Meeting Facility\, 201 S. Main Street\, Greeneville\, TN\, 37745\, United States
END:VEVENT
BEGIN:VEVENT
DTSTART;TZID=America/New_York:20211121T150000
DTEND;TZID=America/New_York:20211121T170000
DTSTAMP:20260425T113811
CREATED:20210822T003251Z
LAST-MODIFIED:20211021T181111Z
UID:475-1637506800-1637514000@mountain-na.org
SUMMARY:Mountain Area Service Committee Meeting
DESCRIPTION:If you are like most of us\, you will find that NA service through Area Service involvement is often a challenging yet rewarding experience. As a participating member of the Mountain Area Service Committee (MASC)\, you will be directly involved in developing\, coordinating and maintaining the services Narcotics Anonymous offers in the Mountain Area and worldwide. At these meetings MASC members\, subcommittee members and Group Service Representatives (GSRs) join together to develop\, coordinate\, and maintain the services of Narcotics Anonymous in this area. Representatives from new groups and new GSRs are encouraged to arrive early in order to receive GSR packets and a brief orientation before the 3:00 start.
URL:https://mountain-na.org/event/mountain-area-service-committee-meeting-3/
LOCATION:Miracles Happen Group Facility\, 105 S. Boone Street\, Johnson City\, TN\, 37604
END:VEVENT
BEGIN:VEVENT
DTSTART;TZID=America/New_York:20211110T190000
DTEND;TZID=America/New_York:20211110T200000
DTSTAMP:20260425T113811
CREATED:20211021T182742Z
LAST-MODIFIED:20211021T182742Z
UID:762-1636570800-1636574400@mountain-na.org
SUMMARY:Lauren A. Celebrates 2 Years Clean!
DESCRIPTION:Join us as Lauren A. celebrates 2 years clean.  Stick around after the meeting for some cake.
URL:https://mountain-na.org/event/lauren-a-celebrates-2-years-clean/
LOCATION:End of the Road Group Facility\, 603 Sunset Drive\, Johnson City\, TN\, 37604\, United States
END:VEVENT
BEGIN:VEVENT
DTSTART;TZID=America/New_York:20211103T190000
DTEND;TZID=America/New_York:20211103T200000
DTSTAMP:20260425T113811
CREATED:20211021T182233Z
LAST-MODIFIED:20211021T182233Z
UID:758-1635966000-1635969600@mountain-na.org
SUMMARY:Vanessa C. & Josh G. Celebration with Jenora P. Speaking!
DESCRIPTION:Join us as Vanessa C. celebrates 3 years clean and Josh G. celebrates his first year clean. \nJenora P. will be sharing her experience\, strength and hope.
URL:https://mountain-na.org/event/vanessa-c-josh-g-celebration-with-jenora-p-speaking/
LOCATION:End of the Road Group Facility\, 603 Sunset Drive\, Johnson City\, TN\, 37604\, United States
END:VEVENT
BEGIN:VEVENT
DTSTART;TZID=America/New_York:20211030T200000
DTEND;TZID=America/New_York:20211030T223000
DTSTAMP:20260425T113811
CREATED:20211005T142637Z
LAST-MODIFIED:20211005T151335Z
UID:737-1635624000-1635633000@mountain-na.org
SUMMARY:Halloween Party
DESCRIPTION:Print Ready 2021 Halloween Flyer \n 
URL:https://mountain-na.org/event/halloween-party/
LOCATION:Miracles Happen Group Facility\, 105 S. Boone Street\, Johnson City\, TN\, 37604
END:VEVENT
BEGIN:VEVENT
DTSTART;TZID=America/New_York:20211023T150000
DTEND;TZID=America/New_York:20211023T180000
DTSTAMP:20260425T113811
CREATED:20211021T184551Z
LAST-MODIFIED:20211021T184551Z
UID:770-1635001200-1635012000@mountain-na.org
SUMMARY:Black NA Pioneers - Share Their Stories
DESCRIPTION:Zoom ID 845 4768 6271\nPassword: 233824
URL:https://mountain-na.org/event/black-na-pioneers-share-their-stories/
LOCATION:TN
END:VEVENT
BEGIN:VEVENT
DTSTART;TZID=America/New_York:20211018T190000
DTEND;TZID=America/New_York:20211018T200000
DTSTAMP:20260425T113811
CREATED:20211005T144819Z
LAST-MODIFIED:20211005T144819Z
UID:743-1634583600-1634587200@mountain-na.org
SUMMARY:Leah R. Celebrates 13 Years!
DESCRIPTION:Join us in Johnson City for Leah’s 13th anniversary clean. \nThis is a women’s meeting\, but men will be welcome for this special occasion.
URL:https://mountain-na.org/event/leah-r-celebrates-13-years/
LOCATION:Serenity Sisters Group\, 305 Christian Church Rd.\, Boones Creek\, TN\, 37615\, United States
END:VEVENT
BEGIN:VEVENT
DTSTART;TZID=America/New_York:20211017T150000
DTEND;TZID=America/New_York:20211017T170000
DTSTAMP:20260425T113811
CREATED:20210822T002530Z
LAST-MODIFIED:20210930T191042Z
UID:470-1634482800-1634490000@mountain-na.org
SUMMARY:Mountain Area Service Committee Meeting
DESCRIPTION:If you are like most of us\, you will find that NA service through Area Service involvement is often a challenging yet rewarding experience. As a participating member of the Mountain Area Service Committee (MASC)\, you will be directly involved in developing\, coordinating and maintaining the services Narcotics Anonymous offers in the Mountain Area and worldwide. At these meetings MASC members\, subcommittee members and Group Service Representatives (GSRs) join together to develop\, coordinate\, and maintain the services of Narcotics Anonymous in this area. Representatives from new groups and new GSRs are encouraged to arrive early in order to receive GSR packets and a brief orientation before the 3:00 start.
URL:https://mountain-na.org/event/mountain-area-service-committee-meeting-2/
LOCATION:Primary Purpose Group Meeting Facility\, 201 S. Main Street\, Greeneville\, TN\, 37745\, United States
END:VEVENT
BEGIN:VEVENT
DTSTART;TZID=America/New_York:20211011T190000
DTEND;TZID=America/New_York:20211011T200000
DTSTAMP:20260425T113811
CREATED:20211008T154558Z
LAST-MODIFIED:20211008T154558Z
UID:755-1633978800-1633982400@mountain-na.org
SUMMARY:Brian A. Celebrates 15 Years!
DESCRIPTION:Join us Monday October 11th as Brian A. celebrates 15 years clean.
URL:https://mountain-na.org/event/brian-a-celebrates-15-years/
LOCATION:Miracles Happen Group Facility\, 105 S. Boone Street\, Johnson City\, TN\, 37604
END:VEVENT
BEGIN:VEVENT
DTSTART;TZID=America/New_York:20211009T190000
DTEND;TZID=America/New_York:20211009T200000
DTSTAMP:20260425T113811
CREATED:20211005T143728Z
LAST-MODIFIED:20211005T143728Z
UID:739-1633806000-1633809600@mountain-na.org
SUMMARY:Chris P. Celebrates 35 Years!
DESCRIPTION:Join us in Kingsport for Chris’ 35th anniversary clean.
URL:https://mountain-na.org/event/chris-p-celebrates-35-years/
LOCATION:New Way of Life Group Facility – Prospect Center\, 1425 E Center Street\, Kingsport\, TN\, 37664\, United States
END:VEVENT
BEGIN:VEVENT
DTSTART;TZID=America/New_York:20210919T150000
DTEND;TZID=America/New_York:20210919T170000
DTSTAMP:20260425T113811
CREATED:20210822T000553Z
LAST-MODIFIED:20210822T162549Z
UID:461-1632063600-1632070800@mountain-na.org
SUMMARY:Mountain Area Service Committee Meeting
DESCRIPTION:If you are like most of us\, you will find that NA service through Area Service involvement is often a challenging yet rewarding experience. As a participating member of the Mountain Area Service Committee (MASC)\, you will be directly involved in developing\, coordinating and maintaining the services Narcotics Anonymous offers in the Mountain Area and worldwide. At these meetings MASC members\, subcommittee members and Group Service Representatives (GSRs) join together to develop\, coordinate\, and maintain the services of Narcotics Anonymous in this area. Representatives from new groups and new GSRs are encouraged to arrive early in order to receive GSR packets and a brief orientation before the 3:00 start.
URL:https://mountain-na.org/event/mountain-area-service-committee-meeting/
LOCATION:Just for Today Group Meeting Location\, 210 S Hills Drive\, Elizabethton\, TN\, 37643\, United States
END:VEVENT
BEGIN:VEVENT
DTSTART;TZID=America/New_York:20210917T190000
DTEND;TZID=America/New_York:20210917T200000
DTSTAMP:20260425T113811
CREATED:20210913T025414Z
LAST-MODIFIED:20210913T025414Z
UID:722-1631905200-1631908800@mountain-na.org
SUMMARY:Dottie G. Celebrates 31 Years
DESCRIPTION:Join us at Miracles Happen as Dottie G. celebrates 31 years clean.  Stanley W. will be sharing his story.
URL:https://mountain-na.org/event/dottie-g-celebrates-31-years/
LOCATION:Miracles Happen Group Facility\, 105 S. Boone Street\, Johnson City\, TN\, 37604
END:VEVENT
BEGIN:VEVENT
DTSTART;TZID=America/New_York:20210911T120000
DTEND;TZID=America/New_York:20210911T170000
DTSTAMP:20260425T113811
CREATED:20210827T212437Z
LAST-MODIFIED:20210827T213448Z
UID:552-1631361600-1631379600@mountain-na.org
SUMMARY:Just for Today Group - 35th Anniversary Picnic
DESCRIPTION:Join us as we celebrate 35 years of Carrying the Message of Recovery! \nThe fun starts at noon. There will be a picnic/pot luck\, a discussion of NA’s 35 year history in this area\, an auction and a meeting at 2:00.
URL:https://mountain-na.org/event/just-for-today-group-35th-anniversary-picnic/
LOCATION:Cat Island City Park\, US Hwy 19E\, Elizabethton\, TN\, 37643\, United States
END:VEVENT
BEGIN:VEVENT
DTSTART;TZID=America/New_York:20210910T190000
DTEND;TZID=America/New_York:20210910T200000
DTSTAMP:20260425T113811
CREATED:20210828T225602Z
LAST-MODIFIED:20210901T193916Z
UID:562-1631300400-1631304000@mountain-na.org
SUMMARY:Reggie G. Celebrates 18 Years Clean!
DESCRIPTION:Join us as Mike P. will be sharing his experience\, strength & hope.
URL:https://mountain-na.org/event/reggie-g-celebrates-18-years-clean/
LOCATION:Miracles Happen Group Facility\, 105 S. Boone Street\, Johnson City\, TN\, 37604
END:VEVENT
BEGIN:VEVENT
DTSTART;VALUE=DATE:20210904
DTEND;VALUE=DATE:20210905
DTSTAMP:20260425T113811
CREATED:20210828T232517Z
LAST-MODIFIED:20210828T232517Z
UID:565-1630713600-1630799999@mountain-na.org
SUMMARY:World Unity Day for Narcotics Anonymous
DESCRIPTION:Join NA members for a heartfelt expression of NA’s worldwide unity as we take a moment to reflect on our global Fellowship and our primary purpose: to carry the NA message to the addict who still suffers. \nOn September 4th (the 5th for our friends across the date line)\, we will all join together to share the Serenity Prayer. \nParticipate however you are able – attend a Unity Day event or virtual meeting\, gather with friends\, or take a moment to yourself at any time on Unity Day to celebrate our worldwide NA Fellowship.
URL:https://mountain-na.org/event/world-unity-day-for-narcotics-anonymous/
LOCATION:TN
END:VEVENT
END:VCALENDAR