BEGIN:VCALENDAR
VERSION:2.0
PRODID:-//Narcotics Anonymous - NA in Johnson City, Kingsport and Bristol - ECPv6.15.20//NONSGML v1.0//EN
CALSCALE:GREGORIAN
METHOD:PUBLISH
X-WR-CALNAME:Narcotics Anonymous - NA in Johnson City, Kingsport and Bristol
X-ORIGINAL-URL:https://mountain-na.org
X-WR-CALDESC:Events for Narcotics Anonymous - NA in Johnson City, Kingsport and Bristol
REFRESH-INTERVAL;VALUE=DURATION:PT1H
X-Robots-Tag:noindex
X-PUBLISHED-TTL:PT1H
BEGIN:VTIMEZONE
TZID:America/New_York
BEGIN:DAYLIGHT
TZOFFSETFROM:-0500
TZOFFSETTO:-0400
TZNAME:EDT
DTSTART:20230312T070000
END:DAYLIGHT
BEGIN:STANDARD
TZOFFSETFROM:-0400
TZOFFSETTO:-0500
TZNAME:EST
DTSTART:20231105T060000
END:STANDARD
BEGIN:DAYLIGHT
TZOFFSETFROM:-0500
TZOFFSETTO:-0400
TZNAME:EDT
DTSTART:20240310T070000
END:DAYLIGHT
BEGIN:STANDARD
TZOFFSETFROM:-0400
TZOFFSETTO:-0500
TZNAME:EST
DTSTART:20241103T060000
END:STANDARD
BEGIN:DAYLIGHT
TZOFFSETFROM:-0500
TZOFFSETTO:-0400
TZNAME:EDT
DTSTART:20250309T070000
END:DAYLIGHT
BEGIN:STANDARD
TZOFFSETFROM:-0400
TZOFFSETTO:-0500
TZNAME:EST
DTSTART:20251102T060000
END:STANDARD
BEGIN:DAYLIGHT
TZOFFSETFROM:-0500
TZOFFSETTO:-0400
TZNAME:EDT
DTSTART:20260308T070000
END:DAYLIGHT
BEGIN:STANDARD
TZOFFSETFROM:-0400
TZOFFSETTO:-0500
TZNAME:EST
DTSTART:20261101T060000
END:STANDARD
END:VTIMEZONE
BEGIN:VEVENT
DTSTART;TZID=America/New_York:20250315T130000
DTEND;TZID=America/New_York:20250315T160000
DTSTAMP:20260424T100006
CREATED:20250223T151607Z
LAST-MODIFIED:20250223T151607Z
UID:1774-1742043600-1742054400@mountain-na.org
SUMMARY:Shamrocks and Chili Pots ☘️ Pre-St. Patty’s Day Extravaganza
DESCRIPTION:Join us for the Shamrocks and Chili Pots Pre-St. Patty’s Day Extravaganza on March 15th from 1-4:00 PM at the Miracles Happen location (First Presbyterian Church\, 105 S. Boone St\, Johnson City TN 37604). Bring a pot of chili for a chili cook-off\, join in on an auction and raffle\, and hear some great recovery from speakers from across the mountain area. \nSuggested donation is $5 and will go to support the 2025 Unity in the Mountains Convention.
URL:https://mountain-na.org/event/shamrocks-and-chili-pots-%e2%98%98%ef%b8%8f-pre-st-pattys-day-extravaganza/
LOCATION:Miracles Happen Group Facility\, 105 S. Boone Street\, Johnson City\, TN\, 37604
END:VEVENT
BEGIN:VEVENT
DTSTART;TZID=America/New_York:20250310T190000
DTEND;TZID=America/New_York:20250310T200000
DTSTAMP:20260424T100006
CREATED:20250226T193103Z
LAST-MODIFIED:20250226T195718Z
UID:1857-1741633200-1741636800@mountain-na.org
SUMMARY:Sarah SM Celebrates 6 Years Clean!
DESCRIPTION:Join us when Sarah SM celebrates 6 years clean!
URL:https://mountain-na.org/event/sarah-sm-celebrates-6-years-clean/
LOCATION:Miracles Happen Group Facility\, 105 S. Boone Street\, Johnson City\, TN\, 37604
ATTACH;FMTTYPE=image/jpeg:https://mountain-na.org/wp-content/uploads/2025/02/IMG_0127.jpeg
END:VEVENT
BEGIN:VEVENT
DTSTART;TZID=America/New_York:20250307T190000
DTEND;TZID=America/New_York:20250307T200000
DTSTAMP:20260424T100006
CREATED:20250306T144046Z
LAST-MODIFIED:20250306T144046Z
UID:1865-1741374000-1741377600@mountain-na.org
SUMMARY:Ronnie C. Celebrates 3 Years Clean!
DESCRIPTION:Help us celebrate Ronnie C. and his 3rd year clean!
URL:https://mountain-na.org/event/ronnie-c-celebrates-3-years-clean/
LOCATION:Miracles Happen Group Facility\, 105 S. Boone Street\, Johnson City\, TN\, 37604
ATTACH;FMTTYPE=image/jpeg:https://mountain-na.org/wp-content/uploads/2025/02/IMG_0127.jpeg
END:VEVENT
BEGIN:VEVENT
DTSTART;TZID=America/New_York:20250307T173000
DTEND;TZID=America/New_York:20250307T183000
DTSTAMP:20260424T100006
CREATED:20250216T202459Z
LAST-MODIFIED:20250216T202459Z
UID:1765-1741368600-1741372200@mountain-na.org
SUMMARY:Kris A. Celebrates One Year Clean!
DESCRIPTION:Help us celebrate Kris A. on their one year clean! Justin M. will be sharing his story. 
URL:https://mountain-na.org/event/kris-a-celebrates-one-year-clean/
LOCATION:Johnson City Recovery Center\, 513 E. Unaka Avenue\, Johnson City\, TN\, 37601\, United States
ATTACH;FMTTYPE=image/jpeg:https://mountain-na.org/wp-content/uploads/2025/02/IMG_0127.jpeg
END:VEVENT
BEGIN:VEVENT
DTSTART;TZID=America/New_York:20250301T120000
DTEND;TZID=America/New_York:20250301T130000
DTSTAMP:20260424T100006
CREATED:20250216T202652Z
LAST-MODIFIED:20250216T202652Z
UID:1770-1740830400-1740834000@mountain-na.org
SUMMARY:Lumpy G. Celebrates 3 Years Clean!
DESCRIPTION:Help us celebrate Lumpy G. And his third year clean! Dottie G. will be sharing her story.
URL:https://mountain-na.org/event/lumpy-g-celebrates-3-years-clean/
LOCATION:Johnson City Recovery Center\, 513 E. Unaka Avenue\, Johnson City\, TN\, 37601\, United States
ATTACH;FMTTYPE=image/jpeg:https://mountain-na.org/wp-content/uploads/2025/02/IMG_0127.jpeg
END:VEVENT
BEGIN:VEVENT
DTSTART;TZID=America/New_York:20250219T080000
DTEND;TZID=America/New_York:20250219T090000
DTSTAMP:20260424T100006
CREATED:20250216T212331Z
LAST-MODIFIED:20250216T212331Z
UID:1777-1739952000-1739955600@mountain-na.org
SUMMARY:Jeremy B. Celebrates 2 Years Clean!
DESCRIPTION:Help us celebrate Jeremy B. in his 2nd year clean!
URL:https://mountain-na.org/event/jeremy-b-celebrates-2-years-clean/
LOCATION:Johnson City Recovery Center\, 513 E. Unaka Avenue\, Johnson City\, TN\, 37601\, United States
ATTACH;FMTTYPE=image/jpeg:https://mountain-na.org/wp-content/uploads/2025/02/IMG_0127.jpeg
END:VEVENT
BEGIN:VEVENT
DTSTART;TZID=America/New_York:20250214T190000
DTEND;TZID=America/New_York:20250214T230000
DTSTAMP:20260424T100006
CREATED:20250128T043615Z
LAST-MODIFIED:20250128T043615Z
UID:1750-1739559600-1739574000@mountain-na.org
SUMMARY:Celebrate the Love of Recovery
DESCRIPTION:Spend Valentine’s Day with us at the End of the Road group facility as we Celebrate the Love of Recovery. First\, we’ll have a 7:00 pm speaker meeting with Chris & Sarah M. Then\, a dance with a DJ from 8:30 – 11:00 pm. Pizza & drinks will be available for purchase\, and there is a $5.00 suggested donation. No one will be turned away.
URL:https://mountain-na.org/event/celebrate-the-love-of-recovery/
LOCATION:End of the Road Group Facility\, 603 Sunset Drive\, Johnson City\, TN\, 37604\, United States
END:VEVENT
BEGIN:VEVENT
DTSTART;TZID=America/New_York:20250208T160000
DTEND;TZID=America/New_York:20250208T200000
DTSTAMP:20260424T100006
CREATED:20250110T014052Z
LAST-MODIFIED:20250110T014242Z
UID:1723-1739030400-1739044800@mountain-na.org
SUMMARY:An Evening of Love and Recovery
DESCRIPTION:The Primary Purpose group will be hosting “An Evening of Love & Recovery” featuring fellowship\, dinner\, dessert\, and a speaker meeting. All happening in Greeneville at the Eastview Recreation Center party room. The festivities will start at 4:00\, and Randy K. will share his story at 6:00. All are welcome and encouraged to bring a covered dish and a Valentine’s dessert for the bake-off with half of the proceeds benefitting Unity in the Mountains. Join us!
URL:https://mountain-na.org/event/an-evening-of-love-and-recovery/
LOCATION:Eastview Recreation Center\, 456 Bernard Avenue Av\, Greeneville\, TN\, 37745
END:VEVENT
BEGIN:VEVENT
DTSTART;TZID=America/New_York:20250207T190000
DTEND;TZID=America/New_York:20250207T200000
DTSTAMP:20260424T100006
CREATED:20250108T205055Z
LAST-MODIFIED:20250108T205055Z
UID:1719-1738954800-1738958400@mountain-na.org
SUMMARY:Dale D. Celebrates 2 Years Clean!
DESCRIPTION:Join us when Dale D. celebrates 2 years clean.
URL:https://mountain-na.org/event/dale-d-celebrates-2-years-clean/
LOCATION:Miracles Happen Group Facility\, 105 S. Boone Street\, Johnson City\, TN\, 37604
ATTACH;FMTTYPE=image/jpeg:https://mountain-na.org/wp-content/uploads/2023/06/NA-Cake-copy.jpeg
END:VEVENT
BEGIN:VEVENT
DTSTART;TZID=America/New_York:20250207T190000
DTEND;TZID=America/New_York:20250207T200000
DTSTAMP:20260424T100006
CREATED:20240102T225858Z
LAST-MODIFIED:20250113T232328Z
UID:1437-1738954800-1738958400@mountain-na.org
SUMMARY:Greg V. Celebrates 10 Years Clean!
DESCRIPTION:Join us in Elizabethton when Greg V. celebrates 10 years clean. Surprise format.
URL:https://mountain-na.org/event/greg-v-celebrates-9-years-clean/
LOCATION:First Presbyterian Church – Elizabethton\, 119 West F Street\, Elizabethton\, TN\, 37643\, United States
ATTACH;FMTTYPE=image/jpeg:https://mountain-na.org/wp-content/uploads/2023/06/NA-Cake-copy.jpeg
END:VEVENT
BEGIN:VEVENT
DTSTART;TZID=America/New_York:20250203T190000
DTEND;TZID=America/New_York:20250203T200000
DTSTAMP:20260424T100006
CREATED:20250101T042351Z
LAST-MODIFIED:20250101T042359Z
UID:1699-1738609200-1738612800@mountain-na.org
SUMMARY:Jessica D. Celebrates 1 Year Clean!
DESCRIPTION:Join us at Serenity Sisters when Jessica D. celebrates her 1st year clean.
URL:https://mountain-na.org/event/jessica-d-celebrates-1-year-clean/
LOCATION:Serenity Sisters Group\, 305 Christian Church Rd.\, Boones Creek\, TN\, 37615\, United States
ATTACH;FMTTYPE=image/jpeg:https://mountain-na.org/wp-content/uploads/2023/06/NA-Cake-copy.jpeg
END:VEVENT
BEGIN:VEVENT
DTSTART;TZID=America/New_York:20250125T150000
DTEND;TZID=America/New_York:20250125T153000
DTSTAMP:20260424T100006
CREATED:20250101T173739Z
LAST-MODIFIED:20250101T173739Z
UID:1711-1737817200-1737819000@mountain-na.org
SUMMARY:Unity in the Mountains Programming Committee
DESCRIPTION:The UITM Programming Committee will be meeting to plan for the upcoming convention. All members are welcome to attend.
URL:https://mountain-na.org/event/unity-in-the-mountains-programming-committee/
LOCATION:Pike House Coffee Co.\, 2203 McKinley Rd. Ste 101\, Johnson City\, TN\, 37604\, United States
ATTACH;FMTTYPE=image/jpeg:https://mountain-na.org/wp-content/uploads/2024/11/UIM-2025-Logo.jpg
END:VEVENT
BEGIN:VEVENT
DTSTART;TZID=America/New_York:20250122T190000
DTEND;TZID=America/New_York:20250122T200000
DTSTAMP:20260424T100006
CREATED:20250108T210537Z
LAST-MODIFIED:20250108T210537Z
UID:1721-1737572400-1737576000@mountain-na.org
SUMMARY:Tammy S. Celebrates 3 Years Clean!
DESCRIPTION:Join us when Tammy S. celebrates 3 years clean. Amanda B. will be sharing her story.
URL:https://mountain-na.org/event/tammy-s-celebrates-3-years-clean/
LOCATION:End of the Road Group Facility\, 603 Sunset Drive\, Johnson City\, TN\, 37604\, United States
ATTACH;FMTTYPE=image/jpeg:https://mountain-na.org/wp-content/uploads/2023/06/NA-Cake-copy.jpeg
END:VEVENT
BEGIN:VEVENT
DTSTART;TZID=America/New_York:20250117T190000
DTEND;TZID=America/New_York:20250117T200000
DTSTAMP:20260424T100006
CREATED:20231226T175814Z
LAST-MODIFIED:20250113T232157Z
UID:1429-1737140400-1737144000@mountain-na.org
SUMMARY:Artie E. Celebrates 35 Years Clean!
DESCRIPTION:Join us at the Miracles Happen group when Artie celebrates 35 years clean!
URL:https://mountain-na.org/event/artie-e-celebrates-34-years-clean/
LOCATION:Miracles Happen Group Facility\, 105 S. Boone Street\, Johnson City\, TN\, 37604
ATTACH;FMTTYPE=image/jpeg:https://mountain-na.org/wp-content/uploads/2023/06/NA-Cake-copy.jpeg
END:VEVENT
BEGIN:VEVENT
DTSTART;TZID=America/New_York:20250114T190000
DTEND;TZID=America/New_York:20250114T200000
DTSTAMP:20260424T100006
CREATED:20231226T174234Z
LAST-MODIFIED:20250101T043001Z
UID:1425-1736881200-1736884800@mountain-na.org
SUMMARY:Jenora P. Celebrates 13 Years Clean and Lisa Celebrates 1 Year Clean!
DESCRIPTION:Joins us when Lisa celebrates her 1st year\, and Jenora P. picks up her 13 year medallion. Trish B. will be sharing her story.
URL:https://mountain-na.org/event/jenora-p-celebrates-12-years-clean/
LOCATION:Nothing to Fear Group Facility\, 1104 Afton St.\, Johnson City\, TN\, 37601\, United States
ATTACH;FMTTYPE=image/jpeg:https://mountain-na.org/wp-content/uploads/2023/06/NA-Cake-copy.jpeg
END:VEVENT
BEGIN:VEVENT
DTSTART;TZID=America/New_York:20250113T080000
DTEND;TZID=America/New_York:20250221T170000
DTSTAMP:20260424T100006
CREATED:20250101T172841Z
LAST-MODIFIED:20250119T040436Z
UID:1706-1736755200-1740157200@mountain-na.org
SUMMARY:Home Group Conference Agenda Report Motion Voting Deadline
DESCRIPTION:Each group in the Volunteer region may submit one tally sheet entry for the 2025 CAR/CAT. This link will take you to the entry form which must be completed by 2/21/25. \nGroup Voting Form
URL:https://mountain-na.org/event/home-group-conference-agenda-report-motion-voting-deadline/
LOCATION:TN
ATTACH;FMTTYPE=image/jpeg:https://mountain-na.org/wp-content/uploads/2023/02/I-Serve-Pin.jpeg
END:VEVENT
BEGIN:VEVENT
DTSTART;TZID=America/New_York:20250112T190000
DTEND;TZID=America/New_York:20250112T200000
DTSTAMP:20260424T100006
CREATED:20250101T043318Z
LAST-MODIFIED:20250101T164910Z
UID:1704-1736708400-1736712000@mountain-na.org
SUMMARY:Tater D. Celebrates 3 Years Clean!
DESCRIPTION:Join us when Tater clelebrates his 3rd year clean.
URL:https://mountain-na.org/event/tater-d-celebrates-3-years-clean/
LOCATION:End of the Road Group Facility\, 603 Sunset Drive\, Johnson City\, TN\, 37604\, United States
ATTACH;FMTTYPE=image/jpeg:https://mountain-na.org/wp-content/uploads/2023/06/NA-Cake-copy.jpeg
END:VEVENT
BEGIN:VEVENT
DTSTART;TZID=America/New_York:20250112T100000
DTEND;TZID=America/New_York:20250112T120000
DTSTAMP:20260424T100006
CREATED:20250101T035539Z
LAST-MODIFIED:20250101T035807Z
UID:1690-1736676000-1736683200@mountain-na.org
SUMMARY:Volunteer Region CAT/CAR Virtual Workshop
DESCRIPTION:All members in the Volunteer region are invited to attend this virtual workshop. All motions contained in the 2025 Conference Agenda Report/Track will be discussed and explained. \nThe interim world service conference agenda report (aka WSC CAR) was published on November 28\, 2024. There are 12 motions that are\, in effect\, about WSC business. Many are a result of the new three-year cycle. That is\, the 2023 recent conference decisions only extended to 2025. \nWSC Report link   https://na.org/wp-content/uploads/2024/11/2025-Interim-WSC-Report-1.pdf  \nMeeting ID 901-350-5030 PW NATN
URL:https://mountain-na.org/event/volunteer-region-cat-car-virtual-workshop/
LOCATION:Virtual / Zoom Meeting
ATTACH;FMTTYPE=image/jpeg:https://mountain-na.org/wp-content/uploads/2023/02/I-Serve-Pin.jpeg
END:VEVENT
BEGIN:VEVENT
DTSTART;TZID=America/New_York:20250111T110000
DTEND;TZID=America/New_York:20250111T180000
DTSTAMP:20260424T100006
CREATED:20250101T040318Z
LAST-MODIFIED:20250101T040318Z
UID:1693-1736593200-1736618400@mountain-na.org
SUMMARY:Curious About Fellowship Development?
DESCRIPTION:
URL:https://mountain-na.org/event/curious-about-fellowship-development/
LOCATION:TN
END:VEVENT
BEGIN:VEVENT
DTSTART;TZID=America/New_York:20250101T190000
DTEND;TZID=America/New_York:20250101T200000
DTSTAMP:20260424T100006
CREATED:20250101T042624Z
LAST-MODIFIED:20250101T042624Z
UID:1701-1735758000-1735761600@mountain-na.org
SUMMARY:Jason P. Celebrates 1 Year Clean!
DESCRIPTION:Join us when Jason P. celebrates his 1st year clean. Bill C. will be sharing his story.
URL:https://mountain-na.org/event/jason-p-celebrates-1-year-clean/
LOCATION:End of the Road Group Facility\, 603 Sunset Drive\, Johnson City\, TN\, 37604\, United States
ATTACH;FMTTYPE=image/jpeg:https://mountain-na.org/wp-content/uploads/2023/06/NA-Cake-copy.jpeg
END:VEVENT
BEGIN:VEVENT
DTSTART;TZID=America/New_York:20241226T190000
DTEND;TZID=America/New_York:20241226T200000
DTSTAMP:20260424T100006
CREATED:20241117T172607Z
LAST-MODIFIED:20241117T172607Z
UID:1654-1735239600-1735243200@mountain-na.org
SUMMARY:Cheryl A. celebrates 11 years clean!
DESCRIPTION:Come join us in Greeneville when Cheryl A. celebrates 11 years clean!
URL:https://mountain-na.org/event/cheryl-a-celebrates-11-years-clean/
LOCATION:Primary Purpose Group Meeting Facility\, 201 S. Main Street\, Greeneville\, TN\, 37745\, United States
ATTACH;FMTTYPE=image/jpeg:https://mountain-na.org/wp-content/uploads/2023/06/NA-Cake-copy.jpeg
END:VEVENT
BEGIN:VEVENT
DTSTART;TZID=America/New_York:20241220T190000
DTEND;TZID=America/New_York:20241220T200000
DTSTAMP:20260424T100006
CREATED:20241120T030554Z
LAST-MODIFIED:20241120T030554Z
UID:1677-1734721200-1734724800@mountain-na.org
SUMMARY:Fred H. Celebrates 2 Years Clean!
DESCRIPTION:Join us in Johnson City when Fred H. celebrates 2 years clean.
URL:https://mountain-na.org/event/fred-h-celebrates-2-years-clean/
LOCATION:Miracles Happen Group Facility\, 105 S. Boone Street\, Johnson City\, TN\, 37604
ATTACH;FMTTYPE=image/jpeg:https://mountain-na.org/wp-content/uploads/2023/06/NA-Cake-copy.jpeg
END:VEVENT
BEGIN:VEVENT
DTSTART;TZID=America/New_York:20241218T190000
DTEND;TZID=America/New_York:20241218T200000
DTSTAMP:20260424T100006
CREATED:20241117T172803Z
LAST-MODIFIED:20241117T172803Z
UID:1667-1734548400-1734552000@mountain-na.org
SUMMARY:April's 1st year clean celebration!
DESCRIPTION:Come join us in Greeneville when April celebrates 1 year clean!
URL:https://mountain-na.org/event/aprils-1st-year-clean-celebration/
LOCATION:Primary Purpose Group Meeting Facility\, 201 S. Main Street\, Greeneville\, TN\, 37745\, United States
ATTACH;FMTTYPE=image/jpeg:https://mountain-na.org/wp-content/uploads/2023/06/NA-Cake-copy.jpeg
END:VEVENT
BEGIN:VEVENT
DTSTART;TZID=America/New_York:20241202T190000
DTEND;TZID=America/New_York:20241202T200000
DTSTAMP:20260424T100006
CREATED:20241117T172950Z
LAST-MODIFIED:20241117T172950Z
UID:1663-1733166000-1733169600@mountain-na.org
SUMMARY:Randy K. celebrates 1 year clean!
DESCRIPTION:Come join us in Greeneville when Randy K. celebrates 1 year clean!
URL:https://mountain-na.org/event/randy-k-celebrates-1-year-clean/
LOCATION:Primary Purpose Group Meeting Facility\, 201 S. Main Street\, Greeneville\, TN\, 37745\, United States
ATTACH;FMTTYPE=image/jpeg:https://mountain-na.org/wp-content/uploads/2023/06/NA-Cake-copy.jpeg
END:VEVENT
BEGIN:VEVENT
DTSTART;TZID=America/New_York:20241201T070000
DTEND;TZID=America/New_York:20241201T200000
DTSTAMP:20260424T100006
CREATED:20241117T173146Z
LAST-MODIFIED:20241117T173146Z
UID:1659-1733036400-1733083200@mountain-na.org
SUMMARY:David A. Celebrates His 1st Year Clean!
DESCRIPTION:Join us in Greeneville when David A. celebrates his 1st year clean!
URL:https://mountain-na.org/event/david-a-celebrates-his-1st-year-clean/
LOCATION:Primary Purpose Group Meeting Facility\, 201 S. Main Street\, Greeneville\, TN\, 37745\, United States
ATTACH;FMTTYPE=image/jpeg:https://mountain-na.org/wp-content/uploads/2023/06/NA-Cake-copy.jpeg
END:VEVENT
BEGIN:VEVENT
DTSTART;TZID=America/New_York:20241127T200000
DTEND;TZID=America/New_York:20241127T210000
DTSTAMP:20260424T100006
CREATED:20241110T225501Z
LAST-MODIFIED:20241110T225501Z
UID:1651-1732737600-1732741200@mountain-na.org
SUMMARY:John D. Celebrates 25 Years Clean!
DESCRIPTION:Join us in Dandridge when John D. celebrates 25 years clean!
URL:https://mountain-na.org/event/john-d-celebrates-25-years-clean/
LOCATION:Easy Does It Group – First United Methodist Church – Dandridge\, TN\, 121 E. Meeting St.\, Dandridge\, TN\, 37725\, United States
ATTACH;FMTTYPE=image/jpeg:https://mountain-na.org/wp-content/uploads/2023/06/NA-Cake-copy.jpeg
END:VEVENT
BEGIN:VEVENT
DTSTART;TZID=America/New_York:20241122T190000
DTEND;TZID=America/New_York:20241122T200000
DTSTAMP:20260424T100006
CREATED:20241120T030336Z
LAST-MODIFIED:20241120T030352Z
UID:1675-1732302000-1732305600@mountain-na.org
SUMMARY:Gary B. Celebrates 3 Years Clean!
DESCRIPTION:Join us in Johnson City when Gary B. celebrates his 3rd year clean!
URL:https://mountain-na.org/event/gary-b-celebrates-3-years-clean/
LOCATION:Miracles Happen Group Facility\, 105 S. Boone Street\, Johnson City\, TN\, 37604
ATTACH;FMTTYPE=image/jpeg:https://mountain-na.org/wp-content/uploads/2023/06/NA-Cake-copy.jpeg
END:VEVENT
BEGIN:VEVENT
DTSTART;TZID=America/New_York:20241122T190000
DTEND;TZID=America/New_York:20241122T200000
DTSTAMP:20260424T100006
CREATED:20241117T173301Z
LAST-MODIFIED:20241117T173301Z
UID:1665-1732302000-1732305600@mountain-na.org
SUMMARY:Phil L. Celebrates 32 Years Clean!
DESCRIPTION:Come join us in Greeneville when Phil L. celebrates 32 years clean!
URL:https://mountain-na.org/event/phil-l-celebrates-32-years-clean/
LOCATION:Primary Purpose Group Meeting Facility\, 201 S. Main Street\, Greeneville\, TN\, 37745\, United States
ATTACH;FMTTYPE=image/jpeg:https://mountain-na.org/wp-content/uploads/2023/06/NA-Cake-copy.jpeg
END:VEVENT
BEGIN:VEVENT
DTSTART;TZID=America/New_York:20241120T190000
DTEND;TZID=America/New_York:20241120T200000
DTSTAMP:20260424T100006
CREATED:20241105T030252Z
LAST-MODIFIED:20241105T030252Z
UID:1640-1732129200-1732132800@mountain-na.org
SUMMARY:Tommy G. Celebrates 7 Years Clean!
DESCRIPTION:Join us when Tommy G. celebrates 7 years clean. Josh W. will be sharing his story.
URL:https://mountain-na.org/event/tommy-g-celebrates-7-years-clean/
LOCATION:End of the Road Group Facility\, 603 Sunset Drive\, Johnson City\, TN\, 37604\, United States
ATTACH;FMTTYPE=image/jpeg:https://mountain-na.org/wp-content/uploads/2023/06/NA-Cake-copy.jpeg
END:VEVENT
BEGIN:VEVENT
DTSTART;TZID=America/New_York:20241118T180000
DTEND;TZID=America/New_York:20241118T210000
DTSTAMP:20260424T100006
CREATED:20241105T032825Z
LAST-MODIFIED:20241105T032825Z
UID:1646-1731952800-1731963600@mountain-na.org
SUMMARY:'Easy Does It' Group's Pre-Thanksgiving Gratitude Dinner Meeting
DESCRIPTION:
URL:https://mountain-na.org/event/easy-does-it-groups-pre-thanksgiving-gratitude-dinner-meeting/
LOCATION:Easy Does It Group – First United Methodist Church – Dandridge\, TN\, 121 E. Meeting St.\, Dandridge\, TN\, 37725\, United States
END:VEVENT
END:VCALENDAR