BEGIN:VCALENDAR
VERSION:2.0
PRODID:-//Narcotics Anonymous - NA in Johnson City, Kingsport and Bristol - ECPv6.15.20//NONSGML v1.0//EN
CALSCALE:GREGORIAN
METHOD:PUBLISH
X-WR-CALNAME:Narcotics Anonymous - NA in Johnson City, Kingsport and Bristol
X-ORIGINAL-URL:https://mountain-na.org
X-WR-CALDESC:Events for Narcotics Anonymous - NA in Johnson City, Kingsport and Bristol
REFRESH-INTERVAL;VALUE=DURATION:PT1H
X-Robots-Tag:noindex
X-PUBLISHED-TTL:PT1H
BEGIN:VTIMEZONE
TZID:America/New_York
BEGIN:DAYLIGHT
TZOFFSETFROM:-0500
TZOFFSETTO:-0400
TZNAME:EDT
DTSTART:20210314T070000
END:DAYLIGHT
BEGIN:STANDARD
TZOFFSETFROM:-0400
TZOFFSETTO:-0500
TZNAME:EST
DTSTART:20211107T060000
END:STANDARD
BEGIN:DAYLIGHT
TZOFFSETFROM:-0500
TZOFFSETTO:-0400
TZNAME:EDT
DTSTART:20220313T070000
END:DAYLIGHT
BEGIN:STANDARD
TZOFFSETFROM:-0400
TZOFFSETTO:-0500
TZNAME:EST
DTSTART:20221106T060000
END:STANDARD
BEGIN:DAYLIGHT
TZOFFSETFROM:-0500
TZOFFSETTO:-0400
TZNAME:EDT
DTSTART:20230312T070000
END:DAYLIGHT
BEGIN:STANDARD
TZOFFSETFROM:-0400
TZOFFSETTO:-0500
TZNAME:EST
DTSTART:20231105T060000
END:STANDARD
BEGIN:DAYLIGHT
TZOFFSETFROM:-0500
TZOFFSETTO:-0400
TZNAME:EDT
DTSTART:20240310T070000
END:DAYLIGHT
BEGIN:STANDARD
TZOFFSETFROM:-0400
TZOFFSETTO:-0500
TZNAME:EST
DTSTART:20241103T060000
END:STANDARD
END:VTIMEZONE
BEGIN:VEVENT
DTSTART;TZID=America/New_York:20230203T100000
DTEND;TZID=America/New_York:20230204T170000
DTSTAMP:20260425T105528
CREATED:20230120T164104Z
LAST-MODIFIED:20230120T164104Z
UID:1162-1675418400-1675530000@mountain-na.org
SUMMARY:National Multiple Zone CAR CAT Workshop
DESCRIPTION:This is a great opportunity to learn about the 2023 Conference Agenda Report. \nFriday February 3\, 2023 & Saturday February 4\, 2023\nEST : 10AM – 11P\nCST : 9AM – 10PM\nMST : 8AM – 9PM\nPST : 7AM – 8PM\nThe zoom information is:\nhttps://us02web.zoom.us/j/84928249670\nMeeting ID: 849 2824 9670\nFind your local number: https://us02web.zoom.us/u/koldrvI8q \nDownload flyer here.
URL:https://mountain-na.org/event/national-multiple-zone-car-cat-workshop/
LOCATION:Virtual / Zoom Meeting
END:VEVENT
BEGIN:VEVENT
DTSTART;TZID=America/New_York:20230202T180000
DTEND;TZID=America/New_York:20230202T190000
DTSTAMP:20260425T105528
CREATED:20230119T021955Z
LAST-MODIFIED:20230119T022704Z
UID:1152-1675360800-1675364400@mountain-na.org
SUMMARY:Greg V. Celebrates 8 Years Clean!
DESCRIPTION:Come join us in Elizabethton when Greg V. celebrates 8 years clean!
URL:https://mountain-na.org/event/greg-v-celebrates-8-years-clean/
LOCATION:Just for Today Group Meeting Location\, 210 S Hills Drive\, Elizabethton\, TN\, 37643\, United States
END:VEVENT
BEGIN:VEVENT
DTSTART;VALUE=DATE:20230201
DTEND;VALUE=DATE:20230416
DTSTAMP:20260425T105528
CREATED:20230120T164611Z
LAST-MODIFIED:20230321T211519Z
UID:1165-1675209600-1681603199@mountain-na.org
SUMMARY:2023 Conference Agenda
DESCRIPTION:The CAR is available (Conference Agenda Report)\n\n\nhttps://www.na.org/…/uploads/pdf/conference/2023CAR.pdf\n\n\nA Volunteer Region workshop will be held on Saturday February 25 at 10:30. Attendance is available virtually on Zoom: 901 350 5030 Passcode: NATN\n\nHelpful training videos and slides can be found here.\n\n\nAll home groups may submit their tally sheet votes by clicking here.\nVotes must be submitted by April 15th\, 2023.
URL:https://mountain-na.org/event/2023-conference-agenda/
LOCATION:TN
END:VEVENT
BEGIN:VEVENT
DTSTART;TZID=America/New_York:20230124T190000
DTEND;TZID=America/New_York:20230124T200000
DTSTAMP:20260425T105528
CREATED:20230119T020038Z
LAST-MODIFIED:20230119T020507Z
UID:1146-1674586800-1674590400@mountain-na.org
SUMMARY:Erin M. Celebrates 5 Years Clean!
DESCRIPTION:Join us as Erin M. celebrates 5 years clean!
URL:https://mountain-na.org/event/erin-m-celebrates-5-years-clean/
LOCATION:Nothing to Fear Group Facility\, 1104 Afton St.\, Johnson City\, TN\, 37601\, United States
END:VEVENT
BEGIN:VEVENT
DTSTART;TZID=America/New_York:20230120T190000
DTEND;TZID=America/New_York:20230120T200000
DTSTAMP:20260425T105528
CREATED:20230119T021810Z
LAST-MODIFIED:20230119T022549Z
UID:1150-1674241200-1674244800@mountain-na.org
SUMMARY:Robin G. Celebrates 13 Years Clean!
DESCRIPTION:Join us as Robin G. celebrates 13 years clean and Poulina will be sharing her story.
URL:https://mountain-na.org/event/robin-g-celebrates-13-years-clean/
LOCATION:Miracles Happen Group Facility\, 105 S. Boone Street\, Johnson City\, TN\, 37604
END:VEVENT
BEGIN:VEVENT
DTSTART;TZID=America/New_York:20230115T130000
DTEND;TZID=America/New_York:20230115T163000
DTSTAMP:20260425T105528
CREATED:20221213T223023Z
LAST-MODIFIED:20230104T142640Z
UID:1125-1673787600-1673800200@mountain-na.org
SUMMARY:Mountain Area Service Committee Meeting
DESCRIPTION:If you are like most of us\, you will find that NA service through Area Service involvement is often a challenging yet rewarding experience. As a participating member of the Mountain Area Service Committee (MASC)\, you will be directly involved in developing\, coordinating and maintaining the services Narcotics Anonymous offers in the Mountain Area and worldwide. At these meetings MASC members\, subcommittee members and Group Service Representatives (GSRs) join together to develop\, coordinate\, and maintain the services of Narcotics Anonymous in this area. Representatives from new groups and new GSRs are encouraged to arrive early in order to receive GSR packets and a brief orientation before the 3:00 start. \nCome early to participate and learn about our service subcommittees: Activities – 1:00pm; Public Relations – 1:30pm; Hospitals & Institutions 2:00pm
URL:https://mountain-na.org/event/mountain-area-service-committee-meeting-16/
LOCATION:Miracles Happen Group Facility\, 105 S. Boone Street\, Johnson City\, TN\, 37604
END:VEVENT
BEGIN:VEVENT
DTSTART;TZID=America/New_York:20230113T190000
DTEND;TZID=America/New_York:20230113T200000
DTSTAMP:20260425T105528
CREATED:20230113T201307Z
LAST-MODIFIED:20230113T201307Z
UID:1140-1673636400-1673640000@mountain-na.org
SUMMARY:Jana B. Celebrates 2 Years Clean!
DESCRIPTION:Join us in Bristol when Jana B. celebrates 2 years clean! Food will be provided.
URL:https://mountain-na.org/event/jana-b-celebrates-2-years-clean/
LOCATION:Surrender to Win Group meeting facility\, 1317 Weaver Pike\, Bristol\, TN\, 37620\, United States
END:VEVENT
BEGIN:VEVENT
DTSTART;TZID=America/New_York:20230111T190000
DTEND;TZID=America/New_York:20230111T210000
DTSTAMP:20260425T105528
CREATED:20230104T141513Z
LAST-MODIFIED:20230104T141513Z
UID:1138-1673463600-1673470800@mountain-na.org
SUMMARY:Tater D. Celebrates 1 Year Clean!
DESCRIPTION:Come join us for an eating speaker meeting as Tater D. celebrates 1 year of recovery. Erin M. will be sharing her story. Doors open at 7:00 for the meal\, and the meeting begins at 8:00. Hamburgers and hot dogs will be provided. Bring a side dish if possible.
URL:https://mountain-na.org/event/tater-d-celebrates-1-year-clean/
LOCATION:Just for Today Group Meeting Location\, 210 S Hills Drive\, Elizabethton\, TN\, 37643\, United States
END:VEVENT
BEGIN:VEVENT
DTSTART;TZID=America/New_York:20221218T130000
DTEND;TZID=America/New_York:20221218T163000
DTSTAMP:20260425T105528
CREATED:20221018T175756Z
LAST-MODIFIED:20221211T235455Z
UID:1099-1671368400-1671381000@mountain-na.org
SUMMARY:Mountain Area Service Committee Meeting
DESCRIPTION:If you are like most of us\, you will find that NA service through Area Service involvement is often a challenging yet rewarding experience. As a participating member of the Mountain Area Service Committee (MASC)\, you will be directly involved in developing\, coordinating and maintaining the services Narcotics Anonymous offers in the Mountain Area and worldwide. At these meetings MASC members\, subcommittee members and Group Service Representatives (GSRs) join together to develop\, coordinate\, and maintain the services of Narcotics Anonymous in this area. Representatives from new groups and new GSRs are encouraged to arrive early in order to receive GSR packets and a brief orientation before the 3:00 start. \nCome early to participate and learn about our service subcommittees: Activities – 1:00pm; Public Relations – 1:30pm; Hospitals & Institutions 2:00pm
URL:https://mountain-na.org/event/mountain-area-service-committee-meeting-15/
LOCATION:Primary Purpose Group Meeting Facility\, 201 S. Main Street\, Greeneville\, TN\, 37745\, United States
END:VEVENT
BEGIN:VEVENT
DTSTART;TZID=America/New_York:20221217T190000
DTEND;TZID=America/New_York:20221217T220000
DTSTAMP:20260425T105528
CREATED:20221213T214622Z
LAST-MODIFIED:20221213T214731Z
UID:1114-1671303600-1671314400@mountain-na.org
SUMMARY:Ugly Sweater Holiday Party
DESCRIPTION:Come join us for a Holiday Party with food\, a speaker meeting\, karaoke\, dancing\, and prizes for the ugliest sweaters. Turkey provided. Please bring a side dish. Jean H. from Asheville will be our featured speaker. \n \n 
URL:https://mountain-na.org/event/ugly-sweater-holiday-party/
LOCATION:Miracles Happen Group Facility\, 105 S. Boone Street\, Johnson City\, TN\, 37604
END:VEVENT
BEGIN:VEVENT
DTSTART;TZID=America/New_York:20221216T190000
DTEND;TZID=America/New_York:20221216T200000
DTSTAMP:20260425T105528
CREATED:20221213T220257Z
LAST-MODIFIED:20221213T220338Z
UID:1119-1671217200-1671220800@mountain-na.org
SUMMARY:Amanda S. Celebrates 2 Years Clean!
DESCRIPTION:Come join us as Amanda S. celebrates 2 years clean!
URL:https://mountain-na.org/event/amanda-s-celebrates-2-years-clean/
LOCATION:Miracles Happen Group Facility\, 105 S. Boone Street\, Johnson City\, TN\, 37604
END:VEVENT
BEGIN:VEVENT
DTSTART;TZID=America/New_York:20221125T190000
DTEND;TZID=America/New_York:20221125T200000
DTSTAMP:20260425T105528
CREATED:20221115T011524Z
LAST-MODIFIED:20221115T011524Z
UID:1108-1669402800-1669406400@mountain-na.org
SUMMARY:Gary B. Celebrates 1 Year Clean!
DESCRIPTION:Join us as Gary B. celebrates 1 year clean!
URL:https://mountain-na.org/event/gary-b-celebrates-1-year-clean/
LOCATION:Miracles Happen Group Facility\, 105 S. Boone Street\, Johnson City\, TN\, 37604
END:VEVENT
BEGIN:VEVENT
DTSTART;TZID=America/New_York:20221120T130000
DTEND;TZID=America/New_York:20221120T163000
DTSTAMP:20260425T105528
CREATED:20221018T175418Z
LAST-MODIFIED:20221018T175534Z
UID:1097-1668949200-1668961800@mountain-na.org
SUMMARY:Mountain Area Service Committee Meeting
DESCRIPTION:If you are like most of us\, you will find that NA service through Area Service involvement is often a challenging yet rewarding experience. As a participating member of the Mountain Area Service Committee (MASC)\, you will be directly involved in developing\, coordinating and maintaining the services Narcotics Anonymous offers in the Mountain Area and worldwide. At these meetings MASC members\, subcommittee members and Group Service Representatives (GSRs) join together to develop\, coordinate\, and maintain the services of Narcotics Anonymous in this area. Representatives from new groups and new GSRs are encouraged to arrive early in order to receive GSR packets and a brief orientation before the 3:00 start. \nCome early to participate and learn about our service subcommittees: Activities – 1:00pm; Public Relations – 1:30pm; Hospitals & Institutions 2:00pm
URL:https://mountain-na.org/event/mountain-area-service-committee-meeting-14/
LOCATION:Just for Today Group Meeting Location\, 210 S Hills Drive\, Elizabethton\, TN\, 37643\, United States
END:VEVENT
BEGIN:VEVENT
DTSTART;TZID=America/New_York:20221118T190000
DTEND;TZID=America/New_York:20221118T200000
DTSTAMP:20260425T105528
CREATED:20221115T011731Z
LAST-MODIFIED:20221115T011731Z
UID:1110-1668798000-1668801600@mountain-na.org
SUMMARY:Tommy G. Celebrates 5 Years Clean!
DESCRIPTION:Join us as Tommy G. celebrates 5 years clean!
URL:https://mountain-na.org/event/tommy-g-celebrates-5-years-clean/
LOCATION:Miracles Happen Group Facility\, 105 S. Boone Street\, Johnson City\, TN\, 37604
END:VEVENT
BEGIN:VEVENT
DTSTART;TZID=America/New_York:20221105T140000
DTEND;TZID=America/New_York:20221105T163000
DTSTAMP:20260425T105528
CREATED:20221018T181431Z
LAST-MODIFIED:20221018T181431Z
UID:1103-1667656800-1667665800@mountain-na.org
SUMMARY:Chili Cook Off & 12 Concepts Workshop
DESCRIPTION:Come join us for a Chili Cook Off along with a Workshop on the 12 Concepts.
URL:https://mountain-na.org/event/chili-cook-off-12-concepts-workshop/
LOCATION:Serenity Sisters Group\, 305 Christian Church Rd.\, Boones Creek\, TN\, 37615\, United States
END:VEVENT
BEGIN:VEVENT
DTSTART;TZID=America/New_York:20221029T203000
DTEND;TZID=America/New_York:20221029T233000
DTSTAMP:20260425T105528
CREATED:20221018T180513Z
LAST-MODIFIED:20221018T180729Z
UID:1101-1667075400-1667086200@mountain-na.org
SUMMARY:Halloween Party!
DESCRIPTION:Join us on October 29th for a Halloween Party! \nPrizes for best adult and child costumes. \nKaraoke – Dancing – Pizza – Desserts
URL:https://mountain-na.org/event/halloween-party-2/
LOCATION:End of the Road Group Facility\, 603 Sunset Drive\, Johnson City\, TN\, 37604\, United States
END:VEVENT
BEGIN:VEVENT
DTSTART;TZID=America/New_York:20221021T170000
DTEND;TZID=America/New_York:20221023T130000
DTSTAMP:20260425T105528
CREATED:20220525T135407Z
LAST-MODIFIED:20220525T140145Z
UID:1016-1666371600-1666530000@mountain-na.org
SUMMARY:Cleanstock - BARCNA IX
DESCRIPTION:The Bluegrass-Appalachian Region of NA presents: “B.A.R.C.N.A. 9” \nOCTOBER 21 – 23\, 2022 \nMasterson Station Park\, 3051 Leestown Road\, Lexington\, KY \nand Kentucky Horse Park Campground\, 3785 Campground Road\, Lexington\, Ky \nARE. YOU. READY 2022
URL:https://mountain-na.org/event/cleanstock-barcna-ix/
LOCATION:TN
END:VEVENT
BEGIN:VEVENT
DTSTART;TZID=America/New_York:20220924T121500
DTEND;TZID=America/New_York:20220924T131500
DTSTAMP:20260425T105528
CREATED:20220724T174933Z
LAST-MODIFIED:20220705T175637Z
UID:1046-1664021700-1664025300@mountain-na.org
SUMMARY:Steve W. Celebrates 7 Years Clean!
DESCRIPTION:Join us as Steve W. celebrates 7 years clean!
URL:https://mountain-na.org/event/steve-w-celebrates-7-years-clean/
LOCATION:Just for Today Group Meeting Location\, 210 S Hills Drive\, Elizabethton\, TN\, 37643\, United States
END:VEVENT
BEGIN:VEVENT
DTSTART;TZID=America/New_York:20220918T150000
DTEND;TZID=America/New_York:20220918T170000
DTSTAMP:20260425T105528
CREATED:20220510T155821Z
LAST-MODIFIED:20220905T033513Z
UID:1003-1663513200-1663520400@mountain-na.org
SUMMARY:Mountain Area Service Committee Meeting
DESCRIPTION:If you are like most of us\, you will find that NA service through Area Service involvement is often a challenging yet rewarding experience. As a participating member of the Mountain Area Service Committee (MASC)\, you will be directly involved in developing\, coordinating and maintaining the services Narcotics Anonymous offers in the Mountain Area and worldwide. At these meetings MASC members\, subcommittee members and Group Service Representatives (GSRs) join together to develop\, coordinate\, and maintain the services of Narcotics Anonymous in this area. Representatives from new groups and new GSRs are encouraged to arrive early in order to receive GSR packets and a brief orientation before the 3:00 start. \nCome early to participate and learn about our service subcommittees: Activities – 1:00pm; Public Relations – 1:30pm; Hospitals & Institutions 2:00pm
URL:https://mountain-na.org/event/mountain-area-service-committee-meeting-13/
LOCATION:Primary Purpose Group Meeting Facility\, 201 S. Main Street\, Greeneville\, TN\, 37745\, United States
END:VEVENT
BEGIN:VEVENT
DTSTART;TZID=America/New_York:20220917T190000
DTEND;TZID=America/New_York:20220917T200000
DTSTAMP:20260425T105528
CREATED:20220915T155537Z
LAST-MODIFIED:20220915T155623Z
UID:1091-1663441200-1663444800@mountain-na.org
SUMMARY:Dave L. Celebrates 36 Years!
DESCRIPTION:Join us in Kingsport when Dave L. celebrates 36 years clean!
URL:https://mountain-na.org/event/dave-l-celebrates-36-years/
LOCATION:New Way of Life Group Facility – Prospect Center\, 1425 E Center Street\, Kingsport\, TN\, 37664\, United States
END:VEVENT
BEGIN:VEVENT
DTSTART;TZID=America/New_York:20220909T190000
DTEND;TZID=America/New_York:20220909T200000
DTSTAMP:20260425T105528
CREATED:20220905T033238Z
LAST-MODIFIED:20220905T033238Z
UID:1084-1662750000-1662753600@mountain-na.org
SUMMARY:Reggie G. Celebrates 19 Years Clean!
DESCRIPTION:Join us as Reggie G. celebrates 19 years clean. Sarah M. will be sharing her experience\, strength\, and hope.
URL:https://mountain-na.org/event/reggie-g-celebrates-19-years-clean/
LOCATION:Miracles Happen Group Facility\, 105 S. Boone Street\, Johnson City\, TN\, 37604
END:VEVENT
BEGIN:VEVENT
DTSTART;TZID=America/New_York:20220821T190000
DTEND;TZID=America/New_York:20220821T200000
DTSTAMP:20260425T105528
CREATED:20220714T004858Z
LAST-MODIFIED:20220714T004858Z
UID:1070-1661108400-1661112000@mountain-na.org
SUMMARY:Ryan C. Celebrates 5 Years Clean!
DESCRIPTION:Come join us as Ryan C. celebrates 5 years clean.
URL:https://mountain-na.org/event/ryan-c-celebrates-5-years-clean/
LOCATION:End of the Road Group Facility\, 603 Sunset Drive\, Johnson City\, TN\, 37604\, United States
END:VEVENT
BEGIN:VEVENT
DTSTART;TZID=America/New_York:20220821T150000
DTEND;TZID=America/New_York:20220821T170000
DTSTAMP:20260425T105528
CREATED:20220510T155236Z
LAST-MODIFIED:20220628T214630Z
UID:1001-1661094000-1661101200@mountain-na.org
SUMMARY:Mountain Area Service Committee Meeting
DESCRIPTION:If you are like most of us\, you will find that NA service through Area Service involvement is often a challenging yet rewarding experience. As a participating member of the Mountain Area Service Committee (MASC)\, you will be directly involved in developing\, coordinating and maintaining the services Narcotics Anonymous offers in the Mountain Area and worldwide. At these meetings MASC members\, subcommittee members and Group Service Representatives (GSRs) join together to develop\, coordinate\, and maintain the services of Narcotics Anonymous in this area. Representatives from new groups and new GSRs are encouraged to arrive early in order to receive GSR packets and a brief orientation before the 3:00 start.
URL:https://mountain-na.org/event/mountain-area-service-committee-meeting-12/
LOCATION:End of the Road Group Facility\, 603 Sunset Drive\, Johnson City\, TN\, 37604\, United States
END:VEVENT
BEGIN:VEVENT
DTSTART;TZID=America/New_York:20220813T140000
DTEND;TZID=America/New_York:20220813T160000
DTSTAMP:20260425T105528
CREATED:20220730T150107Z
LAST-MODIFIED:20220730T150107Z
UID:1074-1660399200-1660406400@mountain-na.org
SUMMARY:Ice Cream Social / Traditions Workshop
DESCRIPTION:Join us at Warriors’ Path State Park shelter #2 for an afternoon of ice cream and a panel presentation focusing on the 12 Traditions.
URL:https://mountain-na.org/event/ice-cream-social-traditions-workshop/
LOCATION:Warriors’ Path State Park\, 490 Hemlock Road\, Kingsport\, TN\, 37663\, United States
END:VEVENT
BEGIN:VEVENT
DTSTART;TZID=America/New_York:20220808T190000
DTEND;TZID=America/New_York:20220808T200000
DTSTAMP:20260425T105528
CREATED:20220628T215952Z
LAST-MODIFIED:20220628T215952Z
UID:1031-1659985200-1659988800@mountain-na.org
SUMMARY:Amanda B. Celebrates 1 year clean!
DESCRIPTION:Join us as Amanda B. celebrates 1 year clean! Kahla C. will be sharing her story.
URL:https://mountain-na.org/event/amanda-b-celebrates-1-year-clean/
LOCATION:Serenity Sisters Group\, 305 Christian Church Rd.\, Boones Creek\, TN\, 37615\, United States
END:VEVENT
BEGIN:VEVENT
DTSTART;TZID=America/New_York:20220805T190000
DTEND;TZID=America/New_York:20220805T200000
DTSTAMP:20260425T105528
CREATED:20220704T182616Z
LAST-MODIFIED:20220716T011723Z
UID:1040-1659726000-1659729600@mountain-na.org
SUMMARY:Missy S. & Eddy G. Celebration of Cleantime
DESCRIPTION:Join us at Miracles Happen as Missy S. celebrates her first year clean and Eddy G. picks up 33 years. \nNancy D. from Asheville will be sharing her story.
URL:https://mountain-na.org/event/missy-s-eddy-g-celebration-of-cleantime/
LOCATION:Miracles Happen Group Facility\, 105 S. Boone Street\, Johnson City\, TN\, 37604
END:VEVENT
BEGIN:VEVENT
DTSTART;TZID=America/New_York:20220804T190000
DTEND;TZID=America/New_York:20220804T200000
DTSTAMP:20260425T105528
CREATED:20220712T160551Z
LAST-MODIFIED:20220712T162112Z
UID:1058-1659639600-1659643200@mountain-na.org
SUMMARY:Marietta N. Celebrates 6 Years!
DESCRIPTION:Come join us in Rogersville as Marietta N. celebrates 6 years clean! \nThis celebration will start at 7:00 pm and occur at the Right Foot Forward Group: 311 East Main St. Rogersville\, TN.
URL:https://mountain-na.org/event/marietta-n-celebrates-6-years/
LOCATION:TN
END:VEVENT
BEGIN:VEVENT
DTSTART;TZID=America/New_York:20220731T193000
DTEND;TZID=America/New_York:20220731T203000
DTSTAMP:20260425T105528
CREATED:20220712T161337Z
LAST-MODIFIED:20220712T161337Z
UID:1062-1659295800-1659299400@mountain-na.org
SUMMARY:Chris McW. Celebrates 33 Years!
DESCRIPTION:Come join us in Greeneville as Chris McW. celebrates 33 years clean.
URL:https://mountain-na.org/event/chris-mcw-celebrates-33-years/
LOCATION:Primary Purpose Group Meeting Facility\, 201 S. Main Street\, Greeneville\, TN\, 37745\, United States
END:VEVENT
BEGIN:VEVENT
DTSTART;TZID=America/New_York:20220731T140000
DTEND;TZID=America/New_York:20220731T160000
DTSTAMP:20260425T105528
CREATED:20220704T181041Z
LAST-MODIFIED:20220704T181041Z
UID:1037-1659276000-1659283200@mountain-na.org
SUMMARY:Recovery Volleyball!
DESCRIPTION:Join us at Kiwanis Park in JC for afternoon volleyball. Kids are welcome. Refreshments will not be provided for this event.
URL:https://mountain-na.org/event/recovery-volleyball/
LOCATION:Kiwanis Park – Johnson City\, 821 West Market Street\, Johnson City\, TN\, 37604\, United States
END:VEVENT
BEGIN:VEVENT
DTSTART;TZID=America/New_York:20220717T150000
DTEND;TZID=America/New_York:20220717T170000
DTSTAMP:20260425T105528
CREATED:20220510T154547Z
LAST-MODIFIED:20220628T214558Z
UID:999-1658070000-1658077200@mountain-na.org
SUMMARY:Mountain Area Service Committee Meeting
DESCRIPTION:If you are like most of us\, you will find that NA service through Area Service involvement is often a challenging yet rewarding experience. As a participating member of the Mountain Area Service Committee (MASC)\, you will be directly involved in developing\, coordinating and maintaining the services Narcotics Anonymous offers in the Mountain Area and worldwide. At these meetings MASC members\, subcommittee members and Group Service Representatives (GSRs) join together to develop\, coordinate\, and maintain the services of Narcotics Anonymous in this area. Representatives from new groups and new GSRs are encouraged to arrive early in order to receive GSR packets and a brief orientation before the 3:00 start.
URL:https://mountain-na.org/event/mountain-area-service-committee-meeting-11/
LOCATION:Miracles Happen Group Facility\, 105 S. Boone Street\, Johnson City\, TN\, 37604
END:VEVENT
END:VCALENDAR