BEGIN:VCALENDAR
VERSION:2.0
PRODID:-//Narcotics Anonymous - NA in Johnson City, Kingsport and Bristol - ECPv6.15.20//NONSGML v1.0//EN
CALSCALE:GREGORIAN
METHOD:PUBLISH
X-WR-CALNAME:Narcotics Anonymous - NA in Johnson City, Kingsport and Bristol
X-ORIGINAL-URL:https://mountain-na.org
X-WR-CALDESC:Events for Narcotics Anonymous - NA in Johnson City, Kingsport and Bristol
REFRESH-INTERVAL;VALUE=DURATION:PT1H
X-Robots-Tag:noindex
X-PUBLISHED-TTL:PT1H
BEGIN:VTIMEZONE
TZID:America/New_York
BEGIN:DAYLIGHT
TZOFFSETFROM:-0500
TZOFFSETTO:-0400
TZNAME:EDT
DTSTART:20220313T070000
END:DAYLIGHT
BEGIN:STANDARD
TZOFFSETFROM:-0400
TZOFFSETTO:-0500
TZNAME:EST
DTSTART:20221106T060000
END:STANDARD
BEGIN:DAYLIGHT
TZOFFSETFROM:-0500
TZOFFSETTO:-0400
TZNAME:EDT
DTSTART:20230312T070000
END:DAYLIGHT
BEGIN:STANDARD
TZOFFSETFROM:-0400
TZOFFSETTO:-0500
TZNAME:EST
DTSTART:20231105T060000
END:STANDARD
BEGIN:DAYLIGHT
TZOFFSETFROM:-0500
TZOFFSETTO:-0400
TZNAME:EDT
DTSTART:20240310T070000
END:DAYLIGHT
BEGIN:STANDARD
TZOFFSETFROM:-0400
TZOFFSETTO:-0500
TZNAME:EST
DTSTART:20241103T060000
END:STANDARD
END:VTIMEZONE
BEGIN:VEVENT
DTSTART;TZID=America/New_York:20230111T190000
DTEND;TZID=America/New_York:20230111T210000
DTSTAMP:20260425T192713
CREATED:20230104T141513Z
LAST-MODIFIED:20230104T141513Z
UID:1138-1673463600-1673470800@mountain-na.org
SUMMARY:Tater D. Celebrates 1 Year Clean!
DESCRIPTION:Come join us for an eating speaker meeting as Tater D. celebrates 1 year of recovery. Erin M. will be sharing her story. Doors open at 7:00 for the meal\, and the meeting begins at 8:00. Hamburgers and hot dogs will be provided. Bring a side dish if possible.
URL:https://mountain-na.org/event/tater-d-celebrates-1-year-clean/
LOCATION:Just for Today Group Meeting Location\, 210 S Hills Drive\, Elizabethton\, TN\, 37643\, United States
END:VEVENT
BEGIN:VEVENT
DTSTART;TZID=America/New_York:20230113T190000
DTEND;TZID=America/New_York:20230113T200000
DTSTAMP:20260425T192713
CREATED:20230113T201307Z
LAST-MODIFIED:20230113T201307Z
UID:1140-1673636400-1673640000@mountain-na.org
SUMMARY:Jana B. Celebrates 2 Years Clean!
DESCRIPTION:Join us in Bristol when Jana B. celebrates 2 years clean! Food will be provided.
URL:https://mountain-na.org/event/jana-b-celebrates-2-years-clean/
LOCATION:Surrender to Win Group meeting facility\, 1317 Weaver Pike\, Bristol\, TN\, 37620\, United States
END:VEVENT
BEGIN:VEVENT
DTSTART;TZID=America/New_York:20230115T130000
DTEND;TZID=America/New_York:20230115T163000
DTSTAMP:20260425T192713
CREATED:20221213T223023Z
LAST-MODIFIED:20230104T142640Z
UID:1125-1673787600-1673800200@mountain-na.org
SUMMARY:Mountain Area Service Committee Meeting
DESCRIPTION:If you are like most of us\, you will find that NA service through Area Service involvement is often a challenging yet rewarding experience. As a participating member of the Mountain Area Service Committee (MASC)\, you will be directly involved in developing\, coordinating and maintaining the services Narcotics Anonymous offers in the Mountain Area and worldwide. At these meetings MASC members\, subcommittee members and Group Service Representatives (GSRs) join together to develop\, coordinate\, and maintain the services of Narcotics Anonymous in this area. Representatives from new groups and new GSRs are encouraged to arrive early in order to receive GSR packets and a brief orientation before the 3:00 start. \nCome early to participate and learn about our service subcommittees: Activities – 1:00pm; Public Relations – 1:30pm; Hospitals & Institutions 2:00pm
URL:https://mountain-na.org/event/mountain-area-service-committee-meeting-16/
LOCATION:Miracles Happen Group Facility\, 105 S. Boone Street\, Johnson City\, TN\, 37604
END:VEVENT
BEGIN:VEVENT
DTSTART;TZID=America/New_York:20230120T190000
DTEND;TZID=America/New_York:20230120T200000
DTSTAMP:20260425T192713
CREATED:20230119T021810Z
LAST-MODIFIED:20230119T022549Z
UID:1150-1674241200-1674244800@mountain-na.org
SUMMARY:Robin G. Celebrates 13 Years Clean!
DESCRIPTION:Join us as Robin G. celebrates 13 years clean and Poulina will be sharing her story.
URL:https://mountain-na.org/event/robin-g-celebrates-13-years-clean/
LOCATION:Miracles Happen Group Facility\, 105 S. Boone Street\, Johnson City\, TN\, 37604
END:VEVENT
BEGIN:VEVENT
DTSTART;TZID=America/New_York:20230124T190000
DTEND;TZID=America/New_York:20230124T200000
DTSTAMP:20260425T192713
CREATED:20230119T020038Z
LAST-MODIFIED:20230119T020507Z
UID:1146-1674586800-1674590400@mountain-na.org
SUMMARY:Erin M. Celebrates 5 Years Clean!
DESCRIPTION:Join us as Erin M. celebrates 5 years clean!
URL:https://mountain-na.org/event/erin-m-celebrates-5-years-clean/
LOCATION:Nothing to Fear Group Facility\, 1104 Afton St.\, Johnson City\, TN\, 37601\, United States
END:VEVENT
END:VCALENDAR