BEGIN:VCALENDAR
VERSION:2.0
PRODID:-//Narcotics Anonymous - NA in Johnson City, Kingsport and Bristol - ECPv6.15.20//NONSGML v1.0//EN
CALSCALE:GREGORIAN
METHOD:PUBLISH
X-WR-CALNAME:Narcotics Anonymous - NA in Johnson City, Kingsport and Bristol
X-ORIGINAL-URL:https://mountain-na.org
X-WR-CALDESC:Events for Narcotics Anonymous - NA in Johnson City, Kingsport and Bristol
REFRESH-INTERVAL;VALUE=DURATION:PT1H
X-Robots-Tag:noindex
X-PUBLISHED-TTL:PT1H
BEGIN:VTIMEZONE
TZID:America/New_York
BEGIN:DAYLIGHT
TZOFFSETFROM:-0500
TZOFFSETTO:-0400
TZNAME:EDT
DTSTART:20220313T070000
END:DAYLIGHT
BEGIN:STANDARD
TZOFFSETFROM:-0400
TZOFFSETTO:-0500
TZNAME:EST
DTSTART:20221106T060000
END:STANDARD
BEGIN:DAYLIGHT
TZOFFSETFROM:-0500
TZOFFSETTO:-0400
TZNAME:EDT
DTSTART:20230312T070000
END:DAYLIGHT
BEGIN:STANDARD
TZOFFSETFROM:-0400
TZOFFSETTO:-0500
TZNAME:EST
DTSTART:20231105T060000
END:STANDARD
BEGIN:DAYLIGHT
TZOFFSETFROM:-0500
TZOFFSETTO:-0400
TZNAME:EDT
DTSTART:20240310T070000
END:DAYLIGHT
BEGIN:STANDARD
TZOFFSETFROM:-0400
TZOFFSETTO:-0500
TZNAME:EST
DTSTART:20241103T060000
END:STANDARD
END:VTIMEZONE
BEGIN:VEVENT
DTSTART;VALUE=DATE:20230201
DTEND;VALUE=DATE:20230416
DTSTAMP:20260425T151620
CREATED:20230120T164611Z
LAST-MODIFIED:20230321T211519Z
UID:1165-1675209600-1681603199@mountain-na.org
SUMMARY:2023 Conference Agenda
DESCRIPTION:The CAR is available (Conference Agenda Report)\n\n\nhttps://www.na.org/…/uploads/pdf/conference/2023CAR.pdf\n\n\nA Volunteer Region workshop will be held on Saturday February 25 at 10:30. Attendance is available virtually on Zoom: 901 350 5030 Passcode: NATN\n\nHelpful training videos and slides can be found here.\n\n\nAll home groups may submit their tally sheet votes by clicking here.\nVotes must be submitted by April 15th\, 2023.
URL:https://mountain-na.org/event/2023-conference-agenda/
END:VEVENT
BEGIN:VEVENT
DTSTART;TZID=America/New_York:20230415T123000
DTEND;TZID=America/New_York:20230415T173000
DTSTAMP:20260425T151620
CREATED:20230305T225221Z
LAST-MODIFIED:20230409T175919Z
UID:1192-1681561800-1681579800@mountain-na.org
SUMMARY:Mountain Area Spring Fling Speaker Jam!
DESCRIPTION:Come join us for our Spring Fling Speaker Jam! The event will take place outside in the pavilion at Boones Creek Christian Church where the Serenity Sisters group meets. Hamburgers and hotdogs will be provided. Please bring a side dish and a lawn chair. \nFeatured speakers include: Nancy D. from Nashville\, Mike P. from Rogersville\, Dexter W. from Jonesborough\, and Leah L. from Kingsport.
URL:https://mountain-na.org/event/mountain-area-spring-fling-speaker-jam/
LOCATION:Serenity Sisters Group\, 305 Christian Church Rd.\, Boones Creek\, TN\, 37615\, United States
END:VEVENT
BEGIN:VEVENT
DTSTART;TZID=America/New_York:20230416T190000
DTEND;TZID=America/New_York:20230416T200000
DTSTAMP:20260425T151620
CREATED:20230409T181848Z
LAST-MODIFIED:20230409T181945Z
UID:1234-1681671600-1681675200@mountain-na.org
SUMMARY:Primary Purpose Group Monthly Speaker Meeting: Amanda B.
DESCRIPTION:Join us in Greeneville when Amanda B. shares her story!
URL:https://mountain-na.org/event/primary-purpose-group-monthly-speaker-meeting-amanda-b/
LOCATION:Primary Purpose Group Meeting Facility\, 201 S. Main Street\, Greeneville\, TN\, 37745\, United States
END:VEVENT
BEGIN:VEVENT
DTSTART;TZID=America/New_York:20230418T190000
DTEND;TZID=America/New_York:20230418T200000
DTSTAMP:20260425T151620
CREATED:20230409T181600Z
LAST-MODIFIED:20230409T181647Z
UID:1232-1681844400-1681848000@mountain-na.org
SUMMARY:Chris M. Celebrates 2 Years Clean!
DESCRIPTION:Join us in Johnson City when Chris M. celebrates 2 years clean!
URL:https://mountain-na.org/event/chris-m-celebrates-2-years-clean/
LOCATION:Nothing to Fear Group Facility\, 1104 Afton St.\, Johnson City\, TN\, 37601\, United States
END:VEVENT
BEGIN:VEVENT
DTSTART;TZID=America/New_York:20230421T190000
DTEND;TZID=America/New_York:20230421T200000
DTSTAMP:20260425T151620
CREATED:20230409T181055Z
LAST-MODIFIED:20230421T010454Z
UID:1230-1682103600-1682107200@mountain-na.org
SUMMARY:Sarah M. Celebrates 2 Years Clean!
DESCRIPTION:Join us in Johnson City when Sarah M. celebrates 2 years clean. Kathy C. will be sharing her story.
URL:https://mountain-na.org/event/sarah-m-celebrates-2-years-clean-2/
LOCATION:Miracles Happen Group Facility\, 105 S. Boone Street\, Johnson City\, TN\, 37604
END:VEVENT
BEGIN:VEVENT
DTSTART;TZID=America/New_York:20230427T180000
DTEND;TZID=America/New_York:20230427T190000
DTSTAMP:20260425T151620
CREATED:20230421T010423Z
LAST-MODIFIED:20230421T010546Z
UID:1240-1682618400-1682622000@mountain-na.org
SUMMARY:MANA Activities Subcommittee Meeting
DESCRIPTION:Come join us as we discuss and plan events for the Mountain Area including T-shirt sales for the upcoming Woods Party. All are welcome. \nWe will be meeting this month at the Dunkin Donuts on Sunset Drive at 6:00pm.
URL:https://mountain-na.org/event/mana-activities-subcommittee-meeting/
END:VEVENT
END:VCALENDAR