BEGIN:VCALENDAR
VERSION:2.0
PRODID:-//Narcotics Anonymous - NA in Johnson City, Kingsport and Bristol - ECPv6.15.20//NONSGML v1.0//EN
CALSCALE:GREGORIAN
METHOD:PUBLISH
X-ORIGINAL-URL:https://mountain-na.org
X-WR-CALDESC:Events for Narcotics Anonymous - NA in Johnson City, Kingsport and Bristol
REFRESH-INTERVAL;VALUE=DURATION:PT1H
X-Robots-Tag:noindex
X-PUBLISHED-TTL:PT1H
BEGIN:VTIMEZONE
TZID:America/New_York
BEGIN:DAYLIGHT
TZOFFSETFROM:-0500
TZOFFSETTO:-0400
TZNAME:EDT
DTSTART:20220313T070000
END:DAYLIGHT
BEGIN:STANDARD
TZOFFSETFROM:-0400
TZOFFSETTO:-0500
TZNAME:EST
DTSTART:20221106T060000
END:STANDARD
BEGIN:DAYLIGHT
TZOFFSETFROM:-0500
TZOFFSETTO:-0400
TZNAME:EDT
DTSTART:20230312T070000
END:DAYLIGHT
BEGIN:STANDARD
TZOFFSETFROM:-0400
TZOFFSETTO:-0500
TZNAME:EST
DTSTART:20231105T060000
END:STANDARD
BEGIN:DAYLIGHT
TZOFFSETFROM:-0500
TZOFFSETTO:-0400
TZNAME:EDT
DTSTART:20240310T070000
END:DAYLIGHT
BEGIN:STANDARD
TZOFFSETFROM:-0400
TZOFFSETTO:-0500
TZNAME:EST
DTSTART:20241103T060000
END:STANDARD
END:VTIMEZONE
BEGIN:VEVENT
DTSTART;TZID=America/New_York:20230716T140000
DTEND;TZID=America/New_York:20230716T150000
DTSTAMP:20260425T112640
CREATED:20230609T171327Z
LAST-MODIFIED:20230625T215903Z
UID:1287-1689516000-1689519600@mountain-na.org
SUMMARY:H&I Monthly New Member Orientation Meeting
DESCRIPTION:Are you interested in getting involved with NA service? Are you interested in carrying the message to those who cannot freely attend our meetings? If so\, consider volunteering your time to the Hospitals & Institutions subcommittee. Each month we meet at 2:00 before the area business meeting to educate and prepare new NA members for service in Mountain Area treatment centers\, jails\, and other facilities. It’s a great way to get involved. Come check us out! \nH&I Flyer
URL:https://mountain-na.org/event/hi-monthly-new-member-orientation-meeting/
LOCATION:Johnson City Recovery Center\, 513 E. Unaka Avenue\, Johnson City\, TN\, 37601\, United States
ATTACH;FMTTYPE=image/png:https://mountain-na.org/wp-content/uploads/2023/06/HI-Logo.png
ORGANIZER;CN="Hospitals & Institutions Subcommittee":MAILTO:mountainhandi@gmail.com
END:VEVENT
BEGIN:VEVENT
DTSTART;TZID=America/New_York:20230721T190000
DTEND;TZID=America/New_York:20230721T200000
DTSTAMP:20260425T112640
CREATED:20230622T132408Z
LAST-MODIFIED:20230721T142615Z
UID:1293-1689966000-1689969600@mountain-na.org
SUMMARY:Dylan P. Celebrates His First Year Clean!
DESCRIPTION:Join us on Friday July 21st when Dylan P. celebrates 1 year clean!
URL:https://mountain-na.org/event/tater-d-celebrates-18-months-clean/
LOCATION:Miracles Happen Group Facility\, 105 S. Boone Street\, Johnson City\, TN\, 37604
ATTACH;FMTTYPE=image/jpeg:https://mountain-na.org/wp-content/uploads/2023/06/NA-Cake-copy.jpeg
END:VEVENT
BEGIN:VEVENT
DTSTART;VALUE=DATE:20230722
DTEND;VALUE=DATE:20230723
DTSTAMP:20260425T112640
CREATED:20230531T225251Z
LAST-MODIFIED:20230531T225251Z
UID:1275-1689984000-1690070399@mountain-na.org
SUMMARY:Zen Tubing on the French Broad River!
DESCRIPTION:
URL:https://mountain-na.org/event/zen-tubing-on-the-french-broad-river/
END:VEVENT
BEGIN:VEVENT
DTSTART;TZID=America/New_York:20230728T120000
DTEND;TZID=America/New_York:20230730T170000
DTSTAMP:20260425T112640
CREATED:20230507T163456Z
LAST-MODIFIED:20230704T183556Z
UID:1260-1690545600-1690736400@mountain-na.org
SUMMARY:Southern Zonal Forum 2023
DESCRIPTION:Southern Zonal Forum\nDownload Flyer\nMurfreesboro\, TN\nJuly 28-30\, 2023\nHOTEL\nHilton DoubleTree\n615-895-5555\n1850 Old Fort Parkway\nMurfreesboro\, TN 37129\nRoom Block Code: SZF ($119)\nSaturday/Sunday Zoom Link: 819 5445 8994\, Passcode: 121212\nPR for Professionals on Friday\nWorkshops: MAT/DRT\, Unity in Service\, Follow-up to WSC\nSZF Business: Regional Reports\, Old & New Business and More on Saturday and Sunday\nContacts: Vince B (423-558-9062/rd@natennessee.org)\nGreg V (951-337-0527/ad@natennessee.org)
URL:https://mountain-na.org/event/southern-zonal-forum-2023/
END:VEVENT
BEGIN:VEVENT
DTSTART;TZID=America/New_York:20230729T183000
DTEND;TZID=America/New_York:20230729T210000
DTSTAMP:20260425T112640
CREATED:20220712T161701Z
LAST-MODIFIED:20230716T193826Z
UID:1064-1690655400-1690664400@mountain-na.org
SUMMARY:Summertime Cookout in Abingdon!
DESCRIPTION:Come join us in Abingdon for a cookout at the New Day Group. Food will be served at 7:00 followed by a meeting at 8:00.
URL:https://mountain-na.org/event/eating-and-speaker-meeting-in-abingdon/
LOCATION:New Day Group Facility\, 124 E Main St.\, Abingdon\, TN\, 24210\, United States
END:VEVENT
END:VCALENDAR