BEGIN:VCALENDAR
VERSION:2.0
PRODID:-//Narcotics Anonymous - NA in Johnson City, Kingsport and Bristol - ECPv6.15.20//NONSGML v1.0//EN
CALSCALE:GREGORIAN
METHOD:PUBLISH
X-ORIGINAL-URL:https://mountain-na.org
X-WR-CALDESC:Events for Narcotics Anonymous - NA in Johnson City, Kingsport and Bristol
REFRESH-INTERVAL;VALUE=DURATION:PT1H
X-Robots-Tag:noindex
X-PUBLISHED-TTL:PT1H
BEGIN:VTIMEZONE
TZID:America/New_York
BEGIN:DAYLIGHT
TZOFFSETFROM:-0500
TZOFFSETTO:-0400
TZNAME:EDT
DTSTART:20230312T070000
END:DAYLIGHT
BEGIN:STANDARD
TZOFFSETFROM:-0400
TZOFFSETTO:-0500
TZNAME:EST
DTSTART:20231105T060000
END:STANDARD
BEGIN:DAYLIGHT
TZOFFSETFROM:-0500
TZOFFSETTO:-0400
TZNAME:EDT
DTSTART:20240310T070000
END:DAYLIGHT
BEGIN:STANDARD
TZOFFSETFROM:-0400
TZOFFSETTO:-0500
TZNAME:EST
DTSTART:20241103T060000
END:STANDARD
BEGIN:DAYLIGHT
TZOFFSETFROM:-0500
TZOFFSETTO:-0400
TZNAME:EDT
DTSTART:20250309T070000
END:DAYLIGHT
BEGIN:STANDARD
TZOFFSETFROM:-0400
TZOFFSETTO:-0500
TZNAME:EST
DTSTART:20251102T060000
END:STANDARD
END:VTIMEZONE
BEGIN:VTIMEZONE
TZID:America/Chicago
BEGIN:DAYLIGHT
TZOFFSETFROM:-0600
TZOFFSETTO:-0500
TZNAME:CDT
DTSTART:20230312T080000
END:DAYLIGHT
BEGIN:STANDARD
TZOFFSETFROM:-0500
TZOFFSETTO:-0600
TZNAME:CST
DTSTART:20231105T070000
END:STANDARD
BEGIN:DAYLIGHT
TZOFFSETFROM:-0600
TZOFFSETTO:-0500
TZNAME:CDT
DTSTART:20240310T080000
END:DAYLIGHT
BEGIN:STANDARD
TZOFFSETFROM:-0500
TZOFFSETTO:-0600
TZNAME:CST
DTSTART:20241103T070000
END:STANDARD
BEGIN:DAYLIGHT
TZOFFSETFROM:-0600
TZOFFSETTO:-0500
TZNAME:CDT
DTSTART:20250309T080000
END:DAYLIGHT
BEGIN:STANDARD
TZOFFSETFROM:-0500
TZOFFSETTO:-0600
TZNAME:CST
DTSTART:20251102T070000
END:STANDARD
END:VTIMEZONE
BEGIN:VEVENT
DTSTART;TZID=America/New_York:20240503T190000
DTEND;TZID=America/New_York:20240503T200000
DTSTAMP:20260424T211057
CREATED:20230426T005410Z
LAST-MODIFIED:20240503T172806Z
UID:1255-1714762800-1714766400@mountain-na.org
SUMMARY:Terry F. Celebrates 24 Years Clean!
DESCRIPTION:Join us when Terry F. Celebrates 24 years clean. Melanie H. will be sharing her story during the meeting.
URL:https://mountain-na.org/event/terry-f-celebrates-23-years-clean/
LOCATION:Miracles Happen Group Facility\, 105 S. Boone Street\, Johnson City\, TN\, 37604
ATTACH;FMTTYPE=image/jpeg:https://mountain-na.org/wp-content/uploads/2023/06/NA-Cake-copy.jpeg
END:VEVENT
BEGIN:VEVENT
DTSTART;TZID=America/Chicago:20240504T110000
DTEND;TZID=America/Chicago:20240504T190000
DTSTAMP:20260424T211057
CREATED:20240204T195200Z
LAST-MODIFIED:20240406T163024Z
UID:1463-1714820400-1714849200@mountain-na.org
SUMMARY:Volunteer Regional Assembly and Learning Day
DESCRIPTION:It’s time again for the Volunteer Region Assembly. This is the time set aside for members from across the region to gather to discuss specific issues to be discussed at the World Service Conference. GSRs and all other trusted servants at all levels are strongly encouraged to attend in person or virtually on Zoom. Topics formulating future policies and contributions to NA literature to be discussed this year include: \n\nGender Neutral and Inclusive Language in NA Literature\nDealing with Disruptive and Predatory Behavior\nDRT/MAT as it Relates to NA\n\nMake sure your voice and the voice of your group is heard! \n*Times listed on flyer are for the Central Time Zone*
URL:https://mountain-na.org/event/volunteer-regional-assembly/
END:VEVENT
BEGIN:VEVENT
DTSTART;TZID=America/New_York:20240504T140000
DTEND;TZID=America/New_York:20240504T170000
DTSTAMP:20260424T211057
CREATED:20240406T163241Z
LAST-MODIFIED:20240416T200213Z
UID:1507-1714831200-1714842000@mountain-na.org
SUMMARY:Taco Bout Traditions!
DESCRIPTION:
URL:https://mountain-na.org/event/taco-bout-traditions/
LOCATION:Miracles Happen Group Facility\, 105 S. Boone Street\, Johnson City\, TN\, 37604
END:VEVENT
BEGIN:VEVENT
DTSTART;TZID=America/New_York:20240507T190000
DTEND;TZID=America/New_York:20240507T200000
DTSTAMP:20260424T211057
CREATED:20240503T173641Z
LAST-MODIFIED:20240503T173937Z
UID:1512-1715108400-1715112000@mountain-na.org
SUMMARY:Kris B. Celebrates 8 Years Clean!
DESCRIPTION:Join us when Kris B. picks up 8 years and Sherri A. shares her story.
URL:https://mountain-na.org/event/kris-b-celebrates-8-years-clean/
LOCATION:Nothing to Fear Group Facility\, 1104 Afton St.\, Johnson City\, TN\, 37601\, United States
ATTACH;FMTTYPE=image/jpeg:https://mountain-na.org/wp-content/uploads/2023/06/NA-Cake-copy.jpeg
END:VEVENT
BEGIN:VEVENT
DTSTART;TZID=America/New_York:20240527T190000
DTEND;TZID=America/New_York:20240527T200000
DTSTAMP:20260424T211057
CREATED:20240520T020749Z
LAST-MODIFIED:20240520T020749Z
UID:1534-1716836400-1716840000@mountain-na.org
SUMMARY:Chelsea D. Celebrates 8 Years Clean!
DESCRIPTION:Join us at Serenity Sisters when Chelsea D. celebrates 8 years clean!
URL:https://mountain-na.org/event/chelsea-d-celebrates-8-years-clean/
LOCATION:Serenity Sisters Group\, 305 Christian Church Rd.\, Boones Creek\, TN\, 37615\, United States
ATTACH;FMTTYPE=image/jpeg:https://mountain-na.org/wp-content/uploads/2023/06/NA-Cake-copy.jpeg
END:VEVENT
END:VCALENDAR