BEGIN:VCALENDAR
VERSION:2.0
PRODID:-//Narcotics Anonymous - NA in Johnson City, Kingsport and Bristol - ECPv6.15.20//NONSGML v1.0//EN
CALSCALE:GREGORIAN
METHOD:PUBLISH
X-WR-CALNAME:Narcotics Anonymous - NA in Johnson City, Kingsport and Bristol
X-ORIGINAL-URL:https://mountain-na.org
X-WR-CALDESC:Events for Narcotics Anonymous - NA in Johnson City, Kingsport and Bristol
REFRESH-INTERVAL;VALUE=DURATION:PT1H
X-Robots-Tag:noindex
X-PUBLISHED-TTL:PT1H
BEGIN:VTIMEZONE
TZID:America/New_York
BEGIN:DAYLIGHT
TZOFFSETFROM:-0500
TZOFFSETTO:-0400
TZNAME:EDT
DTSTART:20230312T070000
END:DAYLIGHT
BEGIN:STANDARD
TZOFFSETFROM:-0400
TZOFFSETTO:-0500
TZNAME:EST
DTSTART:20231105T060000
END:STANDARD
BEGIN:DAYLIGHT
TZOFFSETFROM:-0500
TZOFFSETTO:-0400
TZNAME:EDT
DTSTART:20240310T070000
END:DAYLIGHT
BEGIN:STANDARD
TZOFFSETFROM:-0400
TZOFFSETTO:-0500
TZNAME:EST
DTSTART:20241103T060000
END:STANDARD
BEGIN:DAYLIGHT
TZOFFSETFROM:-0500
TZOFFSETTO:-0400
TZNAME:EDT
DTSTART:20250309T070000
END:DAYLIGHT
BEGIN:STANDARD
TZOFFSETFROM:-0400
TZOFFSETTO:-0500
TZNAME:EST
DTSTART:20251102T060000
END:STANDARD
END:VTIMEZONE
BEGIN:VEVENT
DTSTART;TZID=America/New_York:20240805T190000
DTEND;TZID=America/New_York:20240805T200000
DTSTAMP:20260424T170501
CREATED:20240520T020306Z
LAST-MODIFIED:20240520T020613Z
UID:1532-1722884400-1722888000@mountain-na.org
SUMMARY:Amanda B. Celebrates 3 Years Clean!
DESCRIPTION:Join us at Serenity Sisters when Amanda B. celebrates 3 years clean!
URL:https://mountain-na.org/event/amanda-b-celebrates-3-years-clean/
LOCATION:Serenity Sisters Group\, 305 Christian Church Rd.\, Boones Creek\, TN\, 37615\, United States
ATTACH;FMTTYPE=image/jpeg:https://mountain-na.org/wp-content/uploads/2023/06/NA-Cake-copy.jpeg
END:VEVENT
BEGIN:VEVENT
DTSTART;TZID=America/New_York:20240806T190000
DTEND;TZID=America/New_York:20240806T200000
DTSTAMP:20260424T170501
CREATED:20220712T160823Z
LAST-MODIFIED:20240803T171953Z
UID:1060-1722970800-1722974400@mountain-na.org
SUMMARY:Kenny C. Celebrates 20 Years!
DESCRIPTION:Come join us as Kenny C. celebrates 20 years clean.
URL:https://mountain-na.org/event/kenny-c-celebrates-18-years/
LOCATION:Nothing to Fear Group Facility\, 1104 Afton St.\, Johnson City\, TN\, 37601\, United States
ATTACH;FMTTYPE=image/jpeg:https://mountain-na.org/wp-content/uploads/2023/06/NA-Cake-copy.jpeg
END:VEVENT
BEGIN:VEVENT
DTSTART;TZID=America/New_York:20240806T190000
DTEND;TZID=America/New_York:20240806T200000
DTSTAMP:20260424T170501
CREATED:20240721T165224Z
LAST-MODIFIED:20240721T165312Z
UID:1571-1722970800-1722974400@mountain-na.org
SUMMARY:Missy S. Celebrates 3 Years Clean!
DESCRIPTION:Join us in Elizabethton when Missy S. celebrates 3 years clean.
URL:https://mountain-na.org/event/missy-s-celebrates-3-years-clean/
LOCATION:First Presbyterian Church – Elizabethton\, 119 West F Street\, Elizabethton\, TN\, 37643\, United States
END:VEVENT
BEGIN:VEVENT
DTSTART;TZID=America/New_York:20240808T180000
DTEND;TZID=America/New_York:20240808T190000
DTSTAMP:20260424T170501
CREATED:20230507T211459Z
LAST-MODIFIED:20240803T175035Z
UID:1267-1723140000-1723143600@mountain-na.org
SUMMARY:Activities Subcommittee Meeting
DESCRIPTION:Join us for our monthly subcommittee meeting on the second Thursday of each month at 6:00pm at Pike Coffeehouse to plan events for our fellowship. Please share at your home groups !!!
URL:https://mountain-na.org/event/activities-subcommittee-meeting-2/
LOCATION:Pike House Coffee Co.\, 2203 McKinley Rd. Ste 101\, Johnson City\, TN\, 37604\, United States
ATTACH;FMTTYPE=image/jpeg:https://mountain-na.org/wp-content/uploads/2023/02/I-Serve-Pin.jpeg
END:VEVENT
BEGIN:VEVENT
DTSTART;TZID=America/New_York:20240809T173000
DTEND;TZID=America/New_York:20240809T183000
DTSTAMP:20260424T170501
CREATED:20230721T142910Z
LAST-MODIFIED:20240721T163612Z
UID:1322-1723224600-1723228200@mountain-na.org
SUMMARY:Marissa K. & Eddy G. Both Celebrating at Friends of Jimmy K.
DESCRIPTION:Join us when Marissa K. celebrates her first year clean and Eddy G. celebrates 35 years on Friday August 9th at the Friends of Jimmy K. meeting. Kevin P. from Asheville will be sharing his story.
URL:https://mountain-na.org/event/eddy-g-celebrates-34-years-clean/
LOCATION:Johnson City Recovery Center\, 513 E. Unaka Avenue\, Johnson City\, TN\, 37601\, United States
ATTACH;FMTTYPE=image/jpeg:https://mountain-na.org/wp-content/uploads/2023/06/NA-Cake-copy.jpeg
END:VEVENT
BEGIN:VEVENT
DTSTART;TZID=America/New_York:20240811T150000
DTEND;TZID=America/New_York:20240811T170000
DTSTAMP:20260424T170501
CREATED:20240703T012827Z
LAST-MODIFIED:20240816T010442Z
UID:1555-1723388400-1723395600@mountain-na.org
SUMMARY:Convention Subcommittee Meeting
DESCRIPTION:Interested in helping out with the upcoming Unity in the Mountains convention? If so\, please attend our next meeting.
URL:https://mountain-na.org/event/convention-subcommittee-meeting/
LOCATION:To Be Determined
END:VEVENT
BEGIN:VEVENT
DTSTART;TZID=America/New_York:20240812T190000
DTEND;TZID=America/New_York:20240812T200000
DTSTAMP:20260424T170501
CREATED:20240520T015759Z
LAST-MODIFIED:20240520T015832Z
UID:1530-1723489200-1723492800@mountain-na.org
SUMMARY:Megan P. Celebrates 1 Year Clean!
DESCRIPTION:Join us at Serenity Sisters when Megan P. celebrates her first year clean!
URL:https://mountain-na.org/event/megan-p-celebrates-1-year-clean/
LOCATION:Serenity Sisters Group\, 305 Christian Church Rd.\, Boones Creek\, TN\, 37615\, United States
ATTACH;FMTTYPE=image/jpeg:https://mountain-na.org/wp-content/uploads/2023/06/NA-Cake-copy.jpeg
END:VEVENT
BEGIN:VEVENT
DTSTART;TZID=America/New_York:20240816T173000
DTEND;TZID=America/New_York:20240816T183000
DTSTAMP:20260424T170501
CREATED:20240721T163810Z
LAST-MODIFIED:20240816T012917Z
UID:1567-1723829400-1723833000@mountain-na.org
SUMMARY:Lou T. Celebrates 38 Years Clean!
DESCRIPTION:Join us at Friends of Jimmy K. when Lou T. celebrates 38 years clean.
URL:https://mountain-na.org/event/lou-t-celebrates-38-years-clean/
LOCATION:Johnson City Recovery Center\, 513 E. Unaka Avenue\, Johnson City\, TN\, 37601\, United States
ATTACH;FMTTYPE=image/jpeg:https://mountain-na.org/wp-content/uploads/2023/06/NA-Cake-copy.jpeg
END:VEVENT
BEGIN:VEVENT
DTSTART;TZID=America/New_York:20240818T140000
DTEND;TZID=America/New_York:20240818T150000
DTSTAMP:20260424T170501
CREATED:20230609T161939Z
LAST-MODIFIED:20240816T014629Z
UID:1282-1723989600-1723993200@mountain-na.org
SUMMARY:H&I Monthly Business Meeting
DESCRIPTION:The monthly H&I business meeting is at 2:00 before the next area meeting. If you are an H&I volunteer\, you are encouraged to attend. Panel Leaders are expected to attend and report on the status of the facilities they support. Member seeking to join the committee and begin supporting H&I meetings in facilities are also encouraged to attend.
URL:https://mountain-na.org/event/hi-monthly-business-meeting-virtual/
LOCATION:Nothing to Fear Group Facility\, 1104 Afton St.\, Johnson City\, TN\, 37601\, United States
ATTACH;FMTTYPE=image/png:https://mountain-na.org/wp-content/uploads/2023/06/HI-Logo.png
ORGANIZER;CN="Hospitals & Institutions Subcommittee":MAILTO:mountainhandi@gmail.com
END:VEVENT
BEGIN:VEVENT
DTSTART;TZID=America/New_York:20240821T190000
DTEND;TZID=America/New_York:20240821T200000
DTSTAMP:20260424T170501
CREATED:20240803T174622Z
LAST-MODIFIED:20240803T174945Z
UID:1578-1724266800-1724270400@mountain-na.org
SUMMARY:Ryan C. Celebrates 7 Years Clean!
DESCRIPTION:Join us when Ryan C. celebrates 7 years clean.
URL:https://mountain-na.org/event/ryan-c-celebrates-7-years-clean/
LOCATION:End of the Road Group Facility\, 603 Sunset Drive\, Johnson City\, TN\, 37604\, United States
ATTACH;FMTTYPE=image/jpeg:https://mountain-na.org/wp-content/uploads/2023/06/NA-Cake-copy.jpeg
END:VEVENT
BEGIN:VEVENT
DTSTART;TZID=America/New_York:20240827T120000
DTEND;TZID=America/New_York:20240827T130000
DTSTAMP:20260424T170501
CREATED:20240827T005748Z
LAST-MODIFIED:20240827T005748Z
UID:1592-1724760000-1724763600@mountain-na.org
SUMMARY:Lance Celebrates 2 Years and Tom B. 4 Years Clean!
DESCRIPTION:Join us when Lance celebrates 2 years and Tom B. celebrates 4 years clean!
URL:https://mountain-na.org/event/lance-celebrates-2-years-and-tom-b-4-years-clean/
LOCATION:Johnson City Recovery Center\, 513 E. Unaka Avenue\, Johnson City\, TN\, 37601\, United States
ATTACH;FMTTYPE=image/jpeg:https://mountain-na.org/wp-content/uploads/2023/06/NA-Cake-copy.jpeg
END:VEVENT
BEGIN:VEVENT
DTSTART;TZID=America/New_York:20240828T080000
DTEND;TZID=America/New_York:20240901T170000
DTSTAMP:20260424T170501
CREATED:20240118T214334Z
LAST-MODIFIED:20240118T215511Z
UID:1444-1724832000-1725210000@mountain-na.org
SUMMARY:The World Convention is coming to DC!
DESCRIPTION:Official WCNA 38 Washington DC 2024 Group registration now open!
URL:https://mountain-na.org/event/the-world-convention-is-coming-to-dc/
END:VEVENT
BEGIN:VEVENT
DTSTART;TZID=America/New_York:20240828T200000
DTEND;TZID=America/New_York:20240828T213000
DTSTAMP:20260424T170501
CREATED:20240827T012342Z
LAST-MODIFIED:20240827T012521Z
UID:1602-1724875200-1724880600@mountain-na.org
SUMMARY:A Tripple Celebration at Easy Does It in Dandridge! Diana: 37 years; Crash: 14 years; and Stephanie 3 years clean
DESCRIPTION:Come join us when Diana\, Crash\, and Stephanie all celebrate together in Dandridge at the Easy Does It group.
URL:https://mountain-na.org/event/a-tripple-celebration-at-easy-does-it-in-dandridge-diana-37-years-crash-14-years-and-stephanie-3-years-clean/
LOCATION:Easy Does It Group – First United Methodist Church – Dandridge\, TN\, 121 E. Meeting St.\, Dandridge\, TN\, 37725\, United States
ATTACH;FMTTYPE=image/jpeg:https://mountain-na.org/wp-content/uploads/2023/06/NA-Cake-copy.jpeg
END:VEVENT
BEGIN:VEVENT
DTSTART;TZID=America/New_York:20240830T190000
DTEND;TZID=America/New_York:20240830T200000
DTSTAMP:20260424T170501
CREATED:20240804T192002Z
LAST-MODIFIED:20240804T192140Z
UID:1583-1725044400-1725048000@mountain-na.org
SUMMARY:Dexter W. Celebrates 29 Years Clean!
DESCRIPTION:Join us in Elizabethton when Dexter W. celebrates 29 years.
URL:https://mountain-na.org/event/dexter-w-celebrates-29-years-clean/
LOCATION:Recovering Spirituality Group Facility\, 119 West F Street\, Elizabethton\, TN\, 37643\, United States
ATTACH;FMTTYPE=image/jpeg:https://mountain-na.org/wp-content/uploads/2023/06/NA-Cake-copy.jpeg
END:VEVENT
END:VCALENDAR