BEGIN:VCALENDAR
VERSION:2.0
PRODID:-//Narcotics Anonymous - NA in Johnson City, Kingsport and Bristol - ECPv6.15.20//NONSGML v1.0//EN
CALSCALE:GREGORIAN
METHOD:PUBLISH
X-WR-CALNAME:Narcotics Anonymous - NA in Johnson City, Kingsport and Bristol
X-ORIGINAL-URL:https://mountain-na.org
X-WR-CALDESC:Events for Narcotics Anonymous - NA in Johnson City, Kingsport and Bristol
REFRESH-INTERVAL;VALUE=DURATION:PT1H
X-Robots-Tag:noindex
X-PUBLISHED-TTL:PT1H
BEGIN:VTIMEZONE
TZID:America/New_York
BEGIN:DAYLIGHT
TZOFFSETFROM:-0500
TZOFFSETTO:-0400
TZNAME:EDT
DTSTART:20230312T070000
END:DAYLIGHT
BEGIN:STANDARD
TZOFFSETFROM:-0400
TZOFFSETTO:-0500
TZNAME:EST
DTSTART:20231105T060000
END:STANDARD
BEGIN:DAYLIGHT
TZOFFSETFROM:-0500
TZOFFSETTO:-0400
TZNAME:EDT
DTSTART:20240310T070000
END:DAYLIGHT
BEGIN:STANDARD
TZOFFSETFROM:-0400
TZOFFSETTO:-0500
TZNAME:EST
DTSTART:20241103T060000
END:STANDARD
BEGIN:DAYLIGHT
TZOFFSETFROM:-0500
TZOFFSETTO:-0400
TZNAME:EDT
DTSTART:20250309T070000
END:DAYLIGHT
BEGIN:STANDARD
TZOFFSETFROM:-0400
TZOFFSETTO:-0500
TZNAME:EST
DTSTART:20251102T060000
END:STANDARD
END:VTIMEZONE
BEGIN:VEVENT
DTSTART;TZID=America/New_York:20240828T080000
DTEND;TZID=America/New_York:20240901T170000
DTSTAMP:20260424T153539
CREATED:20240118T214334Z
LAST-MODIFIED:20240118T215511Z
UID:1444-1724832000-1725210000@mountain-na.org
SUMMARY:The World Convention is coming to DC!
DESCRIPTION:Official WCNA 38 Washington DC 2024 Group registration now open!
URL:https://mountain-na.org/event/the-world-convention-is-coming-to-dc/
END:VEVENT
BEGIN:VEVENT
DTSTART;TZID=America/New_York:20240903T120000
DTEND;TZID=America/New_York:20240903T130000
DTSTAMP:20260424T153539
CREATED:20240827T004900Z
LAST-MODIFIED:20240827T004900Z
UID:1586-1725364800-1725368400@mountain-na.org
SUMMARY:Drew C. Celebrates 2 Years Clean!
DESCRIPTION:Join us when Drew C. celebrates 2 years clean! Justin C. will be sharing his story.
URL:https://mountain-na.org/event/drew-c-celebrates-2-years-clean/
LOCATION:Johnson City Recovery Center\, 513 E. Unaka Avenue\, Johnson City\, TN\, 37601\, United States
ATTACH;FMTTYPE=image/jpeg:https://mountain-na.org/wp-content/uploads/2023/06/NA-Cake-copy.jpeg
END:VEVENT
BEGIN:VEVENT
DTSTART;TZID=America/New_York:20240906T190000
DTEND;TZID=America/New_York:20240906T200000
DTSTAMP:20260424T153539
CREATED:20230716T162722Z
LAST-MODIFIED:20240906T184804Z
UID:1317-1725649200-1725652800@mountain-na.org
SUMMARY:Reggie G. Celebrates 21 Years Clean!
DESCRIPTION:Join us as Reggie G. celebrates 20 years clean. Kim B. will be sharing her story.
URL:https://mountain-na.org/event/anna-b-celebrates-2-years-clean/
LOCATION:Miracles Happen Group Facility\, 105 S. Boone Street\, Johnson City\, TN\, 37604
ATTACH;FMTTYPE=image/jpeg:https://mountain-na.org/wp-content/uploads/2023/06/NA-Cake-copy.jpeg
END:VEVENT
BEGIN:VEVENT
DTSTART;TZID=America/New_York:20240908T140000
DTEND;TZID=America/New_York:20240908T160000
DTSTAMP:20260424T153539
CREATED:20240827T010633Z
LAST-MODIFIED:20240827T010924Z
UID:1598-1725804000-1725811200@mountain-na.org
SUMMARY:The Rise & Shine Group Celebrates Its 1st Anniversary
DESCRIPTION:Join us on Sunday afternoon when the Rise and Shine Group celebrates its 1st anniversary. Reggie G. and Sarah M.(2) will be speaking.
URL:https://mountain-na.org/event/the-rise-shine-group-celebrates-its-1st-anniversary/
LOCATION:Johnson City Recovery Center\, 513 E. Unaka Avenue\, Johnson City\, TN\, 37601\, United States
ATTACH;FMTTYPE=image/jpeg:https://mountain-na.org/wp-content/uploads/2023/06/NA-Cake-copy.jpeg
END:VEVENT
BEGIN:VEVENT
DTSTART;TZID=America/New_York:20240912T120000
DTEND;TZID=America/New_York:20240912T130000
DTSTAMP:20260424T153539
CREATED:20240827T005436Z
LAST-MODIFIED:20240827T005436Z
UID:1590-1726142400-1726146000@mountain-na.org
SUMMARY:John M. Celebrates 2 Years Clean!
DESCRIPTION:Join us when John M. celebrates 2 years clean! Carrie M. will be sharing her story.
URL:https://mountain-na.org/event/john-m-celebrates-2-years-clean/
LOCATION:Johnson City Recovery Center\, 513 E. Unaka Avenue\, Johnson City\, TN\, 37601\, United States
ATTACH;FMTTYPE=image/jpeg:https://mountain-na.org/wp-content/uploads/2023/06/NA-Cake-copy.jpeg
END:VEVENT
BEGIN:VEVENT
DTSTART;TZID=America/New_York:20240917T120000
DTEND;TZID=America/New_York:20240917T130000
DTSTAMP:20260424T153539
CREATED:20240827T005230Z
LAST-MODIFIED:20240827T005230Z
UID:1588-1726574400-1726578000@mountain-na.org
SUMMARY:Dottie G. Celebrates 34 Years Clean!
DESCRIPTION:Join us when Dottie G. celebrates 34 years clean! John M. will be sharing his story.
URL:https://mountain-na.org/event/dottie-g-celebrates-34-years-clean/
LOCATION:Johnson City Recovery Center\, 513 E. Unaka Avenue\, Johnson City\, TN\, 37601\, United States
ATTACH;FMTTYPE=image/jpeg:https://mountain-na.org/wp-content/uploads/2023/06/NA-Cake-copy.jpeg
END:VEVENT
END:VCALENDAR