BEGIN:VCALENDAR
VERSION:2.0
PRODID:-//Narcotics Anonymous - NA in Johnson City, Kingsport and Bristol - ECPv6.15.20//NONSGML v1.0//EN
CALSCALE:GREGORIAN
METHOD:PUBLISH
X-WR-CALNAME:Narcotics Anonymous - NA in Johnson City, Kingsport and Bristol
X-ORIGINAL-URL:https://mountain-na.org
X-WR-CALDESC:Events for Narcotics Anonymous - NA in Johnson City, Kingsport and Bristol
REFRESH-INTERVAL;VALUE=DURATION:PT1H
X-Robots-Tag:noindex
X-PUBLISHED-TTL:PT1H
BEGIN:VTIMEZONE
TZID:America/New_York
BEGIN:DAYLIGHT
TZOFFSETFROM:-0500
TZOFFSETTO:-0400
TZNAME:EDT
DTSTART:20230312T070000
END:DAYLIGHT
BEGIN:STANDARD
TZOFFSETFROM:-0400
TZOFFSETTO:-0500
TZNAME:EST
DTSTART:20231105T060000
END:STANDARD
BEGIN:DAYLIGHT
TZOFFSETFROM:-0500
TZOFFSETTO:-0400
TZNAME:EDT
DTSTART:20240310T070000
END:DAYLIGHT
BEGIN:STANDARD
TZOFFSETFROM:-0400
TZOFFSETTO:-0500
TZNAME:EST
DTSTART:20241103T060000
END:STANDARD
BEGIN:DAYLIGHT
TZOFFSETFROM:-0500
TZOFFSETTO:-0400
TZNAME:EDT
DTSTART:20250309T070000
END:DAYLIGHT
BEGIN:STANDARD
TZOFFSETFROM:-0400
TZOFFSETTO:-0500
TZNAME:EST
DTSTART:20251102T060000
END:STANDARD
END:VTIMEZONE
BEGIN:VEVENT
DTSTART;TZID=America/New_York:20241005T130000
DTEND;TZID=America/New_York:20241005T150000
DTSTAMP:20260424T141449
CREATED:20241003T015248Z
LAST-MODIFIED:20241003T015248Z
UID:1632-1728133200-1728140400@mountain-na.org
SUMMARY:Fall Into Service Festival
DESCRIPTION:
URL:https://mountain-na.org/event/fall-into-service-festival/
LOCATION:First Presbyterian Church – Elizabethton\, 119 West F Street\, Elizabethton\, TN\, 37643\, United States
END:VEVENT
BEGIN:VEVENT
DTSTART;TZID=America/New_York:20241012T190000
DTEND;TZID=America/New_York:20241012T200000
DTSTAMP:20260424T141449
CREATED:20241003T012132Z
LAST-MODIFIED:20241003T012401Z
UID:1626-1728759600-1728763200@mountain-na.org
SUMMARY:Chris P. Celebrates 38 Years Clean!
DESCRIPTION:Join us in Kingsport when Chris P. celebrates 38 years clean!
URL:https://mountain-na.org/event/chris-p-celebrates-38-years-clean/
LOCATION:New Way of Life Group Facility – Prospect Center\, 1425 E Center Street\, Kingsport\, TN\, 37664\, United States
ATTACH;FMTTYPE=image/jpeg:https://mountain-na.org/wp-content/uploads/2023/06/NA-Cake-copy.jpeg
END:VEVENT
BEGIN:VEVENT
DTSTART;TZID=America/New_York:20241014T190000
DTEND;TZID=America/New_York:20241014T200000
DTSTAMP:20260424T141449
CREATED:20241003T012905Z
LAST-MODIFIED:20241003T012905Z
UID:1628-1728932400-1728936000@mountain-na.org
SUMMARY:Leah L. Celebrates 16 Years Clean!
DESCRIPTION:Join us at Serenity Sisters when Leah L. celebrates 16 years clean!
URL:https://mountain-na.org/event/leah-l-celebrates-16-years-clean/
LOCATION:Serenity Sisters Group\, 305 Christian Church Rd.\, Boones Creek\, TN\, 37615\, United States
ATTACH;FMTTYPE=image/jpeg:https://mountain-na.org/wp-content/uploads/2023/06/NA-Cake-copy.jpeg
END:VEVENT
BEGIN:VEVENT
DTSTART;TZID=America/New_York:20241022T120000
DTEND;TZID=America/New_York:20241022T130000
DTSTAMP:20260424T141449
CREATED:20241003T005447Z
LAST-MODIFIED:20241003T005447Z
UID:1621-1729598400-1729602000@mountain-na.org
SUMMARY:Justin M. Celebrates 1 Year Clean!
DESCRIPTION:Help us celebrate Justin M.’s first year clean! Drew C. will be sharing his story.
URL:https://mountain-na.org/event/justin-m-celebrates-1-year-clean/
LOCATION:Johnson City Recovery Center\, 513 E. Unaka Avenue\, Johnson City\, TN\, 37601\, United States
ATTACH;FMTTYPE=image/jpeg:https://mountain-na.org/wp-content/uploads/2023/06/NA-Cake-copy.jpeg
END:VEVENT
BEGIN:VEVENT
DTSTART;TZID=America/New_York:20241025T200000
DTEND;TZID=America/New_York:20241025T230000
DTSTAMP:20260424T141449
CREATED:20241003T011539Z
LAST-MODIFIED:20241003T011539Z
UID:1623-1729886400-1729897200@mountain-na.org
SUMMARY:Halloween Fundraiser Bash
DESCRIPTION:Dance\, raffle\, auction and costume contest \n 
URL:https://mountain-na.org/event/halloween-fundraiser-bash/
LOCATION:End of the Road Group Facility\, 603 Sunset Drive\, Johnson City\, TN\, 37604\, United States
END:VEVENT
END:VCALENDAR