BEGIN:VCALENDAR
VERSION:2.0
PRODID:-//Narcotics Anonymous - NA in Johnson City, Kingsport and Bristol - ECPv6.15.20//NONSGML v1.0//EN
CALSCALE:GREGORIAN
METHOD:PUBLISH
X-WR-CALNAME:Narcotics Anonymous - NA in Johnson City, Kingsport and Bristol
X-ORIGINAL-URL:https://mountain-na.org
X-WR-CALDESC:Events for Narcotics Anonymous - NA in Johnson City, Kingsport and Bristol
REFRESH-INTERVAL;VALUE=DURATION:PT1H
X-Robots-Tag:noindex
X-PUBLISHED-TTL:PT1H
BEGIN:VTIMEZONE
TZID:America/New_York
BEGIN:DAYLIGHT
TZOFFSETFROM:-0500
TZOFFSETTO:-0400
TZNAME:EDT
DTSTART:20240310T070000
END:DAYLIGHT
BEGIN:STANDARD
TZOFFSETFROM:-0400
TZOFFSETTO:-0500
TZNAME:EST
DTSTART:20241103T060000
END:STANDARD
BEGIN:DAYLIGHT
TZOFFSETFROM:-0500
TZOFFSETTO:-0400
TZNAME:EDT
DTSTART:20250309T070000
END:DAYLIGHT
BEGIN:STANDARD
TZOFFSETFROM:-0400
TZOFFSETTO:-0500
TZNAME:EST
DTSTART:20251102T060000
END:STANDARD
BEGIN:DAYLIGHT
TZOFFSETFROM:-0500
TZOFFSETTO:-0400
TZNAME:EDT
DTSTART:20260308T070000
END:DAYLIGHT
BEGIN:STANDARD
TZOFFSETFROM:-0400
TZOFFSETTO:-0500
TZNAME:EST
DTSTART:20261101T060000
END:STANDARD
END:VTIMEZONE
BEGIN:VEVENT
DTSTART;TZID=America/New_York:20250414T190000
DTEND;TZID=America/New_York:20250414T200000
DTSTAMP:20260424T060639
CREATED:20250328T201220Z
LAST-MODIFIED:20250328T201220Z
UID:1886-1744657200-1744660800@mountain-na.org
SUMMARY:Kate A. Celebrates 4 Years Clean!
DESCRIPTION:Join us at Serenity Sisters when Kate A. celebrates 4 years clean!
URL:https://mountain-na.org/event/kate-a-celebrates-4-years-clean/
LOCATION:Serenity Sisters Group\, 305 Christian Church Rd.\, Boones Creek\, TN\, 37615\, United States
ATTACH;FMTTYPE=image/jpeg:https://mountain-na.org/wp-content/uploads/2025/02/IMG_0127.jpeg
END:VEVENT
BEGIN:VEVENT
DTSTART;TZID=America/New_York:20250417T190000
DTEND;TZID=America/New_York:20250417T200000
DTSTAMP:20260424T060639
CREATED:20250415T121440Z
LAST-MODIFIED:20250415T121612Z
UID:1899-1744916400-1744920000@mountain-na.org
SUMMARY:Chris M. Celebrates 4 Years Clean!
DESCRIPTION:Join us when Chris M. celebrates his 4th year clean!
URL:https://mountain-na.org/event/chris-m-celebrates-4-years-clean/
LOCATION:Nothing to Fear Group Facility\, 1104 Afton St.\, Johnson City\, TN\, 37601\, United States
ATTACH;FMTTYPE=image/jpeg:https://mountain-na.org/wp-content/uploads/2025/02/IMG_0127.jpeg
END:VEVENT
BEGIN:VEVENT
DTSTART;TZID=America/New_York:20250418T190000
DTEND;TZID=America/New_York:20250418T200000
DTSTAMP:20260424T060639
CREATED:20250328T200855Z
LAST-MODIFIED:20250417T184940Z
UID:1884-1745002800-1745006400@mountain-na.org
SUMMARY:Sarah M. Celebrates 4 Years Clean!
DESCRIPTION:Join us at Miracles Happens when Sarah M. celebrates 4 years clean! David H. will be sharing his story.
URL:https://mountain-na.org/event/sarah-m-celebrates-4-years-clean/
LOCATION:Miracles Happen Group Facility\, 105 S. Boone Street\, Johnson City\, TN\, 37604
ATTACH;FMTTYPE=image/jpeg:https://mountain-na.org/wp-content/uploads/2025/02/IMG_0127.jpeg
END:VEVENT
BEGIN:VEVENT
DTSTART;TZID=America/New_York:20250423T200000
DTEND;TZID=America/New_York:20250423T210000
DTSTAMP:20260424T060639
CREATED:20250415T122919Z
LAST-MODIFIED:20250415T122919Z
UID:1902-1745438400-1745442000@mountain-na.org
SUMMARY:Theresa D. Celebrates 22 Years Clean!
DESCRIPTION:Join us when Theresa D. celebrates 22 years clean! Cake will be served.
URL:https://mountain-na.org/event/theresa-d-celebrates-22-years-clean/
LOCATION:Easy Does It Group – First United Methodist Church – Dandridge\, TN\, 121 E. Meeting St.\, Dandridge\, TN\, 37725\, United States
ATTACH;FMTTYPE=image/jpeg:https://mountain-na.org/wp-content/uploads/2025/02/IMG_0127.jpeg
END:VEVENT
BEGIN:VEVENT
DTSTART;TZID=America/New_York:20250424T190000
DTEND;TZID=America/New_York:20250424T200000
DTSTAMP:20260424T060639
CREATED:20250415T121816Z
LAST-MODIFIED:20250420T130805Z
UID:1897-1745521200-1745524800@mountain-na.org
SUMMARY:Aileen W. celebrates 18 Months Clean!
DESCRIPTION:Join us when Aileen W. celebrates 18 months clean.
URL:https://mountain-na.org/event/aileen-w-celebrates-18-months-clean/
LOCATION:Primary Purpose Group Meeting Facility\, 201 S. Main Street\, Greeneville\, TN\, 37745\, United States
ATTACH;FMTTYPE=image/jpeg:https://mountain-na.org/wp-content/uploads/2025/02/IMG_0127.jpeg
END:VEVENT
BEGIN:VEVENT
DTSTART;TZID=America/New_York:20250424T200000
DTEND;TZID=America/New_York:20250424T210000
DTSTAMP:20260424T060639
CREATED:20250328T200526Z
LAST-MODIFIED:20250328T201408Z
UID:1880-1745524800-1745528400@mountain-na.org
SUMMARY:Robin Celebrates 1 Year Clean!
DESCRIPTION:Join us in Jefferson City when Robin celebrates her first year clean!
URL:https://mountain-na.org/event/robin-celebrates-1-year-clean/
LOCATION:Emmanuel Baptist Church – Jefferson City\, 1916 Overlook Dr\, Jefferson City\, TN\, 37760
ATTACH;FMTTYPE=image/jpeg:https://mountain-na.org/wp-content/uploads/2025/02/IMG_0127.jpeg
END:VEVENT
BEGIN:VEVENT
DTSTART;TZID=America/New_York:20250426T090000
DTEND;TZID=America/New_York:20250426T170000
DTSTAMP:20260424T060639
CREATED:20250413T164341Z
LAST-MODIFIED:20250413T164611Z
UID:1888-1745658000-1745686800@mountain-na.org
SUMMARY:Heart of Tennessee Fellowship Development Workshop
DESCRIPTION:
URL:https://mountain-na.org/event/heart-of-tennessee-fellowship-development-workshop/
END:VEVENT
END:VCALENDAR