BEGIN:VCALENDAR
VERSION:2.0
PRODID:-//Narcotics Anonymous - NA in Johnson City, Kingsport and Bristol - ECPv6.15.20//NONSGML v1.0//EN
CALSCALE:GREGORIAN
METHOD:PUBLISH
X-ORIGINAL-URL:https://mountain-na.org
X-WR-CALDESC:Events for Narcotics Anonymous - NA in Johnson City, Kingsport and Bristol
REFRESH-INTERVAL;VALUE=DURATION:PT1H
X-Robots-Tag:noindex
X-PUBLISHED-TTL:PT1H
BEGIN:VTIMEZONE
TZID:America/New_York
BEGIN:DAYLIGHT
TZOFFSETFROM:-0500
TZOFFSETTO:-0400
TZNAME:EDT
DTSTART:20240310T070000
END:DAYLIGHT
BEGIN:STANDARD
TZOFFSETFROM:-0400
TZOFFSETTO:-0500
TZNAME:EST
DTSTART:20241103T060000
END:STANDARD
BEGIN:DAYLIGHT
TZOFFSETFROM:-0500
TZOFFSETTO:-0400
TZNAME:EDT
DTSTART:20250309T070000
END:DAYLIGHT
BEGIN:STANDARD
TZOFFSETFROM:-0400
TZOFFSETTO:-0500
TZNAME:EST
DTSTART:20251102T060000
END:STANDARD
BEGIN:DAYLIGHT
TZOFFSETFROM:-0500
TZOFFSETTO:-0400
TZNAME:EDT
DTSTART:20260308T070000
END:DAYLIGHT
BEGIN:STANDARD
TZOFFSETFROM:-0400
TZOFFSETTO:-0500
TZNAME:EST
DTSTART:20261101T060000
END:STANDARD
END:VTIMEZONE
BEGIN:VEVENT
DTSTART;TZID=America/New_York:20250609T190000
DTEND;TZID=America/New_York:20250609T200000
DTSTAMP:20260424T032254
CREATED:20250608T050324Z
LAST-MODIFIED:20250608T053016Z
UID:1960-1749495600-1749499200@mountain-na.org
SUMMARY:Sandy C. Celebrates 9 Years Clean!
DESCRIPTION:Join us at Miracles Happen when Sandy C. celebrates 9 years clean!
URL:https://mountain-na.org/event/sandy-c-celebrates-9-years-clean/
LOCATION:Miracles Happen Group Facility\, 105 S. Boone Street\, Johnson City\, TN\, 37604
ATTACH;FMTTYPE=image/jpeg:https://mountain-na.org/wp-content/uploads/2025/02/IMG_0127.jpeg
END:VEVENT
BEGIN:VEVENT
DTSTART;TZID=America/New_York:20250611T190000
DTEND;TZID=America/New_York:20250611T200000
DTSTAMP:20260424T032254
CREATED:20240520T021106Z
LAST-MODIFIED:20250609T223705Z
UID:1536-1749668400-1749672000@mountain-na.org
SUMMARY:Bradley S. Celebrates 26 Years Clean!
DESCRIPTION:Join us at End of the Road when Bradley S. celebrates 26 years clean! Dexter W. will be sharing his story.
URL:https://mountain-na.org/event/bradley-s-celebrates-25-years-clean/
LOCATION:End of the Road Group Facility\, 603 Sunset Drive\, Johnson City\, TN\, 37604\, United States
ATTACH;FMTTYPE=image/jpeg:https://mountain-na.org/wp-content/uploads/2025/02/IMG_0127.jpeg
END:VEVENT
BEGIN:VEVENT
DTSTART;TZID=America/New_York:20250624T120000
DTEND;TZID=America/New_York:20250624T130000
DTSTAMP:20260424T032254
CREATED:20250607T173918Z
LAST-MODIFIED:20250619T031934Z
UID:1957-1750766400-1750770000@mountain-na.org
SUMMARY:Nicole W Celebrates 1 Year Clean!
DESCRIPTION:Help us celebrate Nicole W and her first year clean!
URL:https://mountain-na.org/event/nicole-w-celebrates-1-year-clean/
LOCATION:Johnson City Recovery Center\, 513 E. Unaka Avenue\, Johnson City\, TN\, 37601\, United States
ATTACH;FMTTYPE=image/jpeg:https://mountain-na.org/wp-content/uploads/2025/02/IMG_0127.jpeg
END:VEVENT
BEGIN:VEVENT
DTSTART;TZID=America/New_York:20250626T190000
DTEND;TZID=America/New_York:20250626T200000
DTSTAMP:20260424T032254
CREATED:20250609T224405Z
LAST-MODIFIED:20250609T224405Z
UID:1967-1750964400-1750968000@mountain-na.org
SUMMARY:David H. Celebrates His 1st Year Clean!
DESCRIPTION:Join us at the Nothing to Fear group when David H. celebrates his 1st year clean and Ron M. shares his story.
URL:https://mountain-na.org/event/david-h-celebrates-his-1st-year-clean/
LOCATION:Nothing to Fear Group Facility\, 1104 Afton St.\, Johnson City\, TN\, 37601\, United States
ATTACH;FMTTYPE=image/jpeg:https://mountain-na.org/wp-content/uploads/2025/02/IMG_0127.jpeg
END:VEVENT
END:VCALENDAR