BEGIN:VCALENDAR
VERSION:2.0
PRODID:-//Narcotics Anonymous - NA in Johnson City, Kingsport and Bristol - ECPv6.15.20//NONSGML v1.0//EN
CALSCALE:GREGORIAN
METHOD:PUBLISH
X-WR-CALNAME:Narcotics Anonymous - NA in Johnson City, Kingsport and Bristol
X-ORIGINAL-URL:https://mountain-na.org
X-WR-CALDESC:Events for Narcotics Anonymous - NA in Johnson City, Kingsport and Bristol
REFRESH-INTERVAL;VALUE=DURATION:PT1H
X-Robots-Tag:noindex
X-PUBLISHED-TTL:PT1H
BEGIN:VTIMEZONE
TZID:America/New_York
BEGIN:DAYLIGHT
TZOFFSETFROM:-0500
TZOFFSETTO:-0400
TZNAME:EDT
DTSTART:20240310T070000
END:DAYLIGHT
BEGIN:STANDARD
TZOFFSETFROM:-0400
TZOFFSETTO:-0500
TZNAME:EST
DTSTART:20241103T060000
END:STANDARD
BEGIN:DAYLIGHT
TZOFFSETFROM:-0500
TZOFFSETTO:-0400
TZNAME:EDT
DTSTART:20250309T070000
END:DAYLIGHT
BEGIN:STANDARD
TZOFFSETFROM:-0400
TZOFFSETTO:-0500
TZNAME:EST
DTSTART:20251102T060000
END:STANDARD
BEGIN:DAYLIGHT
TZOFFSETFROM:-0500
TZOFFSETTO:-0400
TZNAME:EDT
DTSTART:20260308T070000
END:DAYLIGHT
BEGIN:STANDARD
TZOFFSETFROM:-0400
TZOFFSETTO:-0500
TZNAME:EST
DTSTART:20261101T060000
END:STANDARD
END:VTIMEZONE
BEGIN:VEVENT
DTSTART;TZID=America/New_York:20250709T080000
DTEND;TZID=America/New_York:20250709T090000
DTSTAMP:20260424T015833
CREATED:20250609T224208Z
LAST-MODIFIED:20250609T224208Z
UID:1965-1752048000-1752051600@mountain-na.org
SUMMARY:Angela S. Celebrates 7 Years Clean!
DESCRIPTION:Join us at the Rise and Shine group when Angela S. celebrates 7 years clean!
URL:https://mountain-na.org/event/angela-s-celebrates-7-years-clean/
LOCATION:Johnson City Recovery Center\, 513 E. Unaka Avenue\, Johnson City\, TN\, 37601\, United States
ATTACH;FMTTYPE=image/jpeg:https://mountain-na.org/wp-content/uploads/2025/02/IMG_0127.jpeg
END:VEVENT
BEGIN:VEVENT
DTSTART;TZID=America/New_York:20250717T190000
DTEND;TZID=America/New_York:20250717T200000
DTSTAMP:20260424T015833
CREATED:20250702T001722Z
LAST-MODIFIED:20250702T001722Z
UID:1987-1752778800-1752782400@mountain-na.org
SUMMARY:Dylan P. Celebrates 3 Years Clean!
DESCRIPTION:Join us at Nothing To Fear when Dylan celebrates 3 years clean.
URL:https://mountain-na.org/event/dylan-p-celebrates-3-years-clean/
ATTACH;FMTTYPE=image/jpeg:https://mountain-na.org/wp-content/uploads/2025/02/IMG_0127.jpeg
END:VEVENT
BEGIN:VEVENT
DTSTART;TZID=America/New_York:20250719T130000
DTEND;TZID=America/New_York:20250719T163000
DTSTAMP:20260424T015833
CREATED:20230305T230750Z
LAST-MODIFIED:20250613T165603Z
UID:1199-1752930000-1752942600@mountain-na.org
SUMMARY:39th Annual Woods Party!
DESCRIPTION:Join us as we celebrate the 39th anniversary of the formation of the Mountain Area! Hot dogs and hamburgers will be provided. Bring a side dish and a lawn chair. Speaker meeting begins at 2:00pm. \n 
URL:https://mountain-na.org/event/37th-annual-woods-party/
LOCATION:Laurels Picnic Area\, TN 361\, Elizabethton\, TN\, 37643\, United States
END:VEVENT
BEGIN:VEVENT
DTSTART;TZID=America/New_York:20250729T120000
DTEND;TZID=America/New_York:20250729T130000
DTSTAMP:20260424T015833
CREATED:20250607T173638Z
LAST-MODIFIED:20250712T224211Z
UID:1955-1753790400-1753794000@mountain-na.org
SUMMARY:Joe W Celebrates 1 Year Clean!
DESCRIPTION:Help us celebrate Joe W. celebrate 1 year clean! Stanley W. will be sharing his story.
URL:https://mountain-na.org/event/joe-w-celebrates-1-year-clean/
LOCATION:Johnson City Recovery Center\, 513 E. Unaka Avenue\, Johnson City\, TN\, 37601\, United States
ATTACH;FMTTYPE=image/jpeg:https://mountain-na.org/wp-content/uploads/2025/02/IMG_0127.jpeg
END:VEVENT
BEGIN:VEVENT
DTSTART;TZID=America/New_York:20250731T190000
DTEND;TZID=America/New_York:20250731T200000
DTSTAMP:20260424T015833
CREATED:20250717T040726Z
LAST-MODIFIED:20250717T040726Z
UID:2019-1753988400-1753992000@mountain-na.org
SUMMARY:Chris M.  Celebrates 36 years Clean
DESCRIPTION:Come join us and celebrate Chris’s birthday with us.
URL:https://mountain-na.org/event/chris-m-celebrates-36-years-clean/
LOCATION:Primary Purpose Group Meeting Facility\, 201 S. Main Street\, Greeneville\, TN\, 37745\, United States
END:VEVENT
END:VCALENDAR