BEGIN:VCALENDAR
VERSION:2.0
PRODID:-//Narcotics Anonymous - NA in Johnson City, Kingsport and Bristol - ECPv6.15.20//NONSGML v1.0//EN
CALSCALE:GREGORIAN
METHOD:PUBLISH
X-ORIGINAL-URL:https://mountain-na.org
X-WR-CALDESC:Events for Narcotics Anonymous - NA in Johnson City, Kingsport and Bristol
REFRESH-INTERVAL;VALUE=DURATION:PT1H
X-Robots-Tag:noindex
X-PUBLISHED-TTL:PT1H
BEGIN:VTIMEZONE
TZID:America/New_York
BEGIN:DAYLIGHT
TZOFFSETFROM:-0500
TZOFFSETTO:-0400
TZNAME:EDT
DTSTART:20240310T070000
END:DAYLIGHT
BEGIN:STANDARD
TZOFFSETFROM:-0400
TZOFFSETTO:-0500
TZNAME:EST
DTSTART:20241103T060000
END:STANDARD
BEGIN:DAYLIGHT
TZOFFSETFROM:-0500
TZOFFSETTO:-0400
TZNAME:EDT
DTSTART:20250309T070000
END:DAYLIGHT
BEGIN:STANDARD
TZOFFSETFROM:-0400
TZOFFSETTO:-0500
TZNAME:EST
DTSTART:20251102T060000
END:STANDARD
BEGIN:DAYLIGHT
TZOFFSETFROM:-0500
TZOFFSETTO:-0400
TZNAME:EDT
DTSTART:20260308T070000
END:DAYLIGHT
BEGIN:STANDARD
TZOFFSETFROM:-0400
TZOFFSETTO:-0500
TZNAME:EST
DTSTART:20261101T060000
END:STANDARD
END:VTIMEZONE
BEGIN:VEVENT
DTSTART;VALUE=DATE:20250901
DTEND;VALUE=DATE:20251202
DTSTAMP:20260423T210638
CREATED:20240703T013954Z
LAST-MODIFIED:20250903T202449Z
UID:1559-1756684800-1764633599@mountain-na.org
SUMMARY:Volunteer Spirit NA Region Newsletter
DESCRIPTION:Download and read the Fall 2025 Region Newsletter! This issue focuses on “Steps 7\, 8\, & 9”. \nThanks to all who contributed to this issue! All members are encouraged to make submissions. \n—The Newsletter Committee
URL:https://mountain-na.org/event/volunteer-spirit-na-region-newsletter/
ATTACH;FMTTYPE=image/jpeg:https://mountain-na.org/wp-content/uploads/2024/07/2024-VS-flyer-w-QR-code.jpg
END:VEVENT
BEGIN:VEVENT
DTSTART;TZID=America/New_York:20251001T173000
DTEND;TZID=America/New_York:20251001T183000
DTSTAMP:20260423T210638
CREATED:20250904T192401Z
LAST-MODIFIED:20250904T192401Z
UID:2094-1759339800-1759343400@mountain-na.org
SUMMARY:Matt S. Celebrates 34 Years Clean!
DESCRIPTION:Help us celebrate Matt S. and his 34 years clean!
URL:https://mountain-na.org/event/matt-s-celebrates-34-years-clean/
LOCATION:Johnson City Recovery Center\, 513 E. Unaka Avenue\, Johnson City\, TN\, 37601\, United States
ATTACH;FMTTYPE=image/jpeg:https://mountain-na.org/wp-content/uploads/2025/02/IMG_0127.jpeg
END:VEVENT
BEGIN:VEVENT
DTSTART;TZID=America/New_York:20251005T190000
DTEND;TZID=America/New_York:20251005T200000
DTSTAMP:20260423T210638
CREATED:20251002T011020Z
LAST-MODIFIED:20251002T011213Z
UID:2104-1759690800-1759694400@mountain-na.org
SUMMARY:Jeanie Celebrates 2 Years Clean!
DESCRIPTION:Join us at End of the Road when Jeanie celebrates 2 years clean and Chris B. shares their story.
URL:https://mountain-na.org/event/jeanie-celebrates-2-years-clean/
LOCATION:End of the Road Group Facility\, 603 Sunset Drive\, Johnson City\, TN\, 37604\, United States
ATTACH;FMTTYPE=image/jpeg:https://mountain-na.org/wp-content/uploads/2025/02/IMG_0127.jpeg
END:VEVENT
BEGIN:VEVENT
DTSTART;TZID=America/New_York:20251010T140000
DTEND;TZID=America/New_York:20251012T140000
DTSTAMP:20260423T210638
CREATED:20250903T200859Z
LAST-MODIFIED:20251009T172336Z
UID:2080-1760104800-1760277600@mountain-na.org
SUMMARY:Unity in the Mountains Area Convention
DESCRIPTION:The only way out is through. \nJoin us in Kingsport!
URL:https://mountain-na.org/event/unity-in-the-mountains-area-convention/
LOCATION:MeadowView Convention Center\, 1901 Meadowview Pkwy\, Kingsport\, TN\, 37660\, United States
ATTACH;FMTTYPE=image/jpeg:https://mountain-na.org/wp-content/uploads/2024/11/UIM-2025-Logo.jpg
END:VEVENT
BEGIN:VEVENT
DTSTART;TZID=America/New_York:20251013T190000
DTEND;TZID=America/New_York:20251013T200000
DTSTAMP:20260423T210638
CREATED:20251002T012038Z
LAST-MODIFIED:20251002T012038Z
UID:2106-1760382000-1760385600@mountain-na.org
SUMMARY:Brian A. Celebrates 19 Years and Ashley V. Celebrates 10 Years!
DESCRIPTION:Join us when Brian A. and Ashley V. both celebrate multiple years of recovery!
URL:https://mountain-na.org/event/brian-a-celebrates-19-years-and-ashley-v-celebrates-10-years/
LOCATION:Miracles Happen Group Facility\, 105 S. Boone Street\, Johnson City\, TN\, 37604
ATTACH;FMTTYPE=image/jpeg:https://mountain-na.org/wp-content/uploads/2025/02/IMG_0127.jpeg
END:VEVENT
BEGIN:VEVENT
DTSTART;TZID=America/New_York:20251013T190000
DTEND;TZID=America/New_York:20251013T200000
DTSTAMP:20260423T210638
CREATED:20251002T012535Z
LAST-MODIFIED:20251002T012535Z
UID:2110-1760382000-1760385600@mountain-na.org
SUMMARY:Leah L. Celebrates 17 Years Clean!
DESCRIPTION:Join us at Serenity Sisters when Leah L. celebrates 17 years clean!
URL:https://mountain-na.org/event/leah-l-celebrates-17-years-clean/
LOCATION:Serenity Sisters Group\, 305 Christian Church Rd.\, Boones Creek\, TN\, 37615\, United States
ATTACH;FMTTYPE=image/jpeg:https://mountain-na.org/wp-content/uploads/2025/02/IMG_0127.jpeg
END:VEVENT
BEGIN:VEVENT
DTSTART;TZID=America/New_York:20251018T120000
DTEND;TZID=America/New_York:20251018T130000
DTSTAMP:20260423T210638
CREATED:20251009T163203Z
LAST-MODIFIED:20251009T163203Z
UID:2114-1760788800-1760792400@mountain-na.org
SUMMARY:Justin M. Celebrates 2 Years Clean!
DESCRIPTION:Help us celebrate Justin M. in his 2nd year clean! Artie will be sharing his story.
URL:https://mountain-na.org/event/justin-m-celebrates-2-years-clean/
LOCATION:Johnson City Recovery Center\, 513 E. Unaka Avenue\, Johnson City\, TN\, 37601\, United States
ATTACH;FMTTYPE=image/jpeg:https://mountain-na.org/wp-content/uploads/2025/02/IMG_0127.jpeg
END:VEVENT
BEGIN:VEVENT
DTSTART;TZID=America/New_York:20251020T190000
DTEND;TZID=America/New_York:20251020T200000
DTSTAMP:20260423T210638
CREATED:20251002T012335Z
LAST-MODIFIED:20251002T012335Z
UID:2108-1760986800-1760990400@mountain-na.org
SUMMARY:Dillion B. Celebrates 1 year Clean!
DESCRIPTION:Join us in Greeneville when Dillion celebrates their 1st year clean!
URL:https://mountain-na.org/event/dillion-b-celebrates-1-year-clean/
LOCATION:Primary Purpose Group Meeting Facility\, 201 S. Main Street\, Greeneville\, TN\, 37745\, United States
ATTACH;FMTTYPE=image/jpeg:https://mountain-na.org/wp-content/uploads/2025/02/IMG_0127.jpeg
END:VEVENT
BEGIN:VEVENT
DTSTART;TZID=America/New_York:20251025T120000
DTEND;TZID=America/New_York:20251025T130000
DTSTAMP:20260423T210638
CREATED:20251009T163325Z
LAST-MODIFIED:20251022T175230Z
UID:2116-1761393600-1761397200@mountain-na.org
SUMMARY:Catherine P. & Sandy W. Celebrate 1 Year Clean!
DESCRIPTION:Help us celebrate Catherine P. and Sandy W.\, who are both celebrating 1 year clean!
URL:https://mountain-na.org/event/catherine-p-celebrates-1-year-clean/
LOCATION:Johnson City Recovery Center\, 513 E. Unaka Avenue\, Johnson City\, TN\, 37601\, United States
ATTACH;FMTTYPE=image/jpeg:https://mountain-na.org/wp-content/uploads/2025/02/IMG_0127.jpeg
END:VEVENT
END:VCALENDAR