BEGIN:VCALENDAR
VERSION:2.0
PRODID:-//Narcotics Anonymous - NA in Johnson City, Kingsport and Bristol - ECPv6.15.20//NONSGML v1.0//EN
CALSCALE:GREGORIAN
METHOD:PUBLISH
X-WR-CALNAME:Narcotics Anonymous - NA in Johnson City, Kingsport and Bristol
X-ORIGINAL-URL:https://mountain-na.org
X-WR-CALDESC:Events for Narcotics Anonymous - NA in Johnson City, Kingsport and Bristol
REFRESH-INTERVAL;VALUE=DURATION:PT1H
X-Robots-Tag:noindex
X-PUBLISHED-TTL:PT1H
BEGIN:VTIMEZONE
TZID:America/New_York
BEGIN:DAYLIGHT
TZOFFSETFROM:-0500
TZOFFSETTO:-0400
TZNAME:EDT
DTSTART:20240310T070000
END:DAYLIGHT
BEGIN:STANDARD
TZOFFSETFROM:-0400
TZOFFSETTO:-0500
TZNAME:EST
DTSTART:20241103T060000
END:STANDARD
BEGIN:DAYLIGHT
TZOFFSETFROM:-0500
TZOFFSETTO:-0400
TZNAME:EDT
DTSTART:20250309T070000
END:DAYLIGHT
BEGIN:STANDARD
TZOFFSETFROM:-0400
TZOFFSETTO:-0500
TZNAME:EST
DTSTART:20251102T060000
END:STANDARD
BEGIN:DAYLIGHT
TZOFFSETFROM:-0500
TZOFFSETTO:-0400
TZNAME:EDT
DTSTART:20260308T070000
END:DAYLIGHT
BEGIN:STANDARD
TZOFFSETFROM:-0400
TZOFFSETTO:-0500
TZNAME:EST
DTSTART:20261101T060000
END:STANDARD
END:VTIMEZONE
BEGIN:VEVENT
DTSTART;VALUE=DATE:20250901
DTEND;VALUE=DATE:20251202
DTSTAMP:20260423T192243
CREATED:20240703T013954Z
LAST-MODIFIED:20250903T202449Z
UID:1559-1756684800-1764633599@mountain-na.org
SUMMARY:Volunteer Spirit NA Region Newsletter
DESCRIPTION:Download and read the Fall 2025 Region Newsletter! This issue focuses on “Steps 7\, 8\, & 9”. \nThanks to all who contributed to this issue! All members are encouraged to make submissions. \n—The Newsletter Committee
URL:https://mountain-na.org/event/volunteer-spirit-na-region-newsletter/
ATTACH;FMTTYPE=image/jpeg:https://mountain-na.org/wp-content/uploads/2024/07/2024-VS-flyer-w-QR-code.jpg
END:VEVENT
BEGIN:VEVENT
DTSTART;TZID=America/New_York:20251101T120000
DTEND;TZID=America/New_York:20251101T130000
DTSTAMP:20260423T192243
CREATED:20251009T163448Z
LAST-MODIFIED:20251022T175348Z
UID:2118-1761998400-1762002000@mountain-na.org
SUMMARY:Spencer K. Celebrates 1 Year Clean!
DESCRIPTION:Help us celebrate Spencer and her 1 year clean! \nThis will be a speaker meeting – Kris A. will be sharing their experience\, strength\, and hope.
URL:https://mountain-na.org/event/spencer-k-celebrates-1-year-clean/
LOCATION:Johnson City Recovery Center\, 513 E. Unaka Avenue\, Johnson City\, TN\, 37601\, United States
ATTACH;FMTTYPE=image/jpeg:https://mountain-na.org/wp-content/uploads/2025/02/IMG_0127.jpeg
END:VEVENT
BEGIN:VEVENT
DTSTART;TZID=America/New_York:20251105T190000
DTEND;TZID=America/New_York:20251105T200000
DTSTAMP:20260423T192243
CREATED:20251101T194328Z
LAST-MODIFIED:20251101T194440Z
UID:2147-1762369200-1762372800@mountain-na.org
SUMMARY:Josh G. Celebrates 5 Years Clean!
DESCRIPTION:Join us in Johnson City when Josh G. celebrates 5 years clean! Marissa K. will be speaking.
URL:https://mountain-na.org/event/josh-g-celebrates-5-years-clean/
LOCATION:End of the Road Group Facility\, 603 Sunset Drive\, Johnson City\, TN\, 37604\, United States
ATTACH;FMTTYPE=image/jpeg:https://mountain-na.org/wp-content/uploads/2025/02/IMG_0127.jpeg
END:VEVENT
BEGIN:VEVENT
DTSTART;TZID=America/New_York:20251106T200000
DTEND;TZID=America/New_York:20251106T210000
DTSTAMP:20260423T192243
CREATED:20251101T194022Z
LAST-MODIFIED:20251101T194058Z
UID:2145-1762459200-1762462800@mountain-na.org
SUMMARY:Don J. Celebrates 13 Years Clean!
DESCRIPTION:Join us in Abingdon when Don J. celebrates 13 years clean!
URL:https://mountain-na.org/event/don-j-celebrates-13-years-clean/
LOCATION:New Day Group Facility\, 124 E Main St.\, Abingdon\, TN\, 24210\, United States
ATTACH;FMTTYPE=image/jpeg:https://mountain-na.org/wp-content/uploads/2025/02/IMG_0127.jpeg
END:VEVENT
BEGIN:VEVENT
DTSTART;TZID=America/New_York:20251111T190000
DTEND;TZID=America/New_York:20251111T200000
DTSTAMP:20260423T192243
CREATED:20251101T194619Z
LAST-MODIFIED:20251101T194619Z
UID:2149-1762887600-1762891200@mountain-na.org
SUMMARY:Maria R. Celebrates 26 Years Clean!
DESCRIPTION:Join us in Johnson City when Maria R. celebrates 26 years clean!
URL:https://mountain-na.org/event/maria-r-celebrates-26-years-clean-2/
LOCATION:Nothing to Fear Group Facility\, 1104 Afton St.\, Johnson City\, TN\, 37601\, United States
ATTACH;FMTTYPE=image/jpeg:https://mountain-na.org/wp-content/uploads/2025/02/IMG_0127.jpeg
END:VEVENT
BEGIN:VEVENT
DTSTART;TZID=America/New_York:20251113T190000
DTEND;TZID=America/New_York:20251113T200000
DTSTAMP:20260423T192243
CREATED:20251013T191531Z
LAST-MODIFIED:20251013T191531Z
UID:2130-1763060400-1763064000@mountain-na.org
SUMMARY:Ben M. Celebrates 2 Years Clean!
DESCRIPTION:Join us when Ben M. celebrates 2 years clean!
URL:https://mountain-na.org/event/ben-m-celebrates-2-years-clean/
LOCATION:Nothing to Fear Group Facility\, 1104 Afton St.\, Johnson City\, TN\, 37601\, United States
ATTACH;FMTTYPE=image/jpeg:https://mountain-na.org/wp-content/uploads/2025/02/IMG_0127.jpeg
END:VEVENT
BEGIN:VEVENT
DTSTART;TZID=America/New_York:20251113T190000
DTEND;TZID=America/New_York:20251113T200000
DTSTAMP:20260423T192243
CREATED:20251101T194825Z
LAST-MODIFIED:20251101T195002Z
UID:2151-1763060400-1763064000@mountain-na.org
SUMMARY:Ben M. Celebrates 2 Years Clean!
DESCRIPTION:Join us in Johnson City when Ben M. celebrates 2 years clean! Derek H. will be speaking.
URL:https://mountain-na.org/event/ben-m-celebrates-2-years-clean-2/
LOCATION:Nothing to Fear Group Facility\, 1104 Afton St.\, Johnson City\, TN\, 37601\, United States
ATTACH;FMTTYPE=image/jpeg:https://mountain-na.org/wp-content/uploads/2025/02/IMG_0127.jpeg
END:VEVENT
BEGIN:VEVENT
DTSTART;TZID=America/New_York:20251114T190000
DTEND;TZID=America/New_York:20251114T200000
DTSTAMP:20260423T192243
CREATED:20251101T200626Z
LAST-MODIFIED:20251101T200635Z
UID:2153-1763146800-1763150400@mountain-na.org
SUMMARY:Guest Speaker: Lovely H. at Miracles Happen
DESCRIPTION:Join us in Johnson City when Lovely H. speaks.
URL:https://mountain-na.org/event/guest-speaker-lovely-h-at-miracles-happen/
LOCATION:Miracles Happen Group Facility\, 105 S. Boone Street\, Johnson City\, TN\, 37604
ATTACH;FMTTYPE=image/jpeg:https://mountain-na.org/wp-content/uploads/2025/11/Podium.jpeg
END:VEVENT
BEGIN:VEVENT
DTSTART;TZID=America/New_York:20251117T170000
DTEND;TZID=America/New_York:20251117T210000
DTSTAMP:20260423T192243
CREATED:20251103T155433Z
LAST-MODIFIED:20251103T165212Z
UID:2160-1763398800-1763413200@mountain-na.org
SUMMARY:Greene County Detention Center Volunteer Training
DESCRIPTION:If you are interested in taking meetings into the Greene County Detention Center and you have attended an H&I orientation\, then you will need to attend this facility training.
URL:https://mountain-na.org/event/greene-county-detention-center-volunteer-training/
ATTACH;FMTTYPE=image/png:https://mountain-na.org/wp-content/uploads/2023/06/HI-Logo.png
ORGANIZER;CN="Hospitals & Institutions Subcommittee":MAILTO:mountainhandi@gmail.com
END:VEVENT
BEGIN:VEVENT
DTSTART;TZID=America/New_York:20251122T100000
DTEND;TZID=America/New_York:20251122T120000
DTSTAMP:20260423T192243
CREATED:20251117T162701Z
LAST-MODIFIED:20251117T162701Z
UID:2181-1763805600-1763812800@mountain-na.org
SUMMARY:Conference Agenda Report Workshop
DESCRIPTION:All members are invited to attend a Conference Agenda Report workshop hosted by the Southern Zonal Forum. This is a great way to get educated on the motions up for consideration that your home groups will be voting on very soon. See flyer for details.
URL:https://mountain-na.org/event/conference-agenda-report-workshop/
LOCATION:Virtual / Zoom Meeting
ATTACH;FMTTYPE=image/jpeg:https://mountain-na.org/wp-content/uploads/2025/11/SZF-CAR-Virtual-Workshop.jpg
END:VEVENT
BEGIN:VEVENT
DTSTART;TZID=America/New_York:20251123T190000
DTEND;TZID=America/New_York:20251123T200000
DTSTAMP:20260423T192243
CREATED:20251103T155955Z
LAST-MODIFIED:20251103T160114Z
UID:2157-1763924400-1763928000@mountain-na.org
SUMMARY:Stephen T. Celebrates One Year Clean!
DESCRIPTION:Come out to Primary Purpose on 11/23/25 to celebrate Stephen’s first year.
URL:https://mountain-na.org/event/stephen-t-celebrates-one-year-clean/
LOCATION:Primary Purpose Group Meeting Facility\, 201 S. Main Street\, Greeneville\, TN\, 37745\, United States
ATTACH;FMTTYPE=image/jpeg:https://mountain-na.org/wp-content/uploads/2025/02/IMG_0127.jpeg
END:VEVENT
BEGIN:VEVENT
DTSTART;TZID=America/New_York:20251123T190000
DTEND;TZID=America/New_York:20251123T200000
DTSTAMP:20260423T192243
CREATED:20251114T160507Z
LAST-MODIFIED:20251114T160507Z
UID:2171-1763924400-1763928000@mountain-na.org
SUMMARY:Tommy G. Celebrates 8 Years Clean!
DESCRIPTION:Help us celebrate Tommy G. and his 8 years clean! Stanley W. will be sharing his experience\, strength\, and hope.
URL:https://mountain-na.org/event/tommy-g-celebrates-8-years-clean/
LOCATION:End of the Road Group Facility\, 603 Sunset Drive\, Johnson City\, TN\, 37604\, United States
ATTACH;FMTTYPE=image/jpeg:https://mountain-na.org/wp-content/uploads/2025/02/IMG_0127.jpeg
END:VEVENT
BEGIN:VEVENT
DTSTART;TZID=America/New_York:20251124T180000
DTEND;TZID=America/New_York:20251124T200000
DTSTAMP:20260423T192243
CREATED:20251002T010043Z
LAST-MODIFIED:20251020T024626Z
UID:2102-1764007200-1764014400@mountain-na.org
SUMMARY:Pre-Thanksgiving Gratitude Dinner & Meeting
DESCRIPTION:Join us in Dandridge for a pre-Thanksgiving potluck and meeting!
URL:https://mountain-na.org/event/pre-thanksgiving-gratitude-dinner-meeting/
LOCATION:Easy Does It Group – First United Methodist Church – Dandridge\, TN\, 121 E. Meeting St.\, Dandridge\, TN\, 37725\, United States
ATTACH;FMTTYPE=image/png:https://mountain-na.org/wp-content/uploads/2025/10/Easy-Does-It-Thanksgiving-dinner-flyer-2025-scaled.png
END:VEVENT
BEGIN:VEVENT
DTSTART;TZID=America/New_York:20251127T170000
DTEND;TZID=America/New_York:20251127T220000
DTSTAMP:20260423T192243
CREATED:20251101T193727Z
LAST-MODIFIED:20251125T161918Z
UID:2143-1764262800-1764280800@mountain-na.org
SUMMARY:Thanksgiving Newcomer Dinner
DESCRIPTION:There will be a Thanksgiving Newcomer Dinner at 5:00pm followed by a meeting at the Nothing to Fear group facility in Johnson City. \nPlease RSVP if you plan to attend so there will be plenty of food to serve. See flyer for details.
URL:https://mountain-na.org/event/thanksgiving-newcomer-dinner/
LOCATION:Nothing to Fear Group Facility\, 1104 Afton St.\, Johnson City\, TN\, 37601\, United States
ATTACH;FMTTYPE=image/jpeg:https://mountain-na.org/wp-content/uploads/2025/11/TGive-NTF.jpeg
END:VEVENT
BEGIN:VEVENT
DTSTART;TZID=America/New_York:20251128T090000
DTEND;TZID=America/New_York:20251130T130000
DTSTAMP:20260423T192243
CREATED:20251117T163501Z
LAST-MODIFIED:20251117T163501Z
UID:2184-1764320400-1764507600@mountain-na.org
SUMMARY:VRC 43!
DESCRIPTION:Join us in Memphis for VRC 43 during Thanksgiving weekend!
URL:https://mountain-na.org/event/vrc-43/
END:VEVENT
END:VCALENDAR